BEGIN:VCALENDAR
VERSION:2.0
PRODID:-//LaRue County Public Library - ECPv6.15.20//NONSGML v1.0//EN
CALSCALE:GREGORIAN
METHOD:PUBLISH
X-ORIGINAL-URL:https://www.laruelibrary.org
X-WR-CALDESC:Events for LaRue County Public Library
REFRESH-INTERVAL;VALUE=DURATION:PT1H
X-Robots-Tag:noindex
X-PUBLISHED-TTL:PT1H
BEGIN:VTIMEZONE
TZID:America/Kentucky/Louisville
BEGIN:DAYLIGHT
TZOFFSETFROM:-0500
TZOFFSETTO:-0400
TZNAME:EDT
DTSTART:20250309T070000
END:DAYLIGHT
BEGIN:STANDARD
TZOFFSETFROM:-0400
TZOFFSETTO:-0500
TZNAME:EST
DTSTART:20251102T060000
END:STANDARD
BEGIN:DAYLIGHT
TZOFFSETFROM:-0500
TZOFFSETTO:-0400
TZNAME:EDT
DTSTART:20260308T070000
END:DAYLIGHT
BEGIN:STANDARD
TZOFFSETFROM:-0400
TZOFFSETTO:-0500
TZNAME:EST
DTSTART:20261101T060000
END:STANDARD
BEGIN:DAYLIGHT
TZOFFSETFROM:-0500
TZOFFSETTO:-0400
TZNAME:EDT
DTSTART:20270314T070000
END:DAYLIGHT
BEGIN:STANDARD
TZOFFSETFROM:-0400
TZOFFSETTO:-0500
TZNAME:EST
DTSTART:20271107T060000
END:STANDARD
END:VTIMEZONE
BEGIN:VEVENT
DTSTART;TZID=America/Kentucky/Louisville:20260505T100000
DTEND;TZID=America/Kentucky/Louisville:20260505T100000
DTSTAMP:20260425T124419
CREATED:20260421T220310Z
LAST-MODIFIED:20260421T220310Z
UID:10003400-1777975200-1777975200@www.laruelibrary.org
SUMMARY:Keep Stepping Forward
DESCRIPTION:Keep Stepping Forward is a supportive library program for anyone who has lost a spouse or significant other\, offering a welcoming space for connection\, reflection\, and encouragement. Join us at the library on Tuesday\, May 5th at 10:00 AM to take meaningful steps forward together.
URL:https://www.laruelibrary.org/event/keep-stepping-forward-14/
LOCATION:LaRue County Public Library\, 215 Lincoln Drive\, Hodgenville\, KY\, 42748\, United States
CATEGORIES:Adult,Adult Events
ATTACH;FMTTYPE=image/png:https://www.laruelibrary.org/wp-content/uploads/2026/04/Screenshot-2026-04-21-at-6.01.44-PM.png
END:VEVENT
BEGIN:VEVENT
DTSTART;TZID=America/Kentucky/Louisville:20260505T110000
DTEND;TZID=America/Kentucky/Louisville:20260505T110000
DTSTAMP:20260425T124419
CREATED:20260420T171650Z
LAST-MODIFIED:20260420T171650Z
UID:10003390-1777978800-1777978800@www.laruelibrary.org
SUMMARY:Story Time
DESCRIPTION:Join us for a fun and fantastic story and a craft on Tuesday at 11:00 AM and on Thursday at 1:30 PM! \nStory time is for children under the ages of 5. \nThis is a great opportunity to grow young readers. We make learning fun by introducing children to books\, love of reading\, and songs! We can’t wait to see you!
URL:https://www.laruelibrary.org/event/story-time-133/2026-05-05/
LOCATION:LaRue County Public Library\, 215 Lincoln Drive\, Hodgenville\, KY\, 42748\, United States
CATEGORIES:Age Under 5 Years Old,Youth Events
ATTACH;FMTTYPE=image/png:https://www.laruelibrary.org/wp-content/uploads/2026/03/maternityST.png
ORGANIZER;CN="LaRue Public Library":MAILTO:info@laruelibrary.org
END:VEVENT
BEGIN:VEVENT
DTSTART;TZID=America/Kentucky/Louisville:20260505T160000
DTEND;TZID=America/Kentucky/Louisville:20260505T160000
DTSTAMP:20260425T124419
CREATED:20260421T220847Z
LAST-MODIFIED:20260421T220847Z
UID:10003401-1777996800-1777996800@www.laruelibrary.org
SUMMARY:Friends of the Library
DESCRIPTION:Join us for a Friends of the Library meeting. Consider becoming a member and help us promote the LaRue County Public Library. Membership enables you to join your local branch chapter and participate in many wonderful library activities throughout the year. Benefits include invitations to special Friends’ events\, Volunteer opportunities\, and advocacy opportunities. We hope you’ll join us on Tuesday\, April 5\, 2026 at 4 PM.
URL:https://www.laruelibrary.org/event/friends-of-the-library-31/
LOCATION:LaRue County Public Library\, 215 Lincoln Drive\, Hodgenville\, KY\, 42748\, United States
CATEGORIES:Adult,Adult Events
ATTACH;FMTTYPE=image/png:https://www.laruelibrary.org/wp-content/uploads/2023/03/BecomeLibraryFriend.png
END:VEVENT
BEGIN:VEVENT
DTSTART;TZID=America/Kentucky/Louisville:20260505T173000
DTEND;TZID=America/Kentucky/Louisville:20260505T173000
DTSTAMP:20260425T124419
CREATED:20260421T222006Z
LAST-MODIFIED:20260421T222006Z
UID:10003402-1778002200-1778002200@www.laruelibrary.org
SUMMARY:Meet Me Series: City Council
DESCRIPTION:Meet local leaders\, learn about the work they do throughout our community\, and have an opportunity to ask questions. Everyone is welcome. \nTuesday\, May 5th @ 5:30 PM – Hodgenville City Council \nTuesday\, May 12th @ 5 PM – LaRue County Chamber of Commerce \nThursday\, May 14th @ 5:30 PM – City of Hodgenville Tourism Commission
URL:https://www.laruelibrary.org/event/meet-me-series-city-council/2026-05-05/
LOCATION:KY
CATEGORIES:Everyone
ATTACH;FMTTYPE=image/png:https://www.laruelibrary.org/wp-content/uploads/2026/04/Screenshot-2026-04-21-at-6.18.37-PM.png
END:VEVENT
END:VCALENDAR