BEGIN:VCALENDAR
VERSION:2.0
PRODID:-//LaRue County Public Library - ECPv6.15.20//NONSGML v1.0//EN
CALSCALE:GREGORIAN
METHOD:PUBLISH
X-ORIGINAL-URL:https://www.laruelibrary.org
X-WR-CALDESC:Events for LaRue County Public Library
REFRESH-INTERVAL;VALUE=DURATION:PT1H
X-Robots-Tag:noindex
X-PUBLISHED-TTL:PT1H
BEGIN:VTIMEZONE
TZID:America/Kentucky/Louisville
BEGIN:DAYLIGHT
TZOFFSETFROM:-0500
TZOFFSETTO:-0400
TZNAME:EDT
DTSTART:20250309T070000
END:DAYLIGHT
BEGIN:STANDARD
TZOFFSETFROM:-0400
TZOFFSETTO:-0500
TZNAME:EST
DTSTART:20251102T060000
END:STANDARD
BEGIN:DAYLIGHT
TZOFFSETFROM:-0500
TZOFFSETTO:-0400
TZNAME:EDT
DTSTART:20260308T070000
END:DAYLIGHT
BEGIN:STANDARD
TZOFFSETFROM:-0400
TZOFFSETTO:-0500
TZNAME:EST
DTSTART:20261101T060000
END:STANDARD
BEGIN:DAYLIGHT
TZOFFSETFROM:-0500
TZOFFSETTO:-0400
TZNAME:EDT
DTSTART:20270314T070000
END:DAYLIGHT
BEGIN:STANDARD
TZOFFSETFROM:-0400
TZOFFSETTO:-0500
TZNAME:EST
DTSTART:20271107T060000
END:STANDARD
END:VTIMEZONE
BEGIN:VEVENT
DTSTART;TZID=America/Kentucky/Louisville:20260507T133000
DTEND;TZID=America/Kentucky/Louisville:20260507T133000
DTSTAMP:20260425T123635
CREATED:20260420T171650Z
LAST-MODIFIED:20260420T171650Z
UID:10003391-1778160600-1778160600@www.laruelibrary.org
SUMMARY:Story Time
DESCRIPTION:Join us for a fun and fantastic story and a craft on Tuesday at 11:00 AM and on Thursday at 1:30 PM! \nStory time is for children under the ages of 5. \nThis is a great opportunity to grow young readers. We make learning fun by introducing children to books\, love of reading\, and songs! We can’t wait to see you!
URL:https://www.laruelibrary.org/event/story-time-133/2026-05-07/
LOCATION:LaRue County Public Library\, 215 Lincoln Drive\, Hodgenville\, KY\, 42748\, United States
CATEGORIES:Age Under 5 Years Old,Youth Events
ATTACH;FMTTYPE=image/png:https://www.laruelibrary.org/wp-content/uploads/2026/03/maternityST.png
ORGANIZER;CN="LaRue Public Library":MAILTO:info@laruelibrary.org
END:VEVENT
BEGIN:VEVENT
DTSTART;TZID=America/Kentucky/Louisville:20260507T160000
DTEND;TZID=America/Kentucky/Louisville:20260507T160000
DTSTAMP:20260425T123635
CREATED:20260423T214014Z
LAST-MODIFIED:20260423T214014Z
UID:10003407-1778169600-1778169600@www.laruelibrary.org
SUMMARY:Mother's Day Craft
DESCRIPTION:Join us on Thursday\, May 7th at 4 PM for a special Mother’s Day Memory Boxes craft\, where families can create a meaningful keepsake to celebrate the moms and caregivers in their lives. Please register in advance by visiting the library or calling us to reserve your spot.
URL:https://www.laruelibrary.org/event/mothers-day-craft-2/
LOCATION:LaRue County Public Library\, 215 Lincoln Drive\, Hodgenville\, KY\, 42748\, United States
CATEGORIES:Family
ATTACH;FMTTYPE=image/png:https://www.laruelibrary.org/wp-content/uploads/2026/04/Screenshot-2026-04-23-at-5.40.02-PM.png
END:VEVENT
BEGIN:VEVENT
DTSTART;TZID=America/Kentucky/Louisville:20260507T173000
DTEND;TZID=America/Kentucky/Louisville:20260507T173000
DTSTAMP:20260425T123635
CREATED:20260421T222514Z
LAST-MODIFIED:20260421T222514Z
UID:10003405-1778175000-1778175000@www.laruelibrary.org
SUMMARY:Bariatric Support Group
DESCRIPTION:Join us for a supportive and welcoming bariatric support group on Thursday\, May 7th\, at 5:30 PM at the public library. This program offers a safe space to share experiences\, gain encouragement\, and connect with others on a similar health journey.
URL:https://www.laruelibrary.org/event/bariatric-support-group-3/
LOCATION:LaRue County Public Library\, 215 Lincoln Drive\, Hodgenville\, KY\, 42748\, United States
CATEGORIES:Adult,Adult Events
ATTACH;FMTTYPE=image/png:https://www.laruelibrary.org/wp-content/uploads/2026/04/Screenshot-2026-04-21-at-6.25.00-PM.png
END:VEVENT
END:VCALENDAR