BEGIN:VCALENDAR
VERSION:2.0
PRODID:-//LaRue County Public Library - ECPv6.15.20//NONSGML v1.0//EN
CALSCALE:GREGORIAN
METHOD:PUBLISH
X-ORIGINAL-URL:https://www.laruelibrary.org
X-WR-CALDESC:Events for LaRue County Public Library
REFRESH-INTERVAL;VALUE=DURATION:PT1H
X-Robots-Tag:noindex
X-PUBLISHED-TTL:PT1H
BEGIN:VTIMEZONE
TZID:America/Kentucky/Louisville
BEGIN:DAYLIGHT
TZOFFSETFROM:-0500
TZOFFSETTO:-0400
TZNAME:EDT
DTSTART:20250309T070000
END:DAYLIGHT
BEGIN:STANDARD
TZOFFSETFROM:-0400
TZOFFSETTO:-0500
TZNAME:EST
DTSTART:20251102T060000
END:STANDARD
BEGIN:DAYLIGHT
TZOFFSETFROM:-0500
TZOFFSETTO:-0400
TZNAME:EDT
DTSTART:20260308T070000
END:DAYLIGHT
BEGIN:STANDARD
TZOFFSETFROM:-0400
TZOFFSETTO:-0500
TZNAME:EST
DTSTART:20261101T060000
END:STANDARD
BEGIN:DAYLIGHT
TZOFFSETFROM:-0500
TZOFFSETTO:-0400
TZNAME:EDT
DTSTART:20270314T070000
END:DAYLIGHT
BEGIN:STANDARD
TZOFFSETFROM:-0400
TZOFFSETTO:-0500
TZNAME:EST
DTSTART:20271107T060000
END:STANDARD
END:VTIMEZONE
BEGIN:VEVENT
DTSTART;VALUE=DATE:20260525
DTEND;VALUE=DATE:20260526
DTSTAMP:20260425T123650
CREATED:20260420T170417Z
LAST-MODIFIED:20260420T170417Z
UID:10003388-1779667200-1779753599@www.laruelibrary.org
SUMMARY:CLOSED
DESCRIPTION:We are closed today\, Monday May 25th\, in celebration and observance of Memorial Day. \nWe will be open again tomorrow morning at 9:00am for our regular hours!
URL:https://www.laruelibrary.org/event/closed-10/
LOCATION:LaRue County Public Library\, 215 Lincoln Drive\, Hodgenville\, KY\, 42748\, United States
CATEGORIES:Adult,Adult Events,Everyone,Family,Youth Events
ATTACH;FMTTYPE=image/png:https://www.laruelibrary.org/wp-content/uploads/2026/04/closed25.png
ORGANIZER;CN="LaRue Public Library":MAILTO:info@laruelibrary.org
END:VEVENT
BEGIN:VEVENT
DTSTART;TZID=America/Kentucky/Louisville:20260525T100000
DTEND;TZID=America/Kentucky/Louisville:20260525T100000
DTSTAMP:20260425T123650
CREATED:20260112T145648Z
LAST-MODIFIED:20260112T145648Z
UID:10002926-1779703200-1779703200@www.laruelibrary.org
SUMMARY:Stretch and Shine
DESCRIPTION:Ease into your week with Stretch and Shine\, a low-impact program focused on stretching and simple\, relaxing movements. Designed for adults of all mobility levels\, this session supports flexibility\, balance\, and a sense of calm. Join us at the library every Monday at 10 AM. No special equipment needed—just wear comfortable clothes and enjoy some time to move and unwind.
URL:https://www.laruelibrary.org/event/stretch-and-shine-58/2026-05-25/
LOCATION:LaRue County Public Library\, 215 Lincoln Drive\, Hodgenville\, KY\, 42748\, United States
CATEGORIES:Adult,Adult Events
ATTACH;FMTTYPE=image/png:https://www.laruelibrary.org/wp-content/uploads/2023/03/Stretch-Adult-Event-1.png
ORGANIZER;CN="LaRue Public Library":MAILTO:info@laruelibrary.org
END:VEVENT
BEGIN:VEVENT
DTSTART;TZID=America/Kentucky/Louisville:20260525T100000
DTEND;TZID=America/Kentucky/Louisville:20260525T100000
DTSTAMP:20260425T123650
CREATED:20260221T151547Z
LAST-MODIFIED:20260221T151547Z
UID:10003081-1779703200-1779703200@www.laruelibrary.org
SUMMARY:Stretch and Shine
DESCRIPTION:Ease into your week with Stretch and Shine\, a low-impact program focused on stretching and simple\, relaxing movements. Designed for adults of all mobility levels\, this session supports flexibility\, balance\, and a sense of calm. Join us at the library every Monday at 10 AM. No special equipment needed—just wear comfortable clothes and enjoy some time to move and unwind.
URL:https://www.laruelibrary.org/event/stretch-and-shine-59/2026-05-25/
LOCATION:LaRue County Public Library\, 215 Lincoln Drive\, Hodgenville\, KY\, 42748\, United States
CATEGORIES:Adult,Adult Events
ATTACH;FMTTYPE=image/png:https://www.laruelibrary.org/wp-content/uploads/2023/03/Stretch-Adult-Event-1.png
END:VEVENT
BEGIN:VEVENT
DTSTART;TZID=America/Kentucky/Louisville:20260525T140000
DTEND;TZID=America/Kentucky/Louisville:20260525T140000
DTSTAMP:20260425T123650
CREATED:20260112T150059Z
LAST-MODIFIED:20260112T150059Z
UID:10002977-1779717600-1779717600@www.laruelibrary.org
SUMMARY:Community Games
DESCRIPTION:Come and have some game day fun here at the library at 2:00 pm! Bring your friends\, family\, a board game (or choose one of ours)\, and enjoy! We’ll see you on Monday at 2 PM in the Community Room at the library.
URL:https://www.laruelibrary.org/event/community-games-52/2026-05-25/
LOCATION:LaRue County Public Library\, 215 Lincoln Drive\, Hodgenville\, KY\, 42748\, United States
CATEGORIES:Adult,Adult Events,Everyone,Family,Youth Events
ATTACH;FMTTYPE=image/jpeg:https://www.laruelibrary.org/wp-content/uploads/2025/01/game.jpeg
ORGANIZER;CN="LaRue Public Library":MAILTO:info@laruelibrary.org
END:VEVENT
END:VCALENDAR