BEGIN:VCALENDAR
VERSION:2.0
PRODID:-//LaRue County Public Library - ECPv6.15.20//NONSGML v1.0//EN
CALSCALE:GREGORIAN
METHOD:PUBLISH
X-WR-CALNAME:LaRue County Public Library
X-ORIGINAL-URL:https://www.laruelibrary.org
X-WR-CALDESC:Events for LaRue County Public Library
REFRESH-INTERVAL;VALUE=DURATION:PT1H
X-Robots-Tag:noindex
X-PUBLISHED-TTL:PT1H
BEGIN:VTIMEZONE
TZID:America/Kentucky/Louisville
BEGIN:DAYLIGHT
TZOFFSETFROM:-0500
TZOFFSETTO:-0400
TZNAME:EDT
DTSTART:20250309T070000
END:DAYLIGHT
BEGIN:STANDARD
TZOFFSETFROM:-0400
TZOFFSETTO:-0500
TZNAME:EST
DTSTART:20251102T060000
END:STANDARD
BEGIN:DAYLIGHT
TZOFFSETFROM:-0500
TZOFFSETTO:-0400
TZNAME:EDT
DTSTART:20260308T070000
END:DAYLIGHT
BEGIN:STANDARD
TZOFFSETFROM:-0400
TZOFFSETTO:-0500
TZNAME:EST
DTSTART:20261101T060000
END:STANDARD
BEGIN:DAYLIGHT
TZOFFSETFROM:-0500
TZOFFSETTO:-0400
TZNAME:EDT
DTSTART:20270314T070000
END:DAYLIGHT
BEGIN:STANDARD
TZOFFSETFROM:-0400
TZOFFSETTO:-0500
TZNAME:EST
DTSTART:20271107T060000
END:STANDARD
END:VTIMEZONE
BEGIN:VEVENT
DTSTART;TZID=America/Kentucky/Louisville:20260527T103000
DTEND;TZID=America/Kentucky/Louisville:20260527T123000
DTSTAMP:20260425T123340
CREATED:20260420T161255Z
LAST-MODIFIED:20260420T161255Z
UID:10003375-1779877800-1779885000@www.laruelibrary.org
SUMMARY:Baby Sprinkle
DESCRIPTION:Join us on Wednesday\, May 27th from 10:30am – 12:30pm for Baby Sprinkle! \nThis is a KY MOMS MATR led class on making healthy choices and prevention education for all women that are pregnant or up to 60 days postpartum. \nEarn FREE baby items and gift cards! \nPlease RSVP by texting 270-401-1706 \nFor any questions\, please call or text the above number OR email cferguson@communicare.org
URL:https://www.laruelibrary.org/event/baby-sprinkle-2/
LOCATION:LaRue County Public Library\, 215 Lincoln Drive\, Hodgenville\, KY\, 42748\, United States
CATEGORIES:Adult,Adult Events
ATTACH;FMTTYPE=image/png:https://www.laruelibrary.org/wp-content/uploads/2026/04/baby27.png
ORGANIZER;CN="LaRue Public Library":MAILTO:info@laruelibrary.org
END:VEVENT
BEGIN:VEVENT
DTSTART;TZID=America/Kentucky/Louisville:20260527T180000
DTEND;TZID=America/Kentucky/Louisville:20260527T180000
DTSTAMP:20260425T123340
CREATED:20260420T163906Z
LAST-MODIFIED:20260420T163906Z
UID:10003378-1779904800-1779904800@www.laruelibrary.org
SUMMARY:Adult Book Club: Off-Site
DESCRIPTION:We will be meeting at Top Hat Tavern for Adult Book Club on Wednesday\, May 27th at 6:00pm! \nAdults only.
URL:https://www.laruelibrary.org/event/adult-book-club-off-site-6/
LOCATION:Top Hat Tavern\, 23 Lincoln Square\, Hodgenville\, KY\, 42748\, United States
CATEGORIES:Adult,Adult Events
ATTACH;FMTTYPE=image/png:https://www.laruelibrary.org/wp-content/uploads/2024/09/Offsite-Book-Club.png
ORGANIZER;CN="LaRue Public Library":MAILTO:info@laruelibrary.org
END:VEVENT
END:VCALENDAR