BEGIN:VCALENDAR
VERSION:2.0
PRODID:-//LaRue County Public Library - ECPv6.15.20//NONSGML v1.0//EN
CALSCALE:GREGORIAN
METHOD:PUBLISH
X-ORIGINAL-URL:https://www.laruelibrary.org
X-WR-CALDESC:Events for LaRue County Public Library
REFRESH-INTERVAL;VALUE=DURATION:PT1H
X-Robots-Tag:noindex
X-PUBLISHED-TTL:PT1H
BEGIN:VTIMEZONE
TZID:America/Kentucky/Louisville
BEGIN:DAYLIGHT
TZOFFSETFROM:-0500
TZOFFSETTO:-0400
TZNAME:EDT
DTSTART:20230312T070000
END:DAYLIGHT
BEGIN:STANDARD
TZOFFSETFROM:-0400
TZOFFSETTO:-0500
TZNAME:EST
DTSTART:20231105T060000
END:STANDARD
BEGIN:DAYLIGHT
TZOFFSETFROM:-0500
TZOFFSETTO:-0400
TZNAME:EDT
DTSTART:20240310T070000
END:DAYLIGHT
BEGIN:STANDARD
TZOFFSETFROM:-0400
TZOFFSETTO:-0500
TZNAME:EST
DTSTART:20241103T060000
END:STANDARD
BEGIN:DAYLIGHT
TZOFFSETFROM:-0500
TZOFFSETTO:-0400
TZNAME:EDT
DTSTART:20250309T070000
END:DAYLIGHT
BEGIN:STANDARD
TZOFFSETFROM:-0400
TZOFFSETTO:-0500
TZNAME:EST
DTSTART:20251102T060000
END:STANDARD
END:VTIMEZONE
BEGIN:VEVENT
DTSTART;TZID=America/Kentucky/Louisville:20240404T160000
DTEND;TZID=America/Kentucky/Louisville:20240404T160000
DTSTAMP:20260421T162021
CREATED:20240326T223121Z
LAST-MODIFIED:20240326T223121Z
UID:10000610-1712246400-1712246400@www.laruelibrary.org
SUMMARY:Friends of the Library
DESCRIPTION:Join us for a Friends of the Library meeting. Become a member and help us promote the LaRue County Public Library. Membership enables you to join your local branch chapter and become involved with many wonderful library activities throughout the year. Benefits include invitations to special Friends’ events\, Volunteer opportunities\, and advocacy opportunities. Hope to see you there!
URL:https://www.laruelibrary.org/event/friends-of-the-library-12/
LOCATION:LaRue County Public Library\, 215 Lincoln Drive\, Hodgenville\, KY\, 42748\, United States
CATEGORIES:Adult,Adult Events
ATTACH;FMTTYPE=image/png:https://www.laruelibrary.org/wp-content/uploads/2023/03/BecomeLibraryFriend.png
END:VEVENT
BEGIN:VEVENT
DTSTART;TZID=America/Kentucky/Louisville:20240405T030000
DTEND;TZID=America/Kentucky/Louisville:20240405T150000
DTSTAMP:20260421T162021
CREATED:20240328T213645Z
LAST-MODIFIED:20240328T213645Z
UID:10000611-1712286000-1712329200@www.laruelibrary.org
SUMMARY:Vintage Bottle Craft
DESCRIPTION:We’ll be doing our part to conserve by repurposing bottles into vases. Join us on Friday\, April 5th at 3:00 PM. This class is designed for teens and adults and does require preregistration. To sign up\, call the library at 270-358-3851.
URL:https://www.laruelibrary.org/event/vintage-bottle-craft/
LOCATION:LaRue County Public Library\, 215 Lincoln Drive\, Hodgenville\, KY\, 42748\, United States
CATEGORIES:Adult,Adult Events,High School,Middle School
END:VEVENT
BEGIN:VEVENT
DTSTART;TZID=America/Kentucky/Louisville:20240408T100000
DTEND;TZID=America/Kentucky/Louisville:20240408T100000
DTSTAMP:20260421T162021
CREATED:20240326T212424Z
LAST-MODIFIED:20240326T212424Z
UID:10000603-1712570400-1712570400@www.laruelibrary.org
SUMMARY:Stretch and Shine
DESCRIPTION:Join us for Stretch and Shine and start your day off right! Free low-impact exercise class. Let’s get those muscles moving! \nMonday\, April 8th at 10:00 AM. This program is designed for adults.
URL:https://www.laruelibrary.org/event/stretch-and-shine-28/
LOCATION:LaRue County Public Library\, 215 Lincoln Drive\, Hodgenville\, KY\, 42748\, United States
CATEGORIES:Adult,Adult Events
END:VEVENT
BEGIN:VEVENT
DTSTART;TZID=America/Kentucky/Louisville:20240409T173000
DTEND;TZID=America/Kentucky/Louisville:20240409T183000
DTSTAMP:20260421T162021
CREATED:20240328T221224Z
LAST-MODIFIED:20240328T221224Z
UID:10000615-1712683800-1712687400@www.laruelibrary.org
SUMMARY:Sign Language
DESCRIPTION:Join us for Basic ASL classes\, taught by Summer Atteberry. \nSummer is the outreach consultant for the Kentucky School for the Deaf/Hard of Hearing. \nThis multi-week program is from 5:30-6:30 beginning on Tuesday\, April 9th and every Tuesday through April 30th. When signing up\, please try to attend all four class sessions. \nTo register for the class\, please call the library at 270-358-3851.
URL:https://www.laruelibrary.org/event/sign-language/
LOCATION:LaRue County Public Library\, 215 Lincoln Drive\, Hodgenville\, KY\, 42748\, United States
CATEGORIES:Adult,Adult Events,High School,Middle School
ATTACH;FMTTYPE=image/png:https://www.laruelibrary.org/wp-content/uploads/2024/03/asl.png
END:VEVENT
BEGIN:VEVENT
DTSTART;TZID=America/Kentucky/Louisville:20240412T150000
DTEND;TZID=America/Kentucky/Louisville:20240412T150000
DTSTAMP:20260421T162021
CREATED:20240328T222623Z
LAST-MODIFIED:20240328T222623Z
UID:10000617-1712934000-1712934000@www.laruelibrary.org
SUMMARY:Mickey Ornaments
DESCRIPTION:It’s Spring Break time! Can’t make it to Disney for break? Come make these ornaments with us instead! Sign up to join us on Friday\, April 12th at 3 PM! This program is for teens and adults!
URL:https://www.laruelibrary.org/event/mickey-ornaments/
LOCATION:LaRue County Public Library\, 215 Lincoln Drive\, Hodgenville\, KY\, 42748\, United States
CATEGORIES:Adult,Adult Events,High School,Middle School
END:VEVENT
BEGIN:VEVENT
DTSTART;TZID=America/Kentucky/Louisville:20240416T173000
DTEND;TZID=America/Kentucky/Louisville:20240416T183000
DTSTAMP:20260421T162021
CREATED:20240325T201729Z
LAST-MODIFIED:20240325T201729Z
UID:10000590-1713288600-1713292200@www.laruelibrary.org
SUMMARY:Basic ASL
DESCRIPTION:Basic ASL (American Sign Language) will be taught by Summer Atteberry every Tuesday (5:30pm-6:30pm) in April starting from the 9th through to the 30th. \nThis class will be for four weeks\, so please try to attend ALL classes when signing up. \nClass limit of 16. Teens and Adults. Call to sign up.
URL:https://www.laruelibrary.org/event/basic-asl/
LOCATION:LaRue County Public Library\, 215 Lincoln Drive\, Hodgenville\, KY\, 42748\, United States
CATEGORIES:Adult,Adult Events,High School,Youth Events
ATTACH;FMTTYPE=image/png:https://www.laruelibrary.org/wp-content/uploads/2024/03/asl.png
ORGANIZER;CN="LaRue Public Library":MAILTO:info@laruelibrary.org
END:VEVENT
BEGIN:VEVENT
DTSTART;TZID=America/Kentucky/Louisville:20240418T153000
DTEND;TZID=America/Kentucky/Louisville:20240418T153000
DTSTAMP:20260421T162021
CREATED:20240325T205016Z
LAST-MODIFIED:20240325T205016Z
UID:10000597-1713454200-1713454200@www.laruelibrary.org
SUMMARY:Book Club
DESCRIPTION:Come join us on Thursday\, April 18th at 3:30pm for Book Club! This is an Adult program.
URL:https://www.laruelibrary.org/event/book-club-12/
LOCATION:LaRue County Public Library\, 215 Lincoln Drive\, Hodgenville\, KY\, 42748\, United States
CATEGORIES:Adult,Adult Events
ATTACH;FMTTYPE=image/jpeg:https://www.laruelibrary.org/wp-content/uploads/2023/07/bc2.jpg
ORGANIZER;CN="LaRue Public Library":MAILTO:info@laruelibrary.org
END:VEVENT
BEGIN:VEVENT
DTSTART;TZID=America/Kentucky/Louisville:20240418T160000
DTEND;TZID=America/Kentucky/Louisville:20240418T160000
DTSTAMP:20260421T162021
CREATED:20240325T202851Z
LAST-MODIFIED:20240325T202851Z
UID:10000594-1713456000-1713456000@www.laruelibrary.org
SUMMARY:Whittling
DESCRIPTION:Dave\, of Dave’s Whittle Things\, will be here on Thursday\, April 18th @ 4:00pm to give you hand-on training in the art of whittling! \nYou’ll be carving a Kentucky Derby jockey. \nClass limit of 12. Call to register. Teens & Adults.
URL:https://www.laruelibrary.org/event/whittling-2/
LOCATION:LaRue County Public Library\, 215 Lincoln Drive\, Hodgenville\, KY\, 42748\, United States
CATEGORIES:Adult,Adult Events,High School,Youth Events
ATTACH;FMTTYPE=image/png:https://www.laruelibrary.org/wp-content/uploads/2023/12/Whittle.png
ORGANIZER;CN="LaRue Public Library":MAILTO:info@laruelibrary.org
END:VEVENT
BEGIN:VEVENT
DTSTART;TZID=America/Kentucky/Louisville:20240418T163000
DTEND;TZID=America/Kentucky/Louisville:20240418T163000
DTSTAMP:20260421T162021
CREATED:20240325T205203Z
LAST-MODIFIED:20240325T205203Z
UID:10000598-1713457800-1713457800@www.laruelibrary.org
SUMMARY:Board Meeting
DESCRIPTION:LCPL Board Meeting. Thursday\, April 18th at 4:30 pm.
URL:https://www.laruelibrary.org/event/board-meeting-11/
LOCATION:LaRue County Public Library\, 215 Lincoln Drive\, Hodgenville\, KY\, 42748\, United States
CATEGORIES:Adult,Adult Events
ATTACH;FMTTYPE=image/jpeg:https://www.laruelibrary.org/wp-content/uploads/2023/07/brm2.jpg
ORGANIZER;CN="LaRue Public Library":MAILTO:info@laruelibrary.org
END:VEVENT
BEGIN:VEVENT
DTSTART;TZID=America/Kentucky/Louisville:20240422T100000
DTEND;TZID=America/Kentucky/Louisville:20240422T100000
DTSTAMP:20260421T162021
CREATED:20240325T205503Z
LAST-MODIFIED:20240325T205503Z
UID:10000600-1713780000-1713780000@www.laruelibrary.org
SUMMARY:Stretch and Shine
DESCRIPTION:Join us for Stretch and Shine and start your day off right! Free low-impact exercise class. Let’s get those muscles moving! Monday\, April 22nd @ 10:00am. This program is designed for Adults.
URL:https://www.laruelibrary.org/event/stretch-and-shine-26/
LOCATION:LaRue County Public Library\, 215 Lincoln Drive\, Hodgenville\, KY\, 42748\, United States
CATEGORIES:Adult,Adult Events
ORGANIZER;CN="LaRue Public Library":MAILTO:info@laruelibrary.org
END:VEVENT
BEGIN:VEVENT
DTSTART;TZID=America/Kentucky/Louisville:20240422T140000
DTEND;TZID=America/Kentucky/Louisville:20240422T140000
DTSTAMP:20260421T162021
CREATED:20240325T205750Z
LAST-MODIFIED:20240325T205750Z
UID:10000602-1713794400-1713794400@www.laruelibrary.org
SUMMARY:Community Games
DESCRIPTION:Come and have some game day fun here at the library! Bring your friends\, family\, a board game (or choose one of ours) and enjoy! Monday\, April 22nd at 2:00pm.
URL:https://www.laruelibrary.org/event/community-games-27/
LOCATION:LaRue County Public Library\, 215 Lincoln Drive\, Hodgenville\, KY\, 42748\, United States
CATEGORIES:Adult,Adult Events,Everyone,Family,Youth Events
ATTACH;FMTTYPE=image/jpeg:https://www.laruelibrary.org/wp-content/uploads/2023/07/bg2.jpg
ORGANIZER;CN="LaRue Public Library":MAILTO:info@laruelibrary.org
END:VEVENT
BEGIN:VEVENT
DTSTART;TZID=America/Kentucky/Louisville:20240423T173000
DTEND;TZID=America/Kentucky/Louisville:20240423T183000
DTSTAMP:20260421T162021
CREATED:20240325T201819Z
LAST-MODIFIED:20240325T201819Z
UID:10000591-1713893400-1713897000@www.laruelibrary.org
SUMMARY:Basic ASL
DESCRIPTION:Basic ASL (American Sign Language) will be taught by Summer Atteberry every Tuesday (5:30pm-6:30pm) in April starting from the 9th through to the 30th. \nThis class will be for four weeks\, so please try to attend ALL classes when signing up. \nClass limit of 16. Teens and Adults. Call to sign up.
URL:https://www.laruelibrary.org/event/basic-asl-2/
LOCATION:LaRue County Public Library\, 215 Lincoln Drive\, Hodgenville\, KY\, 42748\, United States
CATEGORIES:Adult,Adult Events,High School,Youth Events
ATTACH;FMTTYPE=image/png:https://www.laruelibrary.org/wp-content/uploads/2024/03/asl.png
ORGANIZER;CN="LaRue Public Library":MAILTO:info@laruelibrary.org
END:VEVENT
BEGIN:VEVENT
DTSTART;TZID=America/Kentucky/Louisville:20240425T100000
DTEND;TZID=America/Kentucky/Louisville:20240425T100000
DTSTAMP:20260421T162021
CREATED:20240325T202609Z
LAST-MODIFIED:20240325T202609Z
UID:10000593-1714039200-1714039200@www.laruelibrary.org
SUMMARY:Coffee for Veterans
DESCRIPTION:Join us on Thursday\, April 18th @ 10:00am in the LCPL community room for a very special program (with spouses/partners being welcome). \nRuss Chapman\, US Army Silver Star recipient\, and Melissa Hodge\, US Air Force\, will be our special guests.
URL:https://www.laruelibrary.org/event/coffee-for-veterans-3/
LOCATION:LaRue County Public Library\, 215 Lincoln Drive\, Hodgenville\, KY\, 42748\, United States
CATEGORIES:Adult,Adult Events
ORGANIZER;CN="LaRue Public Library":MAILTO:info@laruelibrary.org
END:VEVENT
BEGIN:VEVENT
DTSTART;TZID=America/Kentucky/Louisville:20240426T150000
DTEND;TZID=America/Kentucky/Louisville:20240426T150000
DTSTAMP:20260421T162021
CREATED:20240325T203208Z
LAST-MODIFIED:20240325T203208Z
UID:10000595-1714143600-1714143600@www.laruelibrary.org
SUMMARY:Dandelion Art
DESCRIPTION:Come make art perfect for Mother’s Day on Friday\, April 26th @ 3:00pm! \nWording is optional. Teens and Adults. Class limit of 20. Call to sign up.
URL:https://www.laruelibrary.org/event/dandelion-art/
LOCATION:LaRue County Public Library\, 215 Lincoln Drive\, Hodgenville\, KY\, 42748\, United States
CATEGORIES:Adult,Adult Events,High School,Youth Events
ORGANIZER;CN="LaRue Public Library":MAILTO:info@laruelibrary.org
END:VEVENT
BEGIN:VEVENT
DTSTART;TZID=America/Kentucky/Louisville:20240429T100000
DTEND;TZID=America/Kentucky/Louisville:20240429T100000
DTSTAMP:20260421T162021
CREATED:20240325T205354Z
LAST-MODIFIED:20240325T205354Z
UID:10000599-1714384800-1714384800@www.laruelibrary.org
SUMMARY:Stretch and Shine
DESCRIPTION:Join us for Stretch and Shine and start your day off right! Free low-impact exercise class. Let’s get those muscles moving! Monday\, April 29th @ 10:00am. This program is designed for Adults.
URL:https://www.laruelibrary.org/event/stretch-and-shine-25/
LOCATION:LaRue County Public Library\, 215 Lincoln Drive\, Hodgenville\, KY\, 42748\, United States
CATEGORIES:Adult,Adult Events
ORGANIZER;CN="LaRue Public Library":MAILTO:info@laruelibrary.org
END:VEVENT
BEGIN:VEVENT
DTSTART;TZID=America/Kentucky/Louisville:20240429T140000
DTEND;TZID=America/Kentucky/Louisville:20240429T140000
DTSTAMP:20260421T162021
CREATED:20240325T205650Z
LAST-MODIFIED:20240325T205650Z
UID:10000601-1714399200-1714399200@www.laruelibrary.org
SUMMARY:Community Games
DESCRIPTION:Come and have some game day fun here at the library! Bring your friends\, family\, a board game (or choose one of ours) and enjoy! Monday\, April 29th at 2:00pm.
URL:https://www.laruelibrary.org/event/community-games-26/
LOCATION:LaRue County Public Library\, 215 Lincoln Drive\, Hodgenville\, KY\, 42748\, United States
CATEGORIES:Adult,Adult Events,Everyone,Family,Youth Events
ATTACH;FMTTYPE=image/jpeg:https://www.laruelibrary.org/wp-content/uploads/2023/07/bg2.jpg
ORGANIZER;CN="LaRue Public Library":MAILTO:info@laruelibrary.org
END:VEVENT
BEGIN:VEVENT
DTSTART;TZID=America/Kentucky/Louisville:20240430T173000
DTEND;TZID=America/Kentucky/Louisville:20240430T183000
DTSTAMP:20260421T162021
CREATED:20240325T202156Z
LAST-MODIFIED:20240325T202156Z
UID:10000592-1714498200-1714501800@www.laruelibrary.org
SUMMARY:Basic ASL
DESCRIPTION:Basic ASL (American Sign Language) will be taught by Summer Atteberry every Tuesday (5:30pm-6:30pm) in April starting from the 9th through to the 30th. \nThis class will be for four weeks\, so please try to attend ALL classes when signing up. \nClass limit of 16. Teens and Adults. Call to sign up.
URL:https://www.laruelibrary.org/event/basic-asl-3/
LOCATION:LaRue County Public Library\, 215 Lincoln Drive\, Hodgenville\, KY\, 42748\, United States
CATEGORIES:Adult,Adult Events,High School,Youth Events
ATTACH;FMTTYPE=image/png:https://www.laruelibrary.org/wp-content/uploads/2024/03/asl.png
ORGANIZER;CN="LaRue Public Library":MAILTO:info@laruelibrary.org
END:VEVENT
END:VCALENDAR