BEGIN:VCALENDAR
VERSION:2.0
PRODID:-//LaRue County Public Library - ECPv6.15.20//NONSGML v1.0//EN
CALSCALE:GREGORIAN
METHOD:PUBLISH
X-WR-CALNAME:LaRue County Public Library
X-ORIGINAL-URL:https://www.laruelibrary.org
X-WR-CALDESC:Events for LaRue County Public Library
REFRESH-INTERVAL;VALUE=DURATION:PT1H
X-Robots-Tag:noindex
X-PUBLISHED-TTL:PT1H
BEGIN:VTIMEZONE
TZID:America/Kentucky/Louisville
BEGIN:DAYLIGHT
TZOFFSETFROM:-0500
TZOFFSETTO:-0400
TZNAME:EDT
DTSTART:20230312T070000
END:DAYLIGHT
BEGIN:STANDARD
TZOFFSETFROM:-0400
TZOFFSETTO:-0500
TZNAME:EST
DTSTART:20231105T060000
END:STANDARD
BEGIN:DAYLIGHT
TZOFFSETFROM:-0500
TZOFFSETTO:-0400
TZNAME:EDT
DTSTART:20240310T070000
END:DAYLIGHT
BEGIN:STANDARD
TZOFFSETFROM:-0400
TZOFFSETTO:-0500
TZNAME:EST
DTSTART:20241103T060000
END:STANDARD
BEGIN:DAYLIGHT
TZOFFSETFROM:-0500
TZOFFSETTO:-0400
TZNAME:EDT
DTSTART:20250309T070000
END:DAYLIGHT
BEGIN:STANDARD
TZOFFSETFROM:-0400
TZOFFSETTO:-0500
TZNAME:EST
DTSTART:20251102T060000
END:STANDARD
END:VTIMEZONE
BEGIN:VEVENT
DTSTART;TZID=America/Kentucky/Louisville:20240801T160000
DTEND;TZID=America/Kentucky/Louisville:20240801T160000
DTSTAMP:20260421T102741
CREATED:20240713T145708Z
LAST-MODIFIED:20240716T210526Z
UID:10001375-1722528000-1722528000@www.laruelibrary.org
SUMMARY:Friends of the Library
DESCRIPTION:Join us for a Friends of the Library meeting. Become a member and help us promote the LaRue County Public Library. Membership enables you to join your local branch chapter and become involved with many wonderful library activities throughout the year. Benefits include invitations to special Friends’ events\, Volunteer opportunities\, and advocacy opportunities. Hope to see you there!
URL:https://www.laruelibrary.org/event/friends-of-the-library-15/
LOCATION:LaRue County Public Library\, 215 Lincoln Drive\, Hodgenville\, KY\, 42748\, United States
CATEGORIES:Adult,Adult Events
ATTACH;FMTTYPE=image/png:https://www.laruelibrary.org/wp-content/uploads/2023/03/BecomeLibraryFriend.png
END:VEVENT
BEGIN:VEVENT
DTSTART;TZID=America/Kentucky/Louisville:20240805T100000
DTEND;TZID=America/Kentucky/Louisville:20240805T100000
DTSTAMP:20260421T102741
CREATED:20240713T150135Z
LAST-MODIFIED:20240713T150135Z
UID:10001376-1722852000-1722852000@www.laruelibrary.org
SUMMARY:Stretch and Shine
DESCRIPTION:Join us for Stretch and Shine and start your day off right! Free low-impact exercise class beginning at 10:00am. Let’s get those muscles moving! This program is designed for adults.
URL:https://www.laruelibrary.org/event/stretch-and-shine-36/2024-08-05/
LOCATION:KY
CATEGORIES:Adult,Adult Events
END:VEVENT
BEGIN:VEVENT
DTSTART;TZID=America/Kentucky/Louisville:20240805T110000
DTEND;TZID=America/Kentucky/Louisville:20240805T110000
DTSTAMP:20260421T102741
CREATED:20240717T155730Z
LAST-MODIFIED:20240717T155730Z
UID:10001400-1722855600-1722855600@www.laruelibrary.org
SUMMARY:Health Choices for Every Body
DESCRIPTION:Free series of classes for adults (at 11:00am during the Mondays held)\, focusing on cooking skills and stretching your food dollars\, all while making healthy choices! \nAt each class you’ll get to sample the recipes and take home a small kitchen gadget! \nYou must register for this program by calling the LaRue County Co-op Extension Service at 270-358-3401. The classes will be held here at the library.
URL:https://www.laruelibrary.org/event/health-choices-for-every-body/2024-08-05/
LOCATION:LaRue County Public Library\, 215 Lincoln Drive\, Hodgenville\, KY\, 42748\, United States
CATEGORIES:Adult,Adult Events
ATTACH;FMTTYPE=image/png:https://www.laruelibrary.org/wp-content/uploads/2024/07/Healthy.png
ORGANIZER;CN="LaRue County Co-Op Extension Service":MAILTO:larue.ext@uky.edu
END:VEVENT
BEGIN:VEVENT
DTSTART;TZID=America/Kentucky/Louisville:20240805T110000
DTEND;TZID=America/Kentucky/Louisville:20240805T110000
DTSTAMP:20260421T102741
CREATED:20240718T211711Z
LAST-MODIFIED:20240718T211711Z
UID:10001413-1722855600-1722855600@www.laruelibrary.org
SUMMARY:Healthy Choices
DESCRIPTION:Join us for a free series of classes for adults\, that focuses on cooking skills and stretching your food dollars\, all while making healthy choices! At each class\, you will sample some of our yummy recipes we offer and you will receive a small kitchen are limited. Sign up today – spaces are limited! Call 270-358-3401 or email susan.riggs@uky.edu! \nThis program begins at 11 AM and will be held on the following dates: August 5\, 12\, 19\, 26\, and September 9.
URL:https://www.laruelibrary.org/event/healthy-choices/2024-08-05/
LOCATION:KY
CATEGORIES:Adult,Adult Events
ATTACH;FMTTYPE=image/png:https://www.laruelibrary.org/wp-content/uploads/2024/07/Healthy.png
END:VEVENT
BEGIN:VEVENT
DTSTART;TZID=America/Kentucky/Louisville:20240806T100000
DTEND;TZID=America/Kentucky/Louisville:20240806T100000
DTSTAMP:20260421T102741
CREATED:20240716T220124Z
LAST-MODIFIED:20240716T220124Z
UID:10001390-1722938400-1722938400@www.laruelibrary.org
SUMMARY:Keep Stepping Forwad
DESCRIPTION:Keep Stepping Forward – Finding New Footing One Step at a Time \nJoin us the first Tuesday of each month for a support group for men and women whose spouses have passed away. This group will be led by Donna Coffey. Coffee and donuts will be provided. We look forward to sharing with you in community on Tuesday\, August 6th at 10 AM.
URL:https://www.laruelibrary.org/event/keep-stepping-forwad/
LOCATION:LaRue County Public Library\, 215 Lincoln Drive\, Hodgenville\, KY\, 42748\, United States
CATEGORIES:Adult,Adult Events
END:VEVENT
BEGIN:VEVENT
DTSTART;TZID=America/Kentucky/Louisville:20240812T100000
DTEND;TZID=America/Kentucky/Louisville:20240812T100000
DTSTAMP:20260421T102741
CREATED:20240713T150135Z
LAST-MODIFIED:20240713T150135Z
UID:10001377-1723456800-1723456800@www.laruelibrary.org
SUMMARY:Stretch and Shine
DESCRIPTION:Join us for Stretch and Shine and start your day off right! Free low-impact exercise class beginning at 10:00am. Let’s get those muscles moving! This program is designed for adults.
URL:https://www.laruelibrary.org/event/stretch-and-shine-36/2024-08-12/
LOCATION:KY
CATEGORIES:Adult,Adult Events
END:VEVENT
BEGIN:VEVENT
DTSTART;TZID=America/Kentucky/Louisville:20240812T110000
DTEND;TZID=America/Kentucky/Louisville:20240812T110000
DTSTAMP:20260421T102741
CREATED:20240717T155730Z
LAST-MODIFIED:20240717T155730Z
UID:10001401-1723460400-1723460400@www.laruelibrary.org
SUMMARY:Health Choices for Every Body
DESCRIPTION:Free series of classes for adults (at 11:00am during the Mondays held)\, focusing on cooking skills and stretching your food dollars\, all while making healthy choices! \nAt each class you’ll get to sample the recipes and take home a small kitchen gadget! \nYou must register for this program by calling the LaRue County Co-op Extension Service at 270-358-3401. The classes will be held here at the library.
URL:https://www.laruelibrary.org/event/health-choices-for-every-body/2024-08-12/
LOCATION:LaRue County Public Library\, 215 Lincoln Drive\, Hodgenville\, KY\, 42748\, United States
CATEGORIES:Adult,Adult Events
ATTACH;FMTTYPE=image/png:https://www.laruelibrary.org/wp-content/uploads/2024/07/Healthy.png
ORGANIZER;CN="LaRue County Co-Op Extension Service":MAILTO:larue.ext@uky.edu
END:VEVENT
BEGIN:VEVENT
DTSTART;TZID=America/Kentucky/Louisville:20240812T110000
DTEND;TZID=America/Kentucky/Louisville:20240812T110000
DTSTAMP:20260421T102741
CREATED:20240718T211711Z
LAST-MODIFIED:20240718T211711Z
UID:10001414-1723460400-1723460400@www.laruelibrary.org
SUMMARY:Healthy Choices
DESCRIPTION:Join us for a free series of classes for adults\, that focuses on cooking skills and stretching your food dollars\, all while making healthy choices! At each class\, you will sample some of our yummy recipes we offer and you will receive a small kitchen are limited. Sign up today – spaces are limited! Call 270-358-3401 or email susan.riggs@uky.edu! \nThis program begins at 11 AM and will be held on the following dates: August 5\, 12\, 19\, 26\, and September 9.
URL:https://www.laruelibrary.org/event/healthy-choices/2024-08-12/
LOCATION:KY
CATEGORIES:Adult,Adult Events
ATTACH;FMTTYPE=image/png:https://www.laruelibrary.org/wp-content/uploads/2024/07/Healthy.png
END:VEVENT
BEGIN:VEVENT
DTSTART;TZID=America/Kentucky/Louisville:20240813T103000
DTEND;TZID=America/Kentucky/Louisville:20240813T120000
DTSTAMP:20260421T102741
CREATED:20240713T151251Z
LAST-MODIFIED:20240713T151251Z
UID:10001382-1723545000-1723550400@www.laruelibrary.org
SUMMARY:Kynect
DESCRIPTION:What can Kynect do for you? Ginny Whitt will be set up in the lobby on Tuesday\, August 13th from 10:30 – 12:00.  \nYou might be surprised by what she can help with Snap benefits\, Medicaid\, and Kentucky Marketplace Insurance. Let her help you avoid those phone calls and red tape. \nThis program is designed for Adults.
URL:https://www.laruelibrary.org/event/kynect-21/
LOCATION:LaRue County Public Library\, 215 Lincoln Drive\, Hodgenville\, KY\, 42748\, United States
CATEGORIES:Adult,Adult Events
ATTACH;FMTTYPE=image/png:https://www.laruelibrary.org/wp-content/uploads/2023/08/kynect2.png
END:VEVENT
BEGIN:VEVENT
DTSTART;TZID=America/Kentucky/Louisville:20240813T150000
DTEND;TZID=America/Kentucky/Louisville:20240813T150000
DTSTAMP:20260421T102741
CREATED:20240718T212959Z
LAST-MODIFIED:20240718T212959Z
UID:10001420-1723561200-1723561200@www.laruelibrary.org
SUMMARY:Tea Program
DESCRIPTION:Renee Nana Peace\, special events coordinator for Thurman Landing\, will be hosting a tea for 20 ladies. Wear your favorite dress & hat and bring along your favorite tea cup. We will be learning about tea along with enjoying 2 varieties of tea\, small sandwiches\, and scones. There is a non-refundable deposit of $5 for this event. \nTo register\, please visit the library. Deposits must be provided to register for this event.
URL:https://www.laruelibrary.org/event/tea-program/
LOCATION:LaRue County Public Library\, 215 Lincoln Drive\, Hodgenville\, KY\, 42748\, United States
CATEGORIES:Adult,Adult Events
END:VEVENT
BEGIN:VEVENT
DTSTART;TZID=America/Kentucky/Louisville:20240815T153000
DTEND;TZID=America/Kentucky/Louisville:20240815T153000
DTSTAMP:20260421T102741
CREATED:20240717T151022Z
LAST-MODIFIED:20240717T151022Z
UID:10001392-1723735800-1723735800@www.laruelibrary.org
SUMMARY:Book Club
DESCRIPTION:Come join us on Thursday\, August 15th at 3:30pm for Book Club! \nThis is an Adult program.
URL:https://www.laruelibrary.org/event/book-club-16/
LOCATION:LaRue County Public Library\, 215 Lincoln Drive\, Hodgenville\, KY\, 42748\, United States
CATEGORIES:Adult,Adult Events
ATTACH;FMTTYPE=image/jpeg:https://www.laruelibrary.org/wp-content/uploads/2023/07/bc2.jpg
ORGANIZER;CN="LaRue Public Library":MAILTO:info@laruelibrary.org
END:VEVENT
BEGIN:VEVENT
DTSTART;TZID=America/Kentucky/Louisville:20240815T163000
DTEND;TZID=America/Kentucky/Louisville:20240815T163000
DTSTAMP:20260421T102741
CREATED:20240717T151231Z
LAST-MODIFIED:20240717T151231Z
UID:10001393-1723739400-1723739400@www.laruelibrary.org
SUMMARY:Board Meeting
DESCRIPTION:LCPL Board Meeting. Thursday\, August 15th at 4:30 pm.
URL:https://www.laruelibrary.org/event/board-meeting-14/
LOCATION:LaRue County Public Library\, 215 Lincoln Drive\, Hodgenville\, KY\, 42748\, United States
CATEGORIES:Adult,Adult Events
ATTACH;FMTTYPE=image/jpeg:https://www.laruelibrary.org/wp-content/uploads/2023/07/brm2.jpg
ORGANIZER;CN="LaRue Public Library":MAILTO:info@laruelibrary.org
END:VEVENT
BEGIN:VEVENT
DTSTART;TZID=America/Kentucky/Louisville:20240815T173000
DTEND;TZID=America/Kentucky/Louisville:20240815T173000
DTSTAMP:20260421T102741
CREATED:20240717T151649Z
LAST-MODIFIED:20240717T151649Z
UID:10001394-1723743000-1723743000@www.laruelibrary.org
SUMMARY:Cleav's Family Market
DESCRIPTION:Travis Cleaver\, owner of Cleav’s Family Market\, will be here Thursday\, August 15th at 5:30pm! \nHe’ll share with us the story of how he got into the farming\, and the vegetable market\, business! \nEveryone welcome
URL:https://www.laruelibrary.org/event/cleavs-family-market/
LOCATION:LaRue County Public Library\, 215 Lincoln Drive\, Hodgenville\, KY\, 42748\, United States
CATEGORIES:Adult,Adult Events,Everyone,Family,Youth Events
ORGANIZER;CN="LaRue Public Library":MAILTO:info@laruelibrary.org
END:VEVENT
BEGIN:VEVENT
DTSTART;TZID=America/Kentucky/Louisville:20240816T153000
DTEND;TZID=America/Kentucky/Louisville:20240816T153000
DTSTAMP:20260421T102741
CREATED:20240717T152100Z
LAST-MODIFIED:20240717T152100Z
UID:10001395-1723822200-1723822200@www.laruelibrary.org
SUMMARY:Elvis Bingo
DESCRIPTION:Let’s play Elvis Bingo to celebrate National Elvis Week on Friday\, August 16th at 3:30pm! \nTeens & Adults. Class limit of 24. Call to register. There’ll be prizes!
URL:https://www.laruelibrary.org/event/elvis-bingo/
LOCATION:LaRue County Public Library\, 215 Lincoln Drive\, Hodgenville\, KY\, 42748\, United States
CATEGORIES:Adult,Adult Events,High School,Youth Events
ORGANIZER;CN="LaRue Public Library":MAILTO:info@laruelibrary.org
END:VEVENT
BEGIN:VEVENT
DTSTART;TZID=America/Kentucky/Louisville:20240819T100000
DTEND;TZID=America/Kentucky/Louisville:20240819T100000
DTSTAMP:20260421T102741
CREATED:20240713T150135Z
LAST-MODIFIED:20240713T150135Z
UID:10001378-1724061600-1724061600@www.laruelibrary.org
SUMMARY:Stretch and Shine
DESCRIPTION:Join us for Stretch and Shine and start your day off right! Free low-impact exercise class beginning at 10:00am. Let’s get those muscles moving! This program is designed for adults.
URL:https://www.laruelibrary.org/event/stretch-and-shine-36/2024-08-19/
LOCATION:KY
CATEGORIES:Adult,Adult Events
END:VEVENT
BEGIN:VEVENT
DTSTART;TZID=America/Kentucky/Louisville:20240819T110000
DTEND;TZID=America/Kentucky/Louisville:20240819T110000
DTSTAMP:20260421T102741
CREATED:20240717T155730Z
LAST-MODIFIED:20240717T155730Z
UID:10001402-1724065200-1724065200@www.laruelibrary.org
SUMMARY:Health Choices for Every Body
DESCRIPTION:Free series of classes for adults (at 11:00am during the Mondays held)\, focusing on cooking skills and stretching your food dollars\, all while making healthy choices! \nAt each class you’ll get to sample the recipes and take home a small kitchen gadget! \nYou must register for this program by calling the LaRue County Co-op Extension Service at 270-358-3401. The classes will be held here at the library.
URL:https://www.laruelibrary.org/event/health-choices-for-every-body/2024-08-19/
LOCATION:LaRue County Public Library\, 215 Lincoln Drive\, Hodgenville\, KY\, 42748\, United States
CATEGORIES:Adult,Adult Events
ATTACH;FMTTYPE=image/png:https://www.laruelibrary.org/wp-content/uploads/2024/07/Healthy.png
ORGANIZER;CN="LaRue County Co-Op Extension Service":MAILTO:larue.ext@uky.edu
END:VEVENT
BEGIN:VEVENT
DTSTART;TZID=America/Kentucky/Louisville:20240819T110000
DTEND;TZID=America/Kentucky/Louisville:20240819T110000
DTSTAMP:20260421T102741
CREATED:20240718T211711Z
LAST-MODIFIED:20240718T211711Z
UID:10001415-1724065200-1724065200@www.laruelibrary.org
SUMMARY:Healthy Choices
DESCRIPTION:Join us for a free series of classes for adults\, that focuses on cooking skills and stretching your food dollars\, all while making healthy choices! At each class\, you will sample some of our yummy recipes we offer and you will receive a small kitchen are limited. Sign up today – spaces are limited! Call 270-358-3401 or email susan.riggs@uky.edu! \nThis program begins at 11 AM and will be held on the following dates: August 5\, 12\, 19\, 26\, and September 9.
URL:https://www.laruelibrary.org/event/healthy-choices/2024-08-19/
LOCATION:KY
CATEGORIES:Adult,Adult Events
ATTACH;FMTTYPE=image/png:https://www.laruelibrary.org/wp-content/uploads/2024/07/Healthy.png
END:VEVENT
BEGIN:VEVENT
DTSTART;TZID=America/Kentucky/Louisville:20240819T140000
DTEND;TZID=America/Kentucky/Louisville:20240819T140000
DTSTAMP:20260421T102741
CREATED:20240717T160034Z
LAST-MODIFIED:20240717T160034Z
UID:10001404-1724076000-1724076000@www.laruelibrary.org
SUMMARY:Community Games
DESCRIPTION:Come and have some game day fun here at the library at 2:00pm! \nBring your friends\, family\, a board game (or choose one of ours) and enjoy!
URL:https://www.laruelibrary.org/event/community-games-31/2024-08-19/
LOCATION:LaRue County Public Library\, 215 Lincoln Drive\, Hodgenville\, KY\, 42748\, United States
CATEGORIES:Adult,Adult Events,Everyone,Family,Youth Events
ATTACH;FMTTYPE=image/jpeg:https://www.laruelibrary.org/wp-content/uploads/2023/07/bg2.jpg
ORGANIZER;CN="LaRue Public Library":MAILTO:info@laruelibrary.org
END:VEVENT
BEGIN:VEVENT
DTSTART;TZID=America/Kentucky/Louisville:20240820T150000
DTEND;TZID=America/Kentucky/Louisville:20240820T150000
DTSTAMP:20260421T102741
CREATED:20240717T152456Z
LAST-MODIFIED:20240717T152456Z
UID:10001396-1724166000-1724166000@www.laruelibrary.org
SUMMARY:Handmade Cards
DESCRIPTION:On Tuesday\, August 20th at 3:00pm we’ll be hand-making cards & then sending them with our Bookmobile Librarian to be delivered to the residents of Signature Healthcare of Sunrise Manor. \nTeens & Adults. Class limit of 24. Call to register.
URL:https://www.laruelibrary.org/event/handmade-cards/
LOCATION:LaRue County Public Library\, 215 Lincoln Drive\, Hodgenville\, KY\, 42748\, United States
CATEGORIES:Adult,Adult Events,High School,Youth Events
ATTACH;FMTTYPE=image/png:https://www.laruelibrary.org/wp-content/uploads/2024/07/Handmade.png
ORGANIZER;CN="LaRue Public Library":MAILTO:info@laruelibrary.org
END:VEVENT
BEGIN:VEVENT
DTSTART;TZID=America/Kentucky/Louisville:20240822T100000
DTEND;TZID=America/Kentucky/Louisville:20240822T100000
DTSTAMP:20260421T102741
CREATED:20240717T152835Z
LAST-MODIFIED:20240717T152835Z
UID:10001397-1724320800-1724320800@www.laruelibrary.org
SUMMARY:Coffee for Veterans
DESCRIPTION:Join us on Thursday\, August 22nd @ 10:00am in the LCPL community room for a very special program (with spouses/partners being welcome). \nWe will have a special guest speaking.
URL:https://www.laruelibrary.org/event/coffee-for-veterans-7/
LOCATION:LaRue County Public Library\, 215 Lincoln Drive\, Hodgenville\, KY\, 42748\, United States
CATEGORIES:Adult,Adult Events
ATTACH;FMTTYPE=image/png:https://www.laruelibrary.org/wp-content/uploads/2024/01/vetcoffee.png
ORGANIZER;CN="LaRue Public Library":MAILTO:info@laruelibrary.org
END:VEVENT
BEGIN:VEVENT
DTSTART;TZID=America/Kentucky/Louisville:20240822T173000
DTEND;TZID=America/Kentucky/Louisville:20240822T173000
DTSTAMP:20260421T102741
CREATED:20240717T153126Z
LAST-MODIFIED:20240717T153126Z
UID:10001398-1724347800-1724347800@www.laruelibrary.org
SUMMARY:Comedy Show
DESCRIPTION:Join us on Thursday\, August 22nd at 5:30pm for a comedy show featuring Charles Moore and three other comedians! \nAdults only. Snack will be served.
URL:https://www.laruelibrary.org/event/comedy-show/
LOCATION:LaRue County Public Library\, 215 Lincoln Drive\, Hodgenville\, KY\, 42748\, United States
CATEGORIES:Adult,Adult Events
ORGANIZER;CN="LaRue Public Library":MAILTO:info@laruelibrary.org
END:VEVENT
BEGIN:VEVENT
DTSTART;TZID=America/Kentucky/Louisville:20240823T150000
DTEND;TZID=America/Kentucky/Louisville:20240823T150000
DTSTAMP:20260421T102741
CREATED:20240717T153600Z
LAST-MODIFIED:20240717T153600Z
UID:10001399-1724425200-1724425200@www.laruelibrary.org
SUMMARY:Pressed Flower Art
DESCRIPTION:Back by popular demand\, this art class will be held on Friday\, August 23rd at 3:00pm! \nTo allow others to participate\, we will allow those that didn’t get to attend last time to sign up first before registering everyone else. \nTeens & Adults. Class limit of 15. Call to sign up.
URL:https://www.laruelibrary.org/event/pressed-flower-art-2/
LOCATION:LaRue County Public Library\, 215 Lincoln Drive\, Hodgenville\, KY\, 42748\, United States
CATEGORIES:Adult,Adult Events,High School,Youth Events
ORGANIZER;CN="LaRue Public Library":MAILTO:info@laruelibrary.org
END:VEVENT
BEGIN:VEVENT
DTSTART;TZID=America/Kentucky/Louisville:20240826T100000
DTEND;TZID=America/Kentucky/Louisville:20240826T100000
DTSTAMP:20260421T102741
CREATED:20240713T150135Z
LAST-MODIFIED:20240713T150135Z
UID:10001379-1724666400-1724666400@www.laruelibrary.org
SUMMARY:Stretch and Shine
DESCRIPTION:Join us for Stretch and Shine and start your day off right! Free low-impact exercise class beginning at 10:00am. Let’s get those muscles moving! This program is designed for adults.
URL:https://www.laruelibrary.org/event/stretch-and-shine-36/2024-08-26/
LOCATION:KY
CATEGORIES:Adult,Adult Events
END:VEVENT
BEGIN:VEVENT
DTSTART;TZID=America/Kentucky/Louisville:20240826T110000
DTEND;TZID=America/Kentucky/Louisville:20240826T110000
DTSTAMP:20260421T102741
CREATED:20240717T155730Z
LAST-MODIFIED:20240717T155730Z
UID:10001403-1724670000-1724670000@www.laruelibrary.org
SUMMARY:Health Choices for Every Body
DESCRIPTION:Free series of classes for adults (at 11:00am during the Mondays held)\, focusing on cooking skills and stretching your food dollars\, all while making healthy choices! \nAt each class you’ll get to sample the recipes and take home a small kitchen gadget! \nYou must register for this program by calling the LaRue County Co-op Extension Service at 270-358-3401. The classes will be held here at the library.
URL:https://www.laruelibrary.org/event/health-choices-for-every-body/2024-08-26/
LOCATION:LaRue County Public Library\, 215 Lincoln Drive\, Hodgenville\, KY\, 42748\, United States
CATEGORIES:Adult,Adult Events
ATTACH;FMTTYPE=image/png:https://www.laruelibrary.org/wp-content/uploads/2024/07/Healthy.png
ORGANIZER;CN="LaRue County Co-Op Extension Service":MAILTO:larue.ext@uky.edu
END:VEVENT
BEGIN:VEVENT
DTSTART;TZID=America/Kentucky/Louisville:20240826T110000
DTEND;TZID=America/Kentucky/Louisville:20240826T110000
DTSTAMP:20260421T102741
CREATED:20240718T211711Z
LAST-MODIFIED:20240718T211711Z
UID:10001416-1724670000-1724670000@www.laruelibrary.org
SUMMARY:Healthy Choices
DESCRIPTION:Join us for a free series of classes for adults\, that focuses on cooking skills and stretching your food dollars\, all while making healthy choices! At each class\, you will sample some of our yummy recipes we offer and you will receive a small kitchen are limited. Sign up today – spaces are limited! Call 270-358-3401 or email susan.riggs@uky.edu! \nThis program begins at 11 AM and will be held on the following dates: August 5\, 12\, 19\, 26\, and September 9.
URL:https://www.laruelibrary.org/event/healthy-choices/2024-08-26/
LOCATION:KY
CATEGORIES:Adult,Adult Events
ATTACH;FMTTYPE=image/png:https://www.laruelibrary.org/wp-content/uploads/2024/07/Healthy.png
END:VEVENT
BEGIN:VEVENT
DTSTART;TZID=America/Kentucky/Louisville:20240826T140000
DTEND;TZID=America/Kentucky/Louisville:20240826T140000
DTSTAMP:20260421T102741
CREATED:20240717T160034Z
LAST-MODIFIED:20240717T160034Z
UID:10001405-1724680800-1724680800@www.laruelibrary.org
SUMMARY:Community Games
DESCRIPTION:Come and have some game day fun here at the library at 2:00pm! \nBring your friends\, family\, a board game (or choose one of ours) and enjoy!
URL:https://www.laruelibrary.org/event/community-games-31/2024-08-26/
LOCATION:LaRue County Public Library\, 215 Lincoln Drive\, Hodgenville\, KY\, 42748\, United States
CATEGORIES:Adult,Adult Events,Everyone,Family,Youth Events
ATTACH;FMTTYPE=image/jpeg:https://www.laruelibrary.org/wp-content/uploads/2023/07/bg2.jpg
ORGANIZER;CN="LaRue Public Library":MAILTO:info@laruelibrary.org
END:VEVENT
BEGIN:VEVENT
DTSTART;TZID=America/Kentucky/Louisville:20240827T150000
DTEND;TZID=America/Kentucky/Louisville:20240827T150000
DTSTAMP:20260421T102741
CREATED:20240717T160414Z
LAST-MODIFIED:20240717T160414Z
UID:10001406-1724770800-1724770800@www.laruelibrary.org
SUMMARY:Melted Crayon Bouquets
DESCRIPTION:Join us on Tuesday\, August 27th at 3:00pm to make melted crayon bouquets! \nTeens & Adults. Class limit of 14. Call to register.
URL:https://www.laruelibrary.org/event/melted-crayon-bouquets/
LOCATION:LaRue County Public Library\, 215 Lincoln Drive\, Hodgenville\, KY\, 42748\, United States
CATEGORIES:Adult,Adult Events,High School,Youth Events
ORGANIZER;CN="LaRue Public Library":MAILTO:info@laruelibrary.org
END:VEVENT
BEGIN:VEVENT
DTSTART;TZID=America/Kentucky/Louisville:20240828T110000
DTEND;TZID=America/Kentucky/Louisville:20240828T130000
DTSTAMP:20260421T102741
CREATED:20240717T160947Z
LAST-MODIFIED:20240717T160947Z
UID:10001407-1724842800-1724850000@www.laruelibrary.org
SUMMARY:Technology Lunch & Learn
DESCRIPTION:Join us on Wednesday\, August 28th from 11:00am to 1:00pm as we and SCRTC team up to answer your computer questions! A light lunch will be provided! \nClass limit of 12. Call us here at LCPL to register. Class meant for Adults.
URL:https://www.laruelibrary.org/event/technology-lunch-learn/
LOCATION:LaRue County Public Library\, 215 Lincoln Drive\, Hodgenville\, KY\, 42748\, United States
CATEGORIES:Adult,Adult Events
ATTACH;FMTTYPE=image/png:https://www.laruelibrary.org/wp-content/uploads/2024/07/Technology.png
ORGANIZER;CN="LaRue Public Library":MAILTO:info@laruelibrary.org
END:VEVENT
BEGIN:VEVENT
DTSTART;TZID=America/Kentucky/Louisville:20240829T160000
DTEND;TZID=America/Kentucky/Louisville:20240829T160000
DTSTAMP:20260421T102741
CREATED:20240717T161224Z
LAST-MODIFIED:20240717T161224Z
UID:10001408-1724947200-1724947200@www.laruelibrary.org
SUMMARY:Whittling Class
DESCRIPTION:Join us on Thursday\, August 29th at 4:00pm at Dave Levee leads a whittling class! \nTeens & Adults. Class limit of 12. Call to register.
URL:https://www.laruelibrary.org/event/whittling-class-2/
LOCATION:LaRue County Public Library\, 215 Lincoln Drive\, Hodgenville\, KY\, 42748\, United States
CATEGORIES:Adult,Adult Events,High School,Youth Events
ATTACH;FMTTYPE=image/png:https://www.laruelibrary.org/wp-content/uploads/2023/12/Whittle.png
ORGANIZER;CN="LaRue Public Library":MAILTO:info@laruelibrary.org
END:VEVENT
END:VCALENDAR