BEGIN:VCALENDAR
VERSION:2.0
PRODID:-//LaRue County Public Library - ECPv6.15.20//NONSGML v1.0//EN
CALSCALE:GREGORIAN
METHOD:PUBLISH
X-ORIGINAL-URL:https://www.laruelibrary.org
X-WR-CALDESC:Events for LaRue County Public Library
REFRESH-INTERVAL;VALUE=DURATION:PT1H
X-Robots-Tag:noindex
X-PUBLISHED-TTL:PT1H
BEGIN:VTIMEZONE
TZID:America/Kentucky/Louisville
BEGIN:DAYLIGHT
TZOFFSETFROM:-0500
TZOFFSETTO:-0400
TZNAME:EDT
DTSTART:20230312T070000
END:DAYLIGHT
BEGIN:STANDARD
TZOFFSETFROM:-0400
TZOFFSETTO:-0500
TZNAME:EST
DTSTART:20231105T060000
END:STANDARD
BEGIN:DAYLIGHT
TZOFFSETFROM:-0500
TZOFFSETTO:-0400
TZNAME:EDT
DTSTART:20240310T070000
END:DAYLIGHT
BEGIN:STANDARD
TZOFFSETFROM:-0400
TZOFFSETTO:-0500
TZNAME:EST
DTSTART:20241103T060000
END:STANDARD
BEGIN:DAYLIGHT
TZOFFSETFROM:-0500
TZOFFSETTO:-0400
TZNAME:EDT
DTSTART:20250309T070000
END:DAYLIGHT
BEGIN:STANDARD
TZOFFSETFROM:-0400
TZOFFSETTO:-0500
TZNAME:EST
DTSTART:20251102T060000
END:STANDARD
END:VTIMEZONE
BEGIN:VEVENT
DTSTART;TZID=America/Kentucky/Louisville:20240725T100000
DTEND;TZID=America/Kentucky/Louisville:20240725T100000
DTSTAMP:20260421T132633
CREATED:20240620T162644Z
LAST-MODIFIED:20240620T162644Z
UID:10001356-1721901600-1721901600@www.laruelibrary.org
SUMMARY:Coffee for Veterans
DESCRIPTION:Join us on Thursday\, July 25th @ 10:00am in the LCPL community room for a very special program (with spouses/partners being welcome). \nIsmael John\, with the Kentucky Department of Veterans Affairs\, will be our special guest.
URL:https://www.laruelibrary.org/event/coffee-for-veterans-6/
LOCATION:LaRue County Public Library\, 215 Lincoln Drive\, Hodgenville\, KY\, 42748\, United States
CATEGORIES:Adult,Adult Events
ATTACH;FMTTYPE=image/png:https://www.laruelibrary.org/wp-content/uploads/2024/01/vetcoffee.png
ORGANIZER;CN="LaRue Public Library":MAILTO:info@laruelibrary.org
END:VEVENT
BEGIN:VEVENT
DTSTART;TZID=America/Kentucky/Louisville:20240725T120000
DTEND;TZID=America/Kentucky/Louisville:20240725T170000
DTSTAMP:20260421T132633
CREATED:20240620T160249Z
LAST-MODIFIED:20240620T160249Z
UID:10001353-1721908800-1721926800@www.laruelibrary.org
SUMMARY:Bloodmobile
DESCRIPTION:Come down to the Library on Thursday\, July 25th from 12:00pm-5:00pm to donate blood to the American Red Cross. \nHelp do your part! Schedule appointment now to save a life at redcross.org. \nYou will be entered for one of two $25 gift cards\, courtesy of the Friends of the Library! \nThis program is designed for Adults.
URL:https://www.laruelibrary.org/event/bloodmobile-8/
LOCATION:LaRue County Public Library\, 215 Lincoln Drive\, Hodgenville\, KY\, 42748\, United States
CATEGORIES:Adult,Adult Events,High School,Youth Events
ATTACH;FMTTYPE=image/png:https://www.laruelibrary.org/wp-content/uploads/2024/02/Blddrv.png
ORGANIZER;CN="LaRue Public Library":MAILTO:info@laruelibrary.org
END:VEVENT
BEGIN:VEVENT
DTSTART;TZID=America/Kentucky/Louisville:20240725T130000
DTEND;TZID=America/Kentucky/Louisville:20240725T143000
DTSTAMP:20260421T132633
CREATED:20240620T155012Z
LAST-MODIFIED:20240620T155012Z
UID:10001351-1721912400-1721917800@www.laruelibrary.org
SUMMARY:Kynect
DESCRIPTION:What can Kynect do for you? Ginny Whitt will set up in the lobby on Thursday\, July 25th from 1:00 PM – 2:30 PM. \nYou might be surprised by what she can help with Snap benefits\, Medicaid\, and Kentucky Marketplace Insurance. Let her help you avoid those phone calls and red tape. \nThis program is designed for Adults.
URL:https://www.laruelibrary.org/event/kynect-20/
LOCATION:LaRue County Public Library\, 215 Lincoln Drive\, Hodgenville\, KY\, 42748\, United States
CATEGORIES:Adult,Adult Events
ATTACH;FMTTYPE=image/png:https://www.laruelibrary.org/wp-content/uploads/2023/08/kynect2.png
ORGANIZER;CN="LaRue Public Library":MAILTO:info@laruelibrary.org
END:VEVENT
END:VCALENDAR