BEGIN:VCALENDAR
VERSION:2.0
PRODID:-//LaRue County Public Library - ECPv6.15.20//NONSGML v1.0//EN
CALSCALE:GREGORIAN
METHOD:PUBLISH
X-WR-CALNAME:LaRue County Public Library
X-ORIGINAL-URL:https://www.laruelibrary.org
X-WR-CALDESC:Events for LaRue County Public Library
REFRESH-INTERVAL;VALUE=DURATION:PT1H
X-Robots-Tag:noindex
X-PUBLISHED-TTL:PT1H
BEGIN:VTIMEZONE
TZID:America/Kentucky/Louisville
BEGIN:DAYLIGHT
TZOFFSETFROM:-0500
TZOFFSETTO:-0400
TZNAME:EDT
DTSTART:20230312T070000
END:DAYLIGHT
BEGIN:STANDARD
TZOFFSETFROM:-0400
TZOFFSETTO:-0500
TZNAME:EST
DTSTART:20231105T060000
END:STANDARD
BEGIN:DAYLIGHT
TZOFFSETFROM:-0500
TZOFFSETTO:-0400
TZNAME:EDT
DTSTART:20240310T070000
END:DAYLIGHT
BEGIN:STANDARD
TZOFFSETFROM:-0400
TZOFFSETTO:-0500
TZNAME:EST
DTSTART:20241103T060000
END:STANDARD
BEGIN:DAYLIGHT
TZOFFSETFROM:-0500
TZOFFSETTO:-0400
TZNAME:EDT
DTSTART:20250309T070000
END:DAYLIGHT
BEGIN:STANDARD
TZOFFSETFROM:-0400
TZOFFSETTO:-0500
TZNAME:EST
DTSTART:20251102T060000
END:STANDARD
END:VTIMEZONE
BEGIN:VEVENT
DTSTART;TZID=America/Kentucky/Louisville:20240926T100000
DTEND;TZID=America/Kentucky/Louisville:20240926T100000
DTSTAMP:20260421T103200
CREATED:20240820T151509Z
LAST-MODIFIED:20240820T151509Z
UID:10001452-1727344800-1727344800@www.laruelibrary.org
SUMMARY:Coffee for Veterans
DESCRIPTION:Join us on Thursday\, September 26th @ 10:00am in the LCPL community room for a very special program (with spouses/partners being welcome). \nWe will have a special guest Chuck Swift (Founder/Chairman of Handicapped Veteran’s Association Incorporated\, dba HVA Social) speaking.
URL:https://www.laruelibrary.org/event/coffee-for-veterans-8/
LOCATION:LaRue County Public Library\, 215 Lincoln Drive\, Hodgenville\, KY\, 42748\, United States
CATEGORIES:Adult,Adult Events
ATTACH;FMTTYPE=image/png:https://www.laruelibrary.org/wp-content/uploads/2024/01/vetcoffee.png
ORGANIZER;CN="LaRue Public Library":MAILTO:info@laruelibrary.org
END:VEVENT
BEGIN:VEVENT
DTSTART;TZID=America/Kentucky/Louisville:20240926T120000
DTEND;TZID=America/Kentucky/Louisville:20240926T173000
DTSTAMP:20260421T103200
CREATED:20240820T151733Z
LAST-MODIFIED:20240820T151733Z
UID:10001453-1727352000-1727371800@www.laruelibrary.org
SUMMARY:Bloodmobile
DESCRIPTION:Come down to the Library on Thursday\, September 26th from 12:00pm-5:30pm to donate blood to the American Red Cross. \nHelp do your part! Schedule appointment now to save a life at redcross.org. \nYou will be entered for one of two $25 gift cards\, courtesy of the Friends of the Library! \nThis program is designed for Adults.
URL:https://www.laruelibrary.org/event/bloodmobile-9/
LOCATION:LaRue County Public Library\, 215 Lincoln Drive\, Hodgenville\, KY\, 42748\, United States
CATEGORIES:Adult,Adult Events
ATTACH;FMTTYPE=image/png:https://www.laruelibrary.org/wp-content/uploads/2024/02/Blddrv.png
ORGANIZER;CN="LaRue Public Library":MAILTO:info@laruelibrary.org
END:VEVENT
END:VCALENDAR