BEGIN:VCALENDAR
VERSION:2.0
PRODID:-//LaRue County Public Library - ECPv6.15.20//NONSGML v1.0//EN
CALSCALE:GREGORIAN
METHOD:PUBLISH
X-WR-CALNAME:LaRue County Public Library
X-ORIGINAL-URL:https://www.laruelibrary.org
X-WR-CALDESC:Events for LaRue County Public Library
REFRESH-INTERVAL;VALUE=DURATION:PT1H
X-Robots-Tag:noindex
X-PUBLISHED-TTL:PT1H
BEGIN:VTIMEZONE
TZID:America/Kentucky/Louisville
BEGIN:DAYLIGHT
TZOFFSETFROM:-0500
TZOFFSETTO:-0400
TZNAME:EDT
DTSTART:20230312T070000
END:DAYLIGHT
BEGIN:STANDARD
TZOFFSETFROM:-0400
TZOFFSETTO:-0500
TZNAME:EST
DTSTART:20231105T060000
END:STANDARD
BEGIN:DAYLIGHT
TZOFFSETFROM:-0500
TZOFFSETTO:-0400
TZNAME:EDT
DTSTART:20240310T070000
END:DAYLIGHT
BEGIN:STANDARD
TZOFFSETFROM:-0400
TZOFFSETTO:-0500
TZNAME:EST
DTSTART:20241103T060000
END:STANDARD
BEGIN:DAYLIGHT
TZOFFSETFROM:-0500
TZOFFSETTO:-0400
TZNAME:EDT
DTSTART:20250309T070000
END:DAYLIGHT
BEGIN:STANDARD
TZOFFSETFROM:-0400
TZOFFSETTO:-0500
TZNAME:EST
DTSTART:20251102T060000
END:STANDARD
END:VTIMEZONE
BEGIN:VEVENT
DTSTART;TZID=America/Kentucky/Louisville:20241213T150000
DTEND;TZID=America/Kentucky/Louisville:20241213T150000
DTSTAMP:20260421T062020
CREATED:20241116T154009Z
LAST-MODIFIED:20241116T154009Z
UID:10001609-1734102000-1734102000@www.laruelibrary.org
SUMMARY:Holiday Cookie Exchange and Recipe Journal
DESCRIPTION:You’re bound to have a tasty time at our Holiday Cookie Exchange and Shabby Chic Recipe Journal program on Friday\, December 13th at 3 PM. Bring at least 2 dozen of your favorite cookies to exchange and copies of your recipe. Please bring a printed copy of your recipe to share with others. \nAfter exchanging cookies\, we will be creating a recipe journal to keep our recipes in. \nAdults interested should call the library to register.
URL:https://www.laruelibrary.org/event/holiday-cookie-exchange-and-recipe-journal/
LOCATION:LaRue County Public Library\, 215 Lincoln Drive\, Hodgenville\, KY\, 42748\, United States
CATEGORIES:Adult,Adult Events
ATTACH;FMTTYPE=image/jpeg:https://www.laruelibrary.org/wp-content/uploads/2024/11/istockphoto-1185515984-612x612-1.jpg
END:VEVENT
END:VCALENDAR