BEGIN:VCALENDAR
VERSION:2.0
PRODID:-//LaRue County Public Library - ECPv6.15.20//NONSGML v1.0//EN
CALSCALE:GREGORIAN
METHOD:PUBLISH
X-ORIGINAL-URL:https://www.laruelibrary.org
X-WR-CALDESC:Events for LaRue County Public Library
REFRESH-INTERVAL;VALUE=DURATION:PT1H
X-Robots-Tag:noindex
X-PUBLISHED-TTL:PT1H
BEGIN:VTIMEZONE
TZID:America/Kentucky/Louisville
BEGIN:DAYLIGHT
TZOFFSETFROM:-0500
TZOFFSETTO:-0400
TZNAME:EDT
DTSTART:20240310T070000
END:DAYLIGHT
BEGIN:STANDARD
TZOFFSETFROM:-0400
TZOFFSETTO:-0500
TZNAME:EST
DTSTART:20241103T060000
END:STANDARD
BEGIN:DAYLIGHT
TZOFFSETFROM:-0500
TZOFFSETTO:-0400
TZNAME:EDT
DTSTART:20250309T070000
END:DAYLIGHT
BEGIN:STANDARD
TZOFFSETFROM:-0400
TZOFFSETTO:-0500
TZNAME:EST
DTSTART:20251102T060000
END:STANDARD
BEGIN:DAYLIGHT
TZOFFSETFROM:-0500
TZOFFSETTO:-0400
TZNAME:EDT
DTSTART:20260308T070000
END:DAYLIGHT
BEGIN:STANDARD
TZOFFSETFROM:-0400
TZOFFSETTO:-0500
TZNAME:EST
DTSTART:20261101T060000
END:STANDARD
END:VTIMEZONE
BEGIN:VEVENT
DTSTART;TZID=America/Kentucky/Louisville:20250131T130000
DTEND;TZID=America/Kentucky/Louisville:20250131T163000
DTSTAMP:20260421T044923
CREATED:20241217T204846Z
LAST-MODIFIED:20241217T204846Z
UID:10001665-1738328400-1738341000@www.laruelibrary.org
SUMMARY:Hot Chocolate Bar
DESCRIPTION:Join us on Friday\, January 31st from 1:00pm-4:30pm to celebrate National Hot Chocolate Day! \nWe will have a hot chocolate bar set up with different toppings for anyone and everyone to enjoy!
URL:https://www.laruelibrary.org/event/hot-chocolate-bar/
LOCATION:LaRue County Public Library\, 215 Lincoln Drive\, Hodgenville\, KY\, 42748\, United States
CATEGORIES:Adult,Adult Events,Everyone,Family,Youth Events
ATTACH;FMTTYPE=image/png:https://www.laruelibrary.org/wp-content/uploads/2024/12/closed1.png
ORGANIZER;CN="LaRue Public Library":MAILTO:info@laruelibrary.org
END:VEVENT
BEGIN:VEVENT
DTSTART;TZID=America/Kentucky/Louisville:20250131T150000
DTEND;TZID=America/Kentucky/Louisville:20250131T150000
DTSTAMP:20260421T044924
CREATED:20241217T203941Z
LAST-MODIFIED:20241217T203941Z
UID:10001664-1738335600-1738335600@www.laruelibrary.org
SUMMARY:Scrapbook Paper Baskets
DESCRIPTION:Join us on Friday\, January 31st at 3:00pm to make scrapbook paper baskets. \n(embellishments will vary) \nClass limit of 24. Teens and Adults. Call to register.
URL:https://www.laruelibrary.org/event/scrapbook-paper-baskets/
LOCATION:LaRue County Public Library\, 215 Lincoln Drive\, Hodgenville\, KY\, 42748\, United States
CATEGORIES:Adult,Adult Events,High School,Youth Events
ATTACH;FMTTYPE=image/png:https://www.laruelibrary.org/wp-content/uploads/2024/12/basket.png
ORGANIZER;CN="LaRue Public Library":MAILTO:info@laruelibrary.org
END:VEVENT
END:VCALENDAR