BEGIN:VCALENDAR
VERSION:2.0
PRODID:-//LaRue County Public Library - ECPv6.15.20//NONSGML v1.0//EN
CALSCALE:GREGORIAN
METHOD:PUBLISH
X-ORIGINAL-URL:https://www.laruelibrary.org
X-WR-CALDESC:Events for LaRue County Public Library
REFRESH-INTERVAL;VALUE=DURATION:PT1H
X-Robots-Tag:noindex
X-PUBLISHED-TTL:PT1H
BEGIN:VTIMEZONE
TZID:America/Kentucky/Louisville
BEGIN:DAYLIGHT
TZOFFSETFROM:-0500
TZOFFSETTO:-0400
TZNAME:EDT
DTSTART:20220313T070000
END:DAYLIGHT
BEGIN:STANDARD
TZOFFSETFROM:-0400
TZOFFSETTO:-0500
TZNAME:EST
DTSTART:20221106T060000
END:STANDARD
BEGIN:DAYLIGHT
TZOFFSETFROM:-0500
TZOFFSETTO:-0400
TZNAME:EDT
DTSTART:20230312T070000
END:DAYLIGHT
BEGIN:STANDARD
TZOFFSETFROM:-0400
TZOFFSETTO:-0500
TZNAME:EST
DTSTART:20231105T060000
END:STANDARD
BEGIN:DAYLIGHT
TZOFFSETFROM:-0500
TZOFFSETTO:-0400
TZNAME:EDT
DTSTART:20240310T070000
END:DAYLIGHT
BEGIN:STANDARD
TZOFFSETFROM:-0400
TZOFFSETTO:-0500
TZNAME:EST
DTSTART:20241103T060000
END:STANDARD
END:VTIMEZONE
BEGIN:VEVENT
DTSTART;TZID=America/Kentucky/Louisville:20230606T170000
DTEND;TZID=America/Kentucky/Louisville:20230606T170000
DTSTAMP:20260419T201458
CREATED:20230519T190035Z
LAST-MODIFIED:20230523T202909Z
UID:10000106-1686070800-1686070800@www.laruelibrary.org
SUMMARY:Propagation Class
DESCRIPTION:Plant Propagation Class with Pat Stillwell @ 5:00pm on June 6th. Have you ever wanted to learn how to grow your plants from a leaf\, seed or plant? Now is your chance. Pat Stillwell will teach you as many trips and tricks you’d like! You must be preregistered for the event. Please call to register\, 270-358-3851. Teens only. \nThis program is designed for Teens.  \n 
URL:https://www.laruelibrary.org/event/propagation-class/
LOCATION:LaRue County Public Library\, 215 Lincoln Drive\, Hodgenville\, KY\, 42748\, United States
CATEGORIES:High School,Youth Events
ATTACH;FMTTYPE=image/png:https://www.laruelibrary.org/wp-content/uploads/2023/05/SeedlingClass-LarueEvent.png
ORGANIZER;CN="LaRue Public Library":MAILTO:info@laruelibrary.org
END:VEVENT
BEGIN:VEVENT
DTSTART;TZID=America/Kentucky/Louisville:20230612T150000
DTEND;TZID=America/Kentucky/Louisville:20230612T150000
DTSTAMP:20260419T201458
CREATED:20230519T203012Z
LAST-MODIFIED:20230523T201204Z
UID:10000116-1686582000-1686582000@www.laruelibrary.org
SUMMARY:Kentucky Tea Party
DESCRIPTION:Kentucky Tea Party @ 3:00pm on June 12th. It’s time for tea! The LaRue County Public Library invites our teens to attend our formal tea party\, featuring foods and drinks. Taste charcuterie boards\, finger food and of course\, tea! Middle and High School Students only. You must be preregistered for the event. Please call to register\, 270-358-3851. \nThis program is designed for Middle & High School Teens.
URL:https://www.laruelibrary.org/event/kentucky-tea-party/
LOCATION:LaRue County Public Library\, 215 Lincoln Drive\, Hodgenville\, KY\, 42748\, United States
CATEGORIES:High School,Middle School,Youth Events
ORGANIZER;CN="LaRue Public Library":MAILTO:info@laruelibrary.org
END:VEVENT
BEGIN:VEVENT
DTSTART;TZID=America/Kentucky/Louisville:20230613T150000
DTEND;TZID=America/Kentucky/Louisville:20230613T150000
DTSTAMP:20260419T201458
CREATED:20230519T204117Z
LAST-MODIFIED:20230523T201304Z
UID:10000118-1686668400-1686668400@www.laruelibrary.org
SUMMARY:Let's Grow Mushrooms!
DESCRIPTION:Let’s Grow Mushrooms for Summer Reading Food and Drink Week. Join us on Tuesday\, June 13th @ 3:00pm. Heather Barnes will be doing a hands on workshop. You will be making and inoculating your own grow kit. These are edible mushrooms. Please bring a clean 2 litter plastic bottle. Class of 20. You must be preregistered for the event. Please call to register\, 270-358-3851. \nThis program is designed for Teens and Adults. 
URL:https://www.laruelibrary.org/event/growing-mushrooms/
LOCATION:LaRue County Public Library\, 215 Lincoln Drive\, Hodgenville\, KY\, 42748\, United States
CATEGORIES:Adult,Adult Events,High School,Youth Events
ORGANIZER;CN="LaRue Public Library":MAILTO:info@laruelibrary.org
END:VEVENT
BEGIN:VEVENT
DTSTART;TZID=America/Kentucky/Louisville:20230614T150000
DTEND;TZID=America/Kentucky/Louisville:20230614T150000
DTSTAMP:20260419T201458
CREATED:20230519T205000Z
LAST-MODIFIED:20230523T203739Z
UID:10000119-1686754800-1686754800@www.laruelibrary.org
SUMMARY:Travel Junk Journals
DESCRIPTION:Join us at the Library for a Travel Junk Journal Workshop June14th @ 3pm. Please bring a map (doesn’t matter what kind) and a book. We’ll be making travel junk journals just in time for your vacations. You must be preregistered for the event. Please call to register\, 270-358-3851. \nThis program is designed for Teens and Adults.
URL:https://www.laruelibrary.org/event/travel-junk-journals-2/
LOCATION:LaRue County Public Library\, 215 Lincoln Drive\, Hodgenville\, KY\, 42748\, United States
CATEGORIES:Adult,Adult Events,High School,Youth Events
ATTACH;FMTTYPE=image/png:https://www.laruelibrary.org/wp-content/uploads/2023/05/TravelJournal-LarueEvent.png
ORGANIZER;CN="LaRue Public Library":MAILTO:info@laruelibrary.org
END:VEVENT
BEGIN:VEVENT
DTSTART;TZID=America/Kentucky/Louisville:20230615T170000
DTEND;TZID=America/Kentucky/Louisville:20230615T170000
DTSTAMP:20260419T201458
CREATED:20230520T183342Z
LAST-MODIFIED:20230523T201425Z
UID:10000128-1686848400-1686848400@www.laruelibrary.org
SUMMARY:Cookie Decorating
DESCRIPTION:Cookie Decorating – A little something for food in Kentucky Week\, Thursday\, June 15th @ 5:00pm.Michelle will be back to show us how to decorate Kentucky themed cookies. Class is limited to 20. A $10.00 deposit is required. You must be preregistered for the event. Please call to register\, 270-358-3851. Due to the overwhelming response to this class\, those who haven’t taken it before will be signed up first in order to give others an opportunity. We hope everyone understands. \nThis program is designed for Teens and Adults.  \n  \n 
URL:https://www.laruelibrary.org/event/cookie-decorating-2/
LOCATION:LaRue County Public Library\, 215 Lincoln Drive\, Hodgenville\, KY\, 42748\, United States
CATEGORIES:Adult,Adult Events,High School,Youth Events
ORGANIZER;CN="LaRue Public Library":MAILTO:info@laruelibrary.org
END:VEVENT
BEGIN:VEVENT
DTSTART;TZID=America/Kentucky/Louisville:20230617T110000
DTEND;TZID=America/Kentucky/Louisville:20230617T110000
DTSTAMP:20260419T201458
CREATED:20230519T212813Z
LAST-MODIFIED:20230523T201452Z
UID:10000125-1686999600-1686999600@www.laruelibrary.org
SUMMARY:Puffy Chalk
DESCRIPTION:Hey Middle and High School! Do you enjoy creating art? Or playing with chalk? This is for you! Come on out for Puffy Chalk on Saturday\, June 17th @ 11:00am to decorate and make the sidewalk your own! Let your creativity run wild and decorate our sidewalk for the summer! No Need to Register. Just come and have fun! \nThis program is designed for Middle and High School Teens\n \n 
URL:https://www.laruelibrary.org/event/puffy-chalk/
LOCATION:LaRue County Public Library\, 215 Lincoln Drive\, Hodgenville\, KY\, 42748\, United States
CATEGORIES:High School,Middle School,Youth Events
ORGANIZER;CN="LaRue Public Library":MAILTO:info@laruelibrary.org
END:VEVENT
BEGIN:VEVENT
DTSTART;TZID=America/Kentucky/Louisville:20230620T150000
DTEND;TZID=America/Kentucky/Louisville:20230620T150000
DTSTAMP:20260419T201459
CREATED:20230520T184323Z
LAST-MODIFIED:20230523T201607Z
UID:10000130-1687273200-1687273200@www.laruelibrary.org
SUMMARY:Unique Safety Pin Bracelets
DESCRIPTION:It’s Unique Kentucky Week! Join us in making unique safety pin bracelets on Tuesday\, June 20th @ 3:00pm. Class of 12 only. You must be preregistered for the event. Please call to register\, 270-358-3851. \nThis program is designed for Teens and Adults. 
URL:https://www.laruelibrary.org/event/unique-safety-pin-bracelets/
LOCATION:LaRue County Public Library\, 215 Lincoln Drive\, Hodgenville\, KY\, 42748\, United States
CATEGORIES:Adult,Adult Events,High School,Youth Events
ORGANIZER;CN="LaRue Public Library":MAILTO:info@laruelibrary.org
END:VEVENT
BEGIN:VEVENT
DTSTART;TZID=America/Kentucky/Louisville:20230627T140000
DTEND;TZID=America/Kentucky/Louisville:20230627T140000
DTSTAMP:20260419T201459
CREATED:20230520T193835Z
LAST-MODIFIED:20230523T201855Z
UID:10000141-1687874400-1687874400@www.laruelibrary.org
SUMMARY:Needle Felting
DESCRIPTION:It’s Kentucky Trails Week. Create a pincushion with a trail to a gnome house with needle felting\, . Starts @ 2:00pm on Tuesday\, June 27th. You must be preregistered for the event. Please call to register\, 270-358-3851. \nThis program is designed for Teens and Adults. 
URL:https://www.laruelibrary.org/event/needle-felting/
LOCATION:LaRue County Public Library\, 215 Lincoln Drive\, Hodgenville\, KY\, 42748\, United States
CATEGORIES:Adult,Adult Events,High School,Youth Events
ORGANIZER;CN="LaRue Public Library":MAILTO:info@laruelibrary.org
END:VEVENT
END:VCALENDAR