BEGIN:VCALENDAR
VERSION:2.0
PRODID:-//LaRue County Public Library - ECPv6.15.20//NONSGML v1.0//EN
CALSCALE:GREGORIAN
METHOD:PUBLISH
X-WR-CALNAME:LaRue County Public Library
X-ORIGINAL-URL:https://www.laruelibrary.org
X-WR-CALDESC:Events for LaRue County Public Library
REFRESH-INTERVAL;VALUE=DURATION:PT1H
X-Robots-Tag:noindex
X-PUBLISHED-TTL:PT1H
BEGIN:VTIMEZONE
TZID:America/Kentucky/Louisville
BEGIN:DAYLIGHT
TZOFFSETFROM:-0500
TZOFFSETTO:-0400
TZNAME:EDT
DTSTART:20220313T070000
END:DAYLIGHT
BEGIN:STANDARD
TZOFFSETFROM:-0400
TZOFFSETTO:-0500
TZNAME:EST
DTSTART:20221106T060000
END:STANDARD
BEGIN:DAYLIGHT
TZOFFSETFROM:-0500
TZOFFSETTO:-0400
TZNAME:EDT
DTSTART:20230312T070000
END:DAYLIGHT
BEGIN:STANDARD
TZOFFSETFROM:-0400
TZOFFSETTO:-0500
TZNAME:EST
DTSTART:20231105T060000
END:STANDARD
BEGIN:DAYLIGHT
TZOFFSETFROM:-0500
TZOFFSETTO:-0400
TZNAME:EDT
DTSTART:20240310T070000
END:DAYLIGHT
BEGIN:STANDARD
TZOFFSETFROM:-0400
TZOFFSETTO:-0500
TZNAME:EST
DTSTART:20241103T060000
END:STANDARD
END:VTIMEZONE
BEGIN:VEVENT
DTSTART;TZID=America/Kentucky/Louisville:20230713T180000
DTEND;TZID=America/Kentucky/Louisville:20230713T180000
DTSTAMP:20260419T183200
CREATED:20230619T171415Z
LAST-MODIFIED:20230619T171415Z
UID:10000246-1689271200-1689271200@www.laruelibrary.org
SUMMARY:Cardio Drumming with Suglenda
DESCRIPTION:Suglenda will be back for another Cardio Drumming Class! Teen and Adults are welcome @ 6:00pm on July 13th. Class of 15. You must be preregistered for the event. Please call to register\, 270-358-3851. It’s military week for summer reading so let’s wear red\, white and blue to show our support. \nThis program is designed for Teens and Adults.  \n 
URL:https://www.laruelibrary.org/event/cardio-drumming-with-suglenda/
LOCATION:LaRue County Public Library\, 215 Lincoln Drive\, Hodgenville\, KY\, 42748\, United States
CATEGORIES:Adult,Adult Events,High School,Youth Events
ATTACH;FMTTYPE=image/png:https://www.laruelibrary.org/wp-content/uploads/2023/04/CardioDrum-LarueEvent.png
ORGANIZER;CN="LaRue Public Library":MAILTO:info@laruelibrary.org
END:VEVENT
BEGIN:VEVENT
DTSTART;TZID=America/Kentucky/Louisville:20230725T150000
DTEND;TZID=America/Kentucky/Louisville:20230725T150000
DTSTAMP:20260419T183200
CREATED:20230619T223251Z
LAST-MODIFIED:20230620T170518Z
UID:10000251-1690297200-1690297200@www.laruelibrary.org
SUMMARY:Grilling Like A Pro with Marla Stillwell
DESCRIPTION:Grilling Like A Pro with Marla Stillwell @ 3:00pm on July 25th. It’s KY Sports Week for Summer Reading & sporting events are a great time to fire up the grill\, whether it’s for tailgating or backyard get together s. Come let Marla give you some tips on how to impress your friends with you’re grilling skills.Teens and adults are welcome! No sign up is required. \nThis program is designed for Teens and Adults. 
URL:https://www.laruelibrary.org/event/grilling-like-a-pro-with-marla-stillwell/
LOCATION:LaRue County Public Library\, 215 Lincoln Drive\, Hodgenville\, KY\, 42748\, United States
CATEGORIES:Adult Events,High School,Youth Events
ORGANIZER;CN="LaRue Public Library":MAILTO:info@laruelibrary.org
END:VEVENT
BEGIN:VEVENT
DTSTART;TZID=America/Kentucky/Louisville:20230728T130000
DTEND;TZID=America/Kentucky/Louisville:20230728T130000
DTSTAMP:20260419T183200
CREATED:20230619T225356Z
LAST-MODIFIED:20230620T171814Z
UID:10000253-1690549200-1690549200@www.laruelibrary.org
SUMMARY:Uniquely Yours: Beads with a Purpose
DESCRIPTION:Uniquely Yours: Beads with a Purpose with Tiffany Spratt @ 1:00pm on July 28th. We’ll be making pens and rear-view mirror hangers. This class will require a $10.00 nonrefundable deposit. Class of 20. You must be preregistered for the event. Please call to register\, 270-358-3851. Teens and Adults welcome. \nThis program is designed for Teens and Adults.  \n 
URL:https://www.laruelibrary.org/event/uniquely-yours-beads-with-a-purpose/
LOCATION:LaRue County Public Library\, 215 Lincoln Drive\, Hodgenville\, KY\, 42748\, United States
CATEGORIES:Adult,Adult Events,High School,Youth Events
ATTACH;FMTTYPE=image/png:https://www.laruelibrary.org/wp-content/uploads/2023/06/Beadwork-Event.png
ORGANIZER;CN="LaRue Public Library":MAILTO:info@laruelibrary.org
END:VEVENT
END:VCALENDAR