BEGIN:VCALENDAR
VERSION:2.0
PRODID:-//LaRue County Public Library - ECPv6.15.20//NONSGML v1.0//EN
CALSCALE:GREGORIAN
METHOD:PUBLISH
X-WR-CALNAME:LaRue County Public Library
X-ORIGINAL-URL:https://www.laruelibrary.org
X-WR-CALDESC:Events for LaRue County Public Library
REFRESH-INTERVAL;VALUE=DURATION:PT1H
X-Robots-Tag:noindex
X-PUBLISHED-TTL:PT1H
BEGIN:VTIMEZONE
TZID:America/Kentucky/Louisville
BEGIN:DAYLIGHT
TZOFFSETFROM:-0500
TZOFFSETTO:-0400
TZNAME:EDT
DTSTART:20220313T070000
END:DAYLIGHT
BEGIN:STANDARD
TZOFFSETFROM:-0400
TZOFFSETTO:-0500
TZNAME:EST
DTSTART:20221106T060000
END:STANDARD
BEGIN:DAYLIGHT
TZOFFSETFROM:-0500
TZOFFSETTO:-0400
TZNAME:EDT
DTSTART:20230312T070000
END:DAYLIGHT
BEGIN:STANDARD
TZOFFSETFROM:-0400
TZOFFSETTO:-0500
TZNAME:EST
DTSTART:20231105T060000
END:STANDARD
BEGIN:DAYLIGHT
TZOFFSETFROM:-0500
TZOFFSETTO:-0400
TZNAME:EDT
DTSTART:20240310T070000
END:DAYLIGHT
BEGIN:STANDARD
TZOFFSETFROM:-0400
TZOFFSETTO:-0500
TZNAME:EST
DTSTART:20241103T060000
END:STANDARD
END:VTIMEZONE
BEGIN:VEVENT
DTSTART;TZID=America/Kentucky/Louisville:20230907T170000
DTEND;TZID=America/Kentucky/Louisville:20230907T170000
DTSTAMP:20260419T151610
CREATED:20230817T224525Z
LAST-MODIFIED:20230817T224525Z
UID:10000314-1694106000-1694106000@www.laruelibrary.org
SUMMARY:Flower Arranging with Grandview Farm
DESCRIPTION:Join us to create a flower arrangement with Grandview Farm at the library on Thursday\, September 7th at 5:00 PM. \nThis class can accommodate up to 20 teens & adults\, registration is required. Please call the library to sign up. (270-358-3851)
URL:https://www.laruelibrary.org/event/flower-arranging-with-grandview-farm/
LOCATION:LaRue County Public Library\, 215 Lincoln Drive\, Hodgenville\, KY\, 42748\, United States
CATEGORIES:Adult,Adult Events,High School,Middle School
END:VEVENT
BEGIN:VEVENT
DTSTART;TZID=America/Kentucky/Louisville:20230908T150000
DTEND;TZID=America/Kentucky/Louisville:20230908T150000
DTSTAMP:20260419T151610
CREATED:20230817T225307Z
LAST-MODIFIED:20230817T225307Z
UID:10000315-1694185200-1694185200@www.laruelibrary.org
SUMMARY:Popcorn Mosaics
DESCRIPTION:“Pop” into the library to create a popcorn mosaic on Friday\, September 8th at 3:00. Please call the library to register for this program\, for teens and adults.
URL:https://www.laruelibrary.org/event/popcorn-mosaics/
LOCATION:LaRue County Public Library\, 215 Lincoln Drive\, Hodgenville\, KY\, 42748\, United States
CATEGORIES:Adult,Adult Events,High School,Middle School
END:VEVENT
BEGIN:VEVENT
DTSTART;TZID=America/Kentucky/Louisville:20230911T160000
DTEND;TZID=America/Kentucky/Louisville:20230911T160000
DTSTAMP:20260419T151610
CREATED:20230824T211755Z
LAST-MODIFIED:20230909T133050Z
UID:10000338-1694448000-1694448000@www.laruelibrary.org
SUMMARY:Garden Fairy Wand Stakes
DESCRIPTION:Create Garden Fairy Wand Stakes using beads\, drawer knobs\, and a long screw – all a beautiful “wand” of your own design! Please call the library to register for this class\, taught by Larinda DeSpain. This class is designed for patrons 12+ (middle school & teens) and spots are limited.
URL:https://www.laruelibrary.org/event/garden-fairy-wand-stakes/
LOCATION:LaRue County Public Library\, 215 Lincoln Drive\, Hodgenville\, KY\, 42748\, United States
CATEGORIES:High School,Middle School
END:VEVENT
BEGIN:VEVENT
DTSTART;TZID=America/Kentucky/Louisville:20230921T170000
DTEND;TZID=America/Kentucky/Louisville:20230921T170000
DTSTAMP:20260419T151610
CREATED:20230818T193927Z
LAST-MODIFIED:20230818T193927Z
UID:10000333-1695315600-1695315600@www.laruelibrary.org
SUMMARY:Wire Trees
DESCRIPTION:Join us on Thursday\, September 21st @ 5:00pm for a Wire Trees craft (this isn’t the exact design\, but it will be similar) taught by Christie Huffer! \nClass limit of 15. Call to sign up. Teens & Adults
URL:https://www.laruelibrary.org/event/wire-trees/
LOCATION:LaRue County Public Library\, 215 Lincoln Drive\, Hodgenville\, KY\, 42748\, United States
CATEGORIES:Adult,Adult Events,High School,Youth Events
ORGANIZER;CN="LaRue Public Library":MAILTO:info@laruelibrary.org
END:VEVENT
BEGIN:VEVENT
DTSTART;TZID=America/Kentucky/Louisville:20230929T150000
DTEND;TZID=America/Kentucky/Louisville:20230929T150000
DTSTAMP:20260419T151610
CREATED:20230818T192839Z
LAST-MODIFIED:20230818T192839Z
UID:10000331-1695999600-1695999600@www.laruelibrary.org
SUMMARY:Book Witch
DESCRIPTION:“Witch” part of Fall is your favorite? \nLarinda DeSpain will be sharing her talents with us once again to make a fun Halloween decoration! \nFriday\, September 29th @ 3:00pm. Teens & Adults. Call to Sign-Up!
URL:https://www.laruelibrary.org/event/book-witch/
LOCATION:LaRue County Public Library\, 215 Lincoln Drive\, Hodgenville\, KY\, 42748\, United States
CATEGORIES:Adult,Adult Events,High School,Youth Events
ORGANIZER;CN="LaRue Public Library":MAILTO:info@laruelibrary.org
END:VEVENT
END:VCALENDAR