BEGIN:VCALENDAR
VERSION:2.0
PRODID:-//LaRue County Public Library - ECPv6.15.20//NONSGML v1.0//EN
CALSCALE:GREGORIAN
METHOD:PUBLISH
X-WR-CALNAME:LaRue County Public Library
X-ORIGINAL-URL:https://www.laruelibrary.org
X-WR-CALDESC:Events for LaRue County Public Library
REFRESH-INTERVAL;VALUE=DURATION:PT1H
X-Robots-Tag:noindex
X-PUBLISHED-TTL:PT1H
BEGIN:VTIMEZONE
TZID:America/Kentucky/Louisville
BEGIN:DAYLIGHT
TZOFFSETFROM:-0500
TZOFFSETTO:-0400
TZNAME:EDT
DTSTART:20220313T070000
END:DAYLIGHT
BEGIN:STANDARD
TZOFFSETFROM:-0400
TZOFFSETTO:-0500
TZNAME:EST
DTSTART:20221106T060000
END:STANDARD
BEGIN:DAYLIGHT
TZOFFSETFROM:-0500
TZOFFSETTO:-0400
TZNAME:EDT
DTSTART:20230312T070000
END:DAYLIGHT
BEGIN:STANDARD
TZOFFSETFROM:-0400
TZOFFSETTO:-0500
TZNAME:EST
DTSTART:20231105T060000
END:STANDARD
BEGIN:DAYLIGHT
TZOFFSETFROM:-0500
TZOFFSETTO:-0400
TZNAME:EDT
DTSTART:20240310T070000
END:DAYLIGHT
BEGIN:STANDARD
TZOFFSETFROM:-0400
TZOFFSETTO:-0500
TZNAME:EST
DTSTART:20241103T060000
END:STANDARD
END:VTIMEZONE
BEGIN:VEVENT
DTSTART;TZID=America/Kentucky/Louisville:20231205T150000
DTEND;TZID=America/Kentucky/Louisville:20231205T150000
DTSTAMP:20260419T102706
CREATED:20231128T230643Z
LAST-MODIFIED:20231128T230643Z
UID:10000431-1701788400-1701788400@www.laruelibrary.org
SUMMARY:Earring Craft
DESCRIPTION:Spend an afternoon crafting two pairs of earrings with April Vines. We’ll begin at 3:00 PM on Tuesday\, December 5th. This program is intended for teens & adults and does require registration. To register\, please call the library at 270-358-3851.
URL:https://www.laruelibrary.org/event/earring-craft/
LOCATION:LaRue County Public Library\, 215 Lincoln Drive\, Hodgenville\, KY\, 42748\, United States
CATEGORIES:Adult,High School,Middle School
END:VEVENT
BEGIN:VEVENT
DTSTART;TZID=America/Kentucky/Louisville:20231207T170000
DTEND;TZID=America/Kentucky/Louisville:20231207T170000
DTSTAMP:20260419T102706
CREATED:20231128T232754Z
LAST-MODIFIED:20231128T232806Z
UID:10000437-1701968400-1701968400@www.laruelibrary.org
SUMMARY:Needle Felting Ornaments
DESCRIPTION:Add some handmade decor to your Christmas tree with a needle-felted ornament. This class\, intended for teens & adults\, will be held on Thursday\, December 7th at 5:00 PM. Registration is required and those interested should call the library at 270-358-3851.
URL:https://www.laruelibrary.org/event/needle-felting-ornaments/
LOCATION:LaRue County Public Library\, 215 Lincoln Drive\, Hodgenville\, KY\, 42748\, United States
CATEGORIES:Adult,High School,Middle School
END:VEVENT
BEGIN:VEVENT
DTSTART;TZID=America/Kentucky/Louisville:20231208T150000
DTEND;TZID=America/Kentucky/Louisville:20231208T150000
DTSTAMP:20260419T102706
CREATED:20231128T234202Z
LAST-MODIFIED:20231128T234202Z
UID:10000440-1702047600-1702047600@www.laruelibrary.org
SUMMARY:Embrodiery
DESCRIPTION:Practice a new skill at the library’s embroidery basics class on Friday\, December 8th at 3:00 PM. This program\, designed for teens and adults\, does require registration. To sign up\, please call the library at 270-358-3851.
URL:https://www.laruelibrary.org/event/embrodiery/
LOCATION:LaRue County Public Library\, 215 Lincoln Drive\, Hodgenville\, KY\, 42748\, United States
CATEGORIES:Adult,High School,Middle School
END:VEVENT
BEGIN:VEVENT
DTSTART;TZID=America/Kentucky/Louisville:20231212T160000
DTEND;TZID=America/Kentucky/Louisville:20231212T160000
DTSTAMP:20260419T102706
CREATED:20231130T223029Z
LAST-MODIFIED:20231130T223029Z
UID:10000456-1702396800-1702396800@www.laruelibrary.org
SUMMARY:Cookie Exchange
DESCRIPTION:Calling all bakers! It’s time to show off your kitchen skills in this cookie exchange. Bake 2 dozen cookies\, bring your recipe\, and be ready to exchange cookies with others in attendance. This program\, open to up to 24 people\, will be held on Tuesday\, December 12th at 4:00 PM. Interested teens & adults should call the library to sign up. Our phone number is 270-358-3851.
URL:https://www.laruelibrary.org/event/cookie-exchange/
LOCATION:LaRue County Public Library\, 215 Lincoln Drive\, Hodgenville\, KY\, 42748\, United States
CATEGORIES:Adult,High School,Middle School
END:VEVENT
BEGIN:VEVENT
DTSTART;TZID=America/Kentucky/Louisville:20231214T170000
DTEND;TZID=America/Kentucky/Louisville:20231214T170000
DTSTAMP:20260419T102706
CREATED:20231128T204544Z
LAST-MODIFIED:20231128T204544Z
UID:10000418-1702573200-1702573200@www.laruelibrary.org
SUMMARY:Wine Glass Snow Globes
DESCRIPTION:We will be making wine glass snow globes on Thursday December 14th @ 5:00pm. (Miniatures inside may vary) \nTeens & Adult class. Class limit of 29. Call to sign up.
URL:https://www.laruelibrary.org/event/wine-glass-snow-globes/
LOCATION:LaRue County Public Library\, 215 Lincoln Drive\, Hodgenville\, KY\, 42748\, United States
CATEGORIES:Adult,Adult Events,High School,Youth Events
ORGANIZER;CN="LaRue Public Library":MAILTO:info@laruelibrary.org
END:VEVENT
BEGIN:VEVENT
DTSTART;TZID=America/Kentucky/Louisville:20231215T150000
DTEND;TZID=America/Kentucky/Louisville:20231215T150000
DTSTAMP:20260419T102706
CREATED:20231128T211206Z
LAST-MODIFIED:20231128T211206Z
UID:10000420-1702652400-1702652400@www.laruelibrary.org
SUMMARY:Decorative Candles
DESCRIPTION:Come craft some decorative candles in a non-traditional way on Friday December 15th @ 3:00pm! \nClass for Teens.
URL:https://www.laruelibrary.org/event/decorative-candles/
LOCATION:LaRue County Public Library\, 215 Lincoln Drive\, Hodgenville\, KY\, 42748\, United States
CATEGORIES:High School,Youth Events
ORGANIZER;CN="LaRue Public Library":MAILTO:info@laruelibrary.org
END:VEVENT
BEGIN:VEVENT
DTSTART;TZID=America/Kentucky/Louisville:20231215T153000
DTEND;TZID=America/Kentucky/Louisville:20231215T153000
DTSTAMP:20260419T102706
CREATED:20231128T210922Z
LAST-MODIFIED:20231128T210922Z
UID:10000419-1702654200-1702654200@www.laruelibrary.org
SUMMARY:Healthy Holiday Side Dishes
DESCRIPTION:Come let Marla Stillwell give you some great tips on healthy and delicious holiday dinner sides on Friday December 15th @ 3:30pm. \nEveryone is welcome! Teens & Adults. No limit. No registration.
URL:https://www.laruelibrary.org/event/healthy-holiday-side-dishes/
LOCATION:LaRue County Public Library\, 215 Lincoln Drive\, Hodgenville\, KY\, 42748\, United States
CATEGORIES:Adult,Adult Events,High School,Youth Events
ORGANIZER;CN="LaRue Public Library":MAILTO:info@laruelibrary.org
END:VEVENT
BEGIN:VEVENT
DTSTART;TZID=America/Kentucky/Louisville:20231219T150000
DTEND;TZID=America/Kentucky/Louisville:20231219T150000
DTSTAMP:20260419T102706
CREATED:20231128T211822Z
LAST-MODIFIED:20231128T211822Z
UID:10000422-1702998000-1702998000@www.laruelibrary.org
SUMMARY:Necktie Angel Ornaments
DESCRIPTION:We will be making necktie angel ornaments on Tuesday December 19th @ 3:00pm. \nPlease bring your own tie. \nTeens & Adults. Call to sign up. Class limit of 20.
URL:https://www.laruelibrary.org/event/necktie-angel-ornaments/
LOCATION:LaRue County Public Library\, 215 Lincoln Drive\, Hodgenville\, KY\, 42748\, United States
CATEGORIES:Adult,Adult Events,High School,Youth Events
ORGANIZER;CN="LaRue Public Library":MAILTO:info@laruelibrary.org
END:VEVENT
BEGIN:VEVENT
DTSTART;TZID=America/Kentucky/Louisville:20231220T153000
DTEND;TZID=America/Kentucky/Louisville:20231220T153000
DTSTAMP:20260419T102706
CREATED:20231128T212228Z
LAST-MODIFIED:20231128T212228Z
UID:10000423-1703086200-1703086200@www.laruelibrary.org
SUMMARY:Gingerbread Houses
DESCRIPTION:Anyone aged Teen and 12+ is welcome to come decorate a gingerbread house on Wednesday December 20th @ 3:30pm! \nCall to sign up. Class for Teen and 12+.
URL:https://www.laruelibrary.org/event/gingerbread-houses/
LOCATION:LaRue County Public Library\, 215 Lincoln Drive\, Hodgenville\, KY\, 42748\, United States
CATEGORIES:High School,Middle School,Youth Events
ORGANIZER;CN="LaRue Public Library":MAILTO:info@laruelibrary.org
END:VEVENT
END:VCALENDAR