BEGIN:VCALENDAR
VERSION:2.0
PRODID:-//LaRue County Public Library - ECPv6.15.20//NONSGML v1.0//EN
CALSCALE:GREGORIAN
METHOD:PUBLISH
X-WR-CALNAME:LaRue County Public Library
X-ORIGINAL-URL:https://www.laruelibrary.org
X-WR-CALDESC:Events for LaRue County Public Library
REFRESH-INTERVAL;VALUE=DURATION:PT1H
X-Robots-Tag:noindex
X-PUBLISHED-TTL:PT1H
BEGIN:VTIMEZONE
TZID:America/Kentucky/Louisville
BEGIN:DAYLIGHT
TZOFFSETFROM:-0500
TZOFFSETTO:-0400
TZNAME:EDT
DTSTART:20240310T070000
END:DAYLIGHT
BEGIN:STANDARD
TZOFFSETFROM:-0400
TZOFFSETTO:-0500
TZNAME:EST
DTSTART:20241103T060000
END:STANDARD
BEGIN:DAYLIGHT
TZOFFSETFROM:-0500
TZOFFSETTO:-0400
TZNAME:EDT
DTSTART:20250309T070000
END:DAYLIGHT
BEGIN:STANDARD
TZOFFSETFROM:-0400
TZOFFSETTO:-0500
TZNAME:EST
DTSTART:20251102T060000
END:STANDARD
BEGIN:DAYLIGHT
TZOFFSETFROM:-0500
TZOFFSETTO:-0400
TZNAME:EDT
DTSTART:20260308T070000
END:DAYLIGHT
BEGIN:STANDARD
TZOFFSETFROM:-0400
TZOFFSETTO:-0500
TZNAME:EST
DTSTART:20261101T060000
END:STANDARD
END:VTIMEZONE
BEGIN:VEVENT
DTSTART;TZID=America/Kentucky/Louisville:20251115T110000
DTEND;TZID=America/Kentucky/Louisville:20251115T110000
DTSTAMP:20260421T060158
CREATED:20251015T144337Z
LAST-MODIFIED:20251015T144337Z
UID:10002304-1763204400-1763204400@www.laruelibrary.org
SUMMARY:Fall Tie-Dye Shirts
DESCRIPTION:Join us on Saturday\, November 15th @ 11:00am to make Fall Tie-Dye Shirts! \nCall to register. Middle School – Teens
URL:https://www.laruelibrary.org/event/fall-tie-dye-shirts/
LOCATION:LaRue County Public Library\, 215 Lincoln Drive\, Hodgenville\, KY\, 42748\, United States
CATEGORIES:High School,Middle School,Youth Events
ATTACH;FMTTYPE=image/png:https://www.laruelibrary.org/wp-content/uploads/2025/10/fall11.png
ORGANIZER;CN="LaRue Public Library":MAILTO:info@laruelibrary.org
END:VEVENT
BEGIN:VEVENT
DTSTART;TZID=America/Kentucky/Louisville:20251118T150000
DTEND;TZID=America/Kentucky/Louisville:20251118T150000
DTSTAMP:20260421T060158
CREATED:20251014T204935Z
LAST-MODIFIED:20251014T204935Z
UID:10002300-1763478000-1763478000@www.laruelibrary.org
SUMMARY:Twine Pumpkins
DESCRIPTION:Join us on Tuesday\, November 18th @ 3:00pm to make twine pumpkins and name tags! \nAdults and Teens. Call to register. Class limit of 20.
URL:https://www.laruelibrary.org/event/twine-pumpkins/
LOCATION:LaRue County Public Library\, 215 Lincoln Drive\, Hodgenville\, KY\, 42748\, United States
CATEGORIES:Adult,Adult Events,High School,Youth Events
ATTACH;FMTTYPE=image/png:https://www.laruelibrary.org/wp-content/uploads/2025/10/twine11.png
ORGANIZER;CN="LaRue Public Library":MAILTO:info@laruelibrary.org
END:VEVENT
BEGIN:VEVENT
DTSTART;TZID=America/Kentucky/Louisville:20251120T123000
DTEND;TZID=America/Kentucky/Louisville:20251120T173000
DTSTAMP:20260421T060158
CREATED:20251014T204303Z
LAST-MODIFIED:20251014T204303Z
UID:10002298-1763641800-1763659800@www.laruelibrary.org
SUMMARY:Blood Drive
DESCRIPTION:Come down to the Library on Thursday\, November 20th from 12:30pm-5:30pm to donate blood to the American Red Cross. \nHelp do your part! Schedule appointment now to save a life at redcross.org. \nThis program is designed for Teens & Adults.
URL:https://www.laruelibrary.org/event/blood-drive/
LOCATION:LaRue County Public Library\, 215 Lincoln Drive\, Hodgenville\, KY\, 42748\, United States
CATEGORIES:Adult,Adult Events,High School,Youth Events
ATTACH;FMTTYPE=image/png:https://www.laruelibrary.org/wp-content/uploads/2025/10/blood11.png
ORGANIZER;CN="LaRue Public Library":MAILTO:info@laruelibrary.org
END:VEVENT
END:VCALENDAR