BEGIN:VCALENDAR
VERSION:2.0
PRODID:-//LaRue County Public Library - ECPv6.15.20//NONSGML v1.0//EN
CALSCALE:GREGORIAN
METHOD:PUBLISH
X-ORIGINAL-URL:https://www.laruelibrary.org
X-WR-CALDESC:Events for LaRue County Public Library
REFRESH-INTERVAL;VALUE=DURATION:PT1H
X-Robots-Tag:noindex
X-PUBLISHED-TTL:PT1H
BEGIN:VTIMEZONE
TZID:America/Kentucky/Louisville
BEGIN:DAYLIGHT
TZOFFSETFROM:-0500
TZOFFSETTO:-0400
TZNAME:EDT
DTSTART:20240310T070000
END:DAYLIGHT
BEGIN:STANDARD
TZOFFSETFROM:-0400
TZOFFSETTO:-0500
TZNAME:EST
DTSTART:20241103T060000
END:STANDARD
BEGIN:DAYLIGHT
TZOFFSETFROM:-0500
TZOFFSETTO:-0400
TZNAME:EDT
DTSTART:20250309T070000
END:DAYLIGHT
BEGIN:STANDARD
TZOFFSETFROM:-0400
TZOFFSETTO:-0500
TZNAME:EST
DTSTART:20251102T060000
END:STANDARD
BEGIN:DAYLIGHT
TZOFFSETFROM:-0500
TZOFFSETTO:-0400
TZNAME:EDT
DTSTART:20260308T070000
END:DAYLIGHT
BEGIN:STANDARD
TZOFFSETFROM:-0400
TZOFFSETTO:-0500
TZNAME:EST
DTSTART:20261101T060000
END:STANDARD
END:VTIMEZONE
BEGIN:VEVENT
DTSTART;TZID=America/Kentucky/Louisville:20251205T150000
DTEND;TZID=America/Kentucky/Louisville:20251205T150000
DTSTAMP:20260421T044207
CREATED:20251115T155948Z
LAST-MODIFIED:20251115T155948Z
UID:10002832-1764946800-1764946800@www.laruelibrary.org
SUMMARY:Snow Globes
DESCRIPTION:Join us on December 5 at 3 PM for a Snow Globes workshop for teens and adults. Registration is required\, and participants are welcome to bring their own miniatures to include\, though the library will also provide a selection of small pieces for your creation.
URL:https://www.laruelibrary.org/event/snow-globes-2/
LOCATION:LaRue County Public Library\, 215 Lincoln Drive\, Hodgenville\, KY\, 42748\, United States
CATEGORIES:Adult,Adult Events,High School,Middle School
ATTACH;FMTTYPE=image/png:https://www.laruelibrary.org/wp-content/uploads/2025/11/Screenshot-2025-11-15-at-10.57.44-AM.png
END:VEVENT
BEGIN:VEVENT
DTSTART;TZID=America/Kentucky/Louisville:20251209T150000
DTEND;TZID=America/Kentucky/Louisville:20251209T150000
DTSTAMP:20260421T044207
CREATED:20251115T161037Z
LAST-MODIFIED:20251115T161037Z
UID:10002834-1765292400-1765292400@www.laruelibrary.org
SUMMARY:Christmas Centerpieces
DESCRIPTION:Join us on Tuesday\, December 9 at 3 PM for a Christmas Centerpiece craft workshop for teens and adults. Registration is required\, and participants are welcome to bring additional floral supplies—such as floral wire or winter floral décor—to customize their creations.
URL:https://www.laruelibrary.org/event/christmas-centerpieces/
LOCATION:LaRue County Public Library\, 215 Lincoln Drive\, Hodgenville\, KY\, 42748\, United States
CATEGORIES:Adult,Adult Events,High School,Middle School
END:VEVENT
BEGIN:VEVENT
DTSTART;TZID=America/Kentucky/Louisville:20251211T170000
DTEND;TZID=America/Kentucky/Louisville:20251211T170000
DTSTAMP:20260421T044207
CREATED:20251115T171938Z
LAST-MODIFIED:20251115T171938Z
UID:10002838-1765472400-1765472400@www.laruelibrary.org
SUMMARY:Cookie Exchange and Christmas Tree Craft
DESCRIPTION:Teens and adults are invited to celebrate the season with our Cookie Exchange and Christmas Tree Craft program on Thursday\, December 11th at 5 PM. Please register ahead of time and remember to bring two dozen cookies and the recipe to contribute to the exchange.
URL:https://www.laruelibrary.org/event/cookie-exchange-and-christmas-tree-craft/
LOCATION:LaRue County Public Library\, 215 Lincoln Drive\, Hodgenville\, KY\, 42748\, United States
CATEGORIES:Adult,Adult Events,High School,Middle School
ATTACH;FMTTYPE=image/png:https://www.laruelibrary.org/wp-content/uploads/2025/11/Screenshot-2025-11-15-at-12.17.29-PM.png
END:VEVENT
BEGIN:VEVENT
DTSTART;TZID=America/Kentucky/Louisville:20251212T150000
DTEND;TZID=America/Kentucky/Louisville:20251212T150000
DTSTAMP:20260421T044207
CREATED:20251115T172559Z
LAST-MODIFIED:20251115T172614Z
UID:10002839-1765551600-1765551600@www.laruelibrary.org
SUMMARY:Needle Felted Ornaments
DESCRIPTION:Get crafty this holiday season! Teens and adults can learn the art of needle felting and create ornaments to take home on Friday\, December 12th at 3 PM.
URL:https://www.laruelibrary.org/event/needle-felted-ornaments/
LOCATION:LaRue County Public Library\, 215 Lincoln Drive\, Hodgenville\, KY\, 42748\, United States
CATEGORIES:Adult,Adult Events,High School,Middle School
ATTACH;FMTTYPE=image/png:https://www.laruelibrary.org/wp-content/uploads/2025/11/Screenshot-2025-11-15-at-12.25.42-PM.png
END:VEVENT
BEGIN:VEVENT
DTSTART;TZID=America/Kentucky/Louisville:20251212T150000
DTEND;TZID=America/Kentucky/Louisville:20251212T150000
DTSTAMP:20260421T044207
CREATED:20251115T173158Z
LAST-MODIFIED:20251115T173158Z
UID:10002840-1765551600-1765551600@www.laruelibrary.org
SUMMARY:Puzzle Piece Reindeer
DESCRIPTION:Middle and high school students are invited to create festive Puzzle Piece Reindeer on Friday\, December 12th at 3:00 PM. Registration is required to secure your spot in this fun\, hands-on holiday craft.
URL:https://www.laruelibrary.org/event/puzzle-piece-reindeer/
LOCATION:LaRue County Public Library\, 215 Lincoln Drive\, Hodgenville\, KY\, 42748\, United States
CATEGORIES:High School,Middle School
ATTACH;FMTTYPE=image/png:https://www.laruelibrary.org/wp-content/uploads/2025/11/Screenshot-2025-11-15-at-12.30.32-PM.png
END:VEVENT
BEGIN:VEVENT
DTSTART;TZID=America/Kentucky/Louisville:20251216T170000
DTEND;TZID=America/Kentucky/Louisville:20251216T170000
DTSTAMP:20260421T044207
CREATED:20251118T144058Z
LAST-MODIFIED:20251118T160413Z
UID:10002852-1765904400-1765904400@www.laruelibrary.org
SUMMARY:ASL - American Sign Language
DESCRIPTION:Join us on Tuesday\, December 16th at 5:00pm for an ASL class. \nClass limit of 24. Teens and Adults. Call to sign up.
URL:https://www.laruelibrary.org/event/asl-american-sign-language-2/
LOCATION:LaRue County Public Library\, 215 Lincoln Drive\, Hodgenville\, KY\, 42748\, United States
CATEGORIES:Adult,Adult Events,High School,Youth Events
ATTACH;FMTTYPE=image/png:https://www.laruelibrary.org/wp-content/uploads/2025/11/asl12.png
ORGANIZER;CN="LaRue Public Library":MAILTO:info@laruelibrary.org
END:VEVENT
BEGIN:VEVENT
DTSTART;TZID=America/Kentucky/Louisville:20251218T153000
DTEND;TZID=America/Kentucky/Louisville:20251218T153000
DTSTAMP:20260421T044207
CREATED:20251118T195738Z
LAST-MODIFIED:20251118T195738Z
UID:10002862-1766071800-1766071800@www.laruelibrary.org
SUMMARY:Decorating Stockings
DESCRIPTION:Join us on Thursday\, December 18th at 3:30pm to decorate Christmas stockings! \nMiddle School ages – Age 18. Call to register. Class limit of 6.
URL:https://www.laruelibrary.org/event/decorating-stockings/
LOCATION:LaRue County Public Library\, 215 Lincoln Drive\, Hodgenville\, KY\, 42748\, United States
CATEGORIES:High School,Middle School,Youth Events
ATTACH;FMTTYPE=image/png:https://www.laruelibrary.org/wp-content/uploads/2025/11/stockings12.png
ORGANIZER;CN="LaRue Public Library":MAILTO:info@laruelibrary.org
END:VEVENT
BEGIN:VEVENT
DTSTART;TZID=America/Kentucky/Louisville:20251223T150000
DTEND;TZID=America/Kentucky/Louisville:20251223T150000
DTSTAMP:20260421T044207
CREATED:20251118T164139Z
LAST-MODIFIED:20251118T164139Z
UID:10002857-1766502000-1766502000@www.laruelibrary.org
SUMMARY:Snowmen Ornaments & Christmas Tags
DESCRIPTION:Join us on Tuesday\, December 23rd at 3:00pm to make a wonderful Christmas craft! \nTeens and Adults. Class limit of 20. Call to register.
URL:https://www.laruelibrary.org/event/snowmen-ornaments-christmas-tags/
LOCATION:LaRue County Public Library\, 215 Lincoln Drive\, Hodgenville\, KY\, 42748\, United States
CATEGORIES:Adult,Adult Events,High School,Youth Events
ATTACH;FMTTYPE=image/png:https://www.laruelibrary.org/wp-content/uploads/2025/11/snowman12.png
ORGANIZER;CN="LaRue Public Library":MAILTO:info@laruelibrary.org
END:VEVENT
BEGIN:VEVENT
DTSTART;TZID=America/Kentucky/Louisville:20251223T150000
DTEND;TZID=America/Kentucky/Louisville:20251223T150000
DTSTAMP:20260421T044207
CREATED:20251118T200800Z
LAST-MODIFIED:20251118T200800Z
UID:10002865-1766502000-1766502000@www.laruelibrary.org
SUMMARY:Pine Cone Gnomes
DESCRIPTION:Join us on Tuesday\, December 23rd at 3:00pm to make Pine Cone Gnomes! \nAges Middle School – Teens. Call to register.
URL:https://www.laruelibrary.org/event/pine-cone-gnomes/
LOCATION:LaRue County Public Library\, 215 Lincoln Drive\, Hodgenville\, KY\, 42748\, United States
CATEGORIES:High School,Middle School,Youth Events
ATTACH;FMTTYPE=image/png:https://www.laruelibrary.org/wp-content/uploads/2025/11/gnomes12.png
ORGANIZER;CN="LaRue Public Library":MAILTO:info@laruelibrary.org
END:VEVENT
END:VCALENDAR