BEGIN:VCALENDAR
VERSION:2.0
PRODID:-//LaRue County Public Library - ECPv6.15.20//NONSGML v1.0//EN
CALSCALE:GREGORIAN
METHOD:PUBLISH
X-ORIGINAL-URL:https://www.laruelibrary.org
X-WR-CALDESC:Events for LaRue County Public Library
REFRESH-INTERVAL;VALUE=DURATION:PT1H
X-Robots-Tag:noindex
X-PUBLISHED-TTL:PT1H
BEGIN:VTIMEZONE
TZID:UTC
BEGIN:STANDARD
TZOFFSETFROM:+0000
TZOFFSETTO:+0000
TZNAME:UTC
DTSTART:20220101T000000
END:STANDARD
END:VTIMEZONE
BEGIN:VEVENT
DTSTART;VALUE=DATE:20230331
DTEND;VALUE=DATE:20230404
DTSTAMP:20260420T010229
CREATED:20230331T213031Z
LAST-MODIFIED:20230404T005058Z
UID:10000050-1680220800-1680566399@www.laruelibrary.org
SUMMARY:Blue Door Decoration Contest
DESCRIPTION:April is National Child Abuse Awareness Month. To raise awareness\, we’re asking you to decorate your door blue! Blue Door Decoration Contest: Post a picture of your Blue Door to Facebook by April 3rd. Prizes for top three doors! See Facebook for details. \nThis program is designed for Families (all ages). 
URL:https://www.laruelibrary.org/event/blue-door-decoration-contest/
LOCATION:LaRue County Public Library\, 215 Lincoln Drive\, Hodgenville\, KY\, 42748\, United States
CATEGORIES:Adult,Adult Events,Age Under 5 Years Old,Ages 0 - 36 Months,Family,Grade School,High School,Middle School,Youth Events
ATTACH;FMTTYPE=image/png:https://www.laruelibrary.org/wp-content/uploads/2023/03/blue-door-event2.png
ORGANIZER;CN="LaRue Public Library":MAILTO:info@laruelibrary.org
END:VEVENT
END:VCALENDAR