BEGIN:VCALENDAR
VERSION:2.0
PRODID:-//LaRue County Public Library - ECPv6.15.20//NONSGML v1.0//EN
CALSCALE:GREGORIAN
METHOD:PUBLISH
X-ORIGINAL-URL:https://www.laruelibrary.org
X-WR-CALDESC:Events for LaRue County Public Library
REFRESH-INTERVAL;VALUE=DURATION:PT1H
X-Robots-Tag:noindex
X-PUBLISHED-TTL:PT1H
BEGIN:VTIMEZONE
TZID:UTC
BEGIN:STANDARD
TZOFFSETFROM:+0000
TZOFFSETTO:+0000
TZNAME:UTC
DTSTART:20220101T000000
END:STANDARD
END:VTIMEZONE
BEGIN:VEVENT
DTSTART;TZID=UTC:20230407T090000
DTEND;TZID=UTC:20230407T170000
DTSTAMP:20260420T010249
CREATED:20230330T193629Z
LAST-MODIFIED:20230404T004533Z
UID:10000019-1680858000-1680886800@www.laruelibrary.org
SUMMARY:Wear Blue Day
DESCRIPTION:Join us in wearing Blue for National Wear Blue Day in honor of National Child Abuse Awareness Month! April 7th all day. \nThis program is designed for Families (all ages). 
URL:https://www.laruelibrary.org/event/wear-blue-day/
LOCATION:LaRue County Public Library\, 215 Lincoln Drive\, Hodgenville\, KY\, 42748\, United States
CATEGORIES:Adult,Adult Events,Age Under 5 Years Old,Ages 0 - 36 Months,Family,Grade School,High School,Middle School,Youth Events
ATTACH;FMTTYPE=image/png:https://www.laruelibrary.org/wp-content/uploads/2023/03/twin-brothers-wearing-blue.png
ORGANIZER;CN="LaRue Public Library":MAILTO:info@laruelibrary.org
END:VEVENT
BEGIN:VEVENT
DTSTART;TZID=UTC:20230407T153000
DTEND;TZID=UTC:20230407T153000
DTSTAMP:20260420T010249
CREATED:20230330T192730Z
LAST-MODIFIED:20230404T004309Z
UID:10000017-1680881400-1680881400@www.laruelibrary.org
SUMMARY:Recycling Class
DESCRIPTION:Gonna have some interesting things to discuss at our recycling class. Come on over to the library. April 7th @ 3:30pm. \nThis program is designed for Teens and Adults.
URL:https://www.laruelibrary.org/event/recycling-class/
LOCATION:LaRue County Public Library\, 215 Lincoln Drive\, Hodgenville\, KY\, 42748\, United States
CATEGORIES:Adult,Adult Events,High School,Youth Events
ATTACH;FMTTYPE=image/png:https://www.laruelibrary.org/wp-content/uploads/2023/03/Recycle-sorting-plastic.png
ORGANIZER;CN="LaRue Public Library":MAILTO:info@laruelibrary.org
END:VEVENT
END:VCALENDAR