BEGIN:VCALENDAR
VERSION:2.0
PRODID:-//LaRue County Public Library - ECPv6.15.20//NONSGML v1.0//EN
CALSCALE:GREGORIAN
METHOD:PUBLISH
X-ORIGINAL-URL:https://www.laruelibrary.org
X-WR-CALDESC:Events for LaRue County Public Library
REFRESH-INTERVAL;VALUE=DURATION:PT1H
X-Robots-Tag:noindex
X-PUBLISHED-TTL:PT1H
BEGIN:VTIMEZONE
TZID:UTC
BEGIN:STANDARD
TZOFFSETFROM:+0000
TZOFFSETTO:+0000
TZNAME:UTC
DTSTART:20220101T000000
END:STANDARD
END:VTIMEZONE
BEGIN:VEVENT
DTSTART;TZID=UTC:20230414T150000
DTEND;TZID=UTC:20230414T150000
DTSTAMP:20260420T011410
CREATED:20230330T201451Z
LAST-MODIFIED:20230404T212319Z
UID:10000026-1681484400-1681484400@www.laruelibrary.org
SUMMARY:Derby Hats
DESCRIPTION:Create your own Derby Hat! Even if you aren’t going to the derby\, it’s still fun to make a hat to wear. Bring a hat and decorations. Larinda DeSpain will be available to give you ideas and suggestions. We will have a few items on hand. Call to Register\, 270-358-3851. April 14th @ 3:00pm. \nThis program is designed for Teens and Adults.
URL:https://www.laruelibrary.org/event/derby-hats/
LOCATION:LaRue County Public Library\, 215 Lincoln Drive\, Hodgenville\, KY\, 42748\, United States
CATEGORIES:Adult,Adult Events,High School
ATTACH;FMTTYPE=image/png:https://www.laruelibrary.org/wp-content/uploads/2023/04/DerbyHat-LarueEvent.png
ORGANIZER;CN="LaRue Public Library":MAILTO:info@laruelibrary.org
END:VEVENT
END:VCALENDAR