BEGIN:VCALENDAR
VERSION:2.0
PRODID:-//LaRue County Public Library - ECPv6.15.20//NONSGML v1.0//EN
CALSCALE:GREGORIAN
METHOD:PUBLISH
X-ORIGINAL-URL:https://www.laruelibrary.org
X-WR-CALDESC:Events for LaRue County Public Library
REFRESH-INTERVAL;VALUE=DURATION:PT1H
X-Robots-Tag:noindex
X-PUBLISHED-TTL:PT1H
BEGIN:VTIMEZONE
TZID:UTC
BEGIN:STANDARD
TZOFFSETFROM:+0000
TZOFFSETTO:+0000
TZNAME:UTC
DTSTART:20220101T000000
END:STANDARD
END:VTIMEZONE
BEGIN:VEVENT
DTSTART;TZID=UTC:20230422T120000
DTEND;TZID=UTC:20230422T120000
DTSTAMP:20260420T011409
CREATED:20230221T025200Z
LAST-MODIFIED:20230407T064140Z
UID:10000001-1682164800-1682164800@www.laruelibrary.org
SUMMARY:Teen Book to Movie Club
DESCRIPTION:Teens\, this one is for you! Lunch and a movie Saturday\, April 22nd at 12:00pm. (Lunch is provided). We will provide you a copy of “Little Women” to keep. Call 270-358-3851 and sign up by March 1 to participate! Open to all teens! \n(Note: two chances to discuss on April 17 book discussion is at the high school in the library at 11 a.m. and April 18 is at the LaRue County Public Library at 4 p.m.) \nThis program is designed for Teens.
URL:https://www.laruelibrary.org/event/teen-book-movie-club/
LOCATION:LaRue County Public Library\, 215 Lincoln Drive\, Hodgenville\, KY\, 42748\, United States
CATEGORIES:High School,Youth Events
ORGANIZER;CN="LaRue Public Library":MAILTO:info@laruelibrary.org
END:VEVENT
END:VCALENDAR