BEGIN:VCALENDAR
VERSION:2.0
PRODID:-//LaRue County Public Library - ECPv6.15.20//NONSGML v1.0//EN
CALSCALE:GREGORIAN
METHOD:PUBLISH
X-ORIGINAL-URL:https://www.laruelibrary.org
X-WR-CALDESC:Events for LaRue County Public Library
REFRESH-INTERVAL;VALUE=DURATION:PT1H
X-Robots-Tag:noindex
X-PUBLISHED-TTL:PT1H
BEGIN:VTIMEZONE
TZID:UTC
BEGIN:STANDARD
TZOFFSETFROM:+0000
TZOFFSETTO:+0000
TZNAME:UTC
DTSTART:20220101T000000
END:STANDARD
END:VTIMEZONE
BEGIN:VEVENT
DTSTART;TZID=UTC:20230425T150000
DTEND;TZID=UTC:20230425T150000
DTSTAMP:20260420T011410
CREATED:20230331T022055Z
LAST-MODIFIED:20230404T211646Z
UID:10000044-1682434800-1682434800@www.laruelibrary.org
SUMMARY:Polymer Clay Class
DESCRIPTION:Join us for a Polymer Clay class on Tuesday\, April 25th @ 3:00 pm. Please call to register\, 270-358-3851. \nThis program is designed for Teens and Adults.
URL:https://www.laruelibrary.org/event/polymer-clay-class/
LOCATION:LaRue County Public Library\, 215 Lincoln Drive\, Hodgenville\, KY\, 42748\, United States
CATEGORIES:Adult,Adult Events,High School,Youth Events
ORGANIZER;CN="LaRue Public Library":MAILTO:info@laruelibrary.org
END:VEVENT
END:VCALENDAR