BEGIN:VCALENDAR
VERSION:2.0
PRODID:-//LaRue County Public Library - ECPv6.15.20//NONSGML v1.0//EN
CALSCALE:GREGORIAN
METHOD:PUBLISH
X-ORIGINAL-URL:https://www.laruelibrary.org
X-WR-CALDESC:Events for LaRue County Public Library
REFRESH-INTERVAL;VALUE=DURATION:PT1H
X-Robots-Tag:noindex
X-PUBLISHED-TTL:PT1H
BEGIN:VTIMEZONE
TZID:America/Kentucky/Louisville
BEGIN:DAYLIGHT
TZOFFSETFROM:-0500
TZOFFSETTO:-0400
TZNAME:EDT
DTSTART:20220313T070000
END:DAYLIGHT
BEGIN:STANDARD
TZOFFSETFROM:-0400
TZOFFSETTO:-0500
TZNAME:EST
DTSTART:20221106T060000
END:STANDARD
BEGIN:DAYLIGHT
TZOFFSETFROM:-0500
TZOFFSETTO:-0400
TZNAME:EDT
DTSTART:20230312T070000
END:DAYLIGHT
BEGIN:STANDARD
TZOFFSETFROM:-0400
TZOFFSETTO:-0500
TZNAME:EST
DTSTART:20231105T060000
END:STANDARD
BEGIN:DAYLIGHT
TZOFFSETFROM:-0500
TZOFFSETTO:-0400
TZNAME:EDT
DTSTART:20240310T070000
END:DAYLIGHT
BEGIN:STANDARD
TZOFFSETFROM:-0400
TZOFFSETTO:-0500
TZNAME:EST
DTSTART:20241103T060000
END:STANDARD
END:VTIMEZONE
BEGIN:VEVENT
DTSTART;TZID=America/Kentucky/Louisville:20230504T170000
DTEND;TZID=America/Kentucky/Louisville:20230504T170000
DTSTAMP:20260419T234409
CREATED:20230421T173741Z
LAST-MODIFIED:20230421T173741Z
UID:10000057-1683219600-1683219600@www.laruelibrary.org
SUMMARY:Mental Health Awareness Program
DESCRIPTION:Mental Health Awareness Program – May is Mental Health Awareness Month #breakthestigma\nJoin us May 4th @ 5:00pm. \nThis program is designed for Teens and Adults.
URL:https://www.laruelibrary.org/event/mental-health-awareness-program/
LOCATION:LaRue County Public Library\, 215 Lincoln Drive\, Hodgenville\, KY\, 42748\, United States
CATEGORIES:Adult,Adult Events,High School
ATTACH;FMTTYPE=image/png:https://www.laruelibrary.org/wp-content/uploads/2023/04/mentalhealth-may.png
ORGANIZER;CN="LaRue Public Library":MAILTO:info@laruelibrary.org
END:VEVENT
END:VCALENDAR