BEGIN:VCALENDAR
VERSION:2.0
PRODID:-//LaRue County Public Library - ECPv6.15.20//NONSGML v1.0//EN
CALSCALE:GREGORIAN
METHOD:PUBLISH
X-ORIGINAL-URL:https://www.laruelibrary.org
X-WR-CALDESC:Events for LaRue County Public Library
REFRESH-INTERVAL;VALUE=DURATION:PT1H
X-Robots-Tag:noindex
X-PUBLISHED-TTL:PT1H
BEGIN:VTIMEZONE
TZID:America/Kentucky/Louisville
BEGIN:DAYLIGHT
TZOFFSETFROM:-0500
TZOFFSETTO:-0400
TZNAME:EDT
DTSTART:20220313T070000
END:DAYLIGHT
BEGIN:STANDARD
TZOFFSETFROM:-0400
TZOFFSETTO:-0500
TZNAME:EST
DTSTART:20221106T060000
END:STANDARD
BEGIN:DAYLIGHT
TZOFFSETFROM:-0500
TZOFFSETTO:-0400
TZNAME:EDT
DTSTART:20230312T070000
END:DAYLIGHT
BEGIN:STANDARD
TZOFFSETFROM:-0400
TZOFFSETTO:-0500
TZNAME:EST
DTSTART:20231105T060000
END:STANDARD
BEGIN:DAYLIGHT
TZOFFSETFROM:-0500
TZOFFSETTO:-0400
TZNAME:EDT
DTSTART:20240310T070000
END:DAYLIGHT
BEGIN:STANDARD
TZOFFSETFROM:-0400
TZOFFSETTO:-0500
TZNAME:EST
DTSTART:20241103T060000
END:STANDARD
END:VTIMEZONE
BEGIN:VEVENT
DTSTART;TZID=America/Kentucky/Louisville:20230613T150000
DTEND;TZID=America/Kentucky/Louisville:20230613T150000
DTSTAMP:20260419T215400
CREATED:20230519T204117Z
LAST-MODIFIED:20230523T201304Z
UID:10000118-1686668400-1686668400@www.laruelibrary.org
SUMMARY:Let's Grow Mushrooms!
DESCRIPTION:Let’s Grow Mushrooms for Summer Reading Food and Drink Week. Join us on Tuesday\, June 13th @ 3:00pm. Heather Barnes will be doing a hands on workshop. You will be making and inoculating your own grow kit. These are edible mushrooms. Please bring a clean 2 litter plastic bottle. Class of 20. You must be preregistered for the event. Please call to register\, 270-358-3851. \nThis program is designed for Teens and Adults. 
URL:https://www.laruelibrary.org/event/growing-mushrooms/
LOCATION:LaRue County Public Library\, 215 Lincoln Drive\, Hodgenville\, KY\, 42748\, United States
CATEGORIES:Adult,Adult Events,High School,Youth Events
ORGANIZER;CN="LaRue Public Library":MAILTO:info@laruelibrary.org
END:VEVENT
END:VCALENDAR