BEGIN:VCALENDAR
VERSION:2.0
PRODID:-//LaRue County Public Library - ECPv6.15.20//NONSGML v1.0//EN
CALSCALE:GREGORIAN
METHOD:PUBLISH
X-WR-CALNAME:LaRue County Public Library
X-ORIGINAL-URL:https://www.laruelibrary.org
X-WR-CALDESC:Events for LaRue County Public Library
REFRESH-INTERVAL;VALUE=DURATION:PT1H
X-Robots-Tag:noindex
X-PUBLISHED-TTL:PT1H
BEGIN:VTIMEZONE
TZID:America/Kentucky/Louisville
BEGIN:DAYLIGHT
TZOFFSETFROM:-0500
TZOFFSETTO:-0400
TZNAME:EDT
DTSTART:20220313T070000
END:DAYLIGHT
BEGIN:STANDARD
TZOFFSETFROM:-0400
TZOFFSETTO:-0500
TZNAME:EST
DTSTART:20221106T060000
END:STANDARD
BEGIN:DAYLIGHT
TZOFFSETFROM:-0500
TZOFFSETTO:-0400
TZNAME:EDT
DTSTART:20230312T070000
END:DAYLIGHT
BEGIN:STANDARD
TZOFFSETFROM:-0400
TZOFFSETTO:-0500
TZNAME:EST
DTSTART:20231105T060000
END:STANDARD
BEGIN:DAYLIGHT
TZOFFSETFROM:-0500
TZOFFSETTO:-0400
TZNAME:EDT
DTSTART:20240310T070000
END:DAYLIGHT
BEGIN:STANDARD
TZOFFSETFROM:-0400
TZOFFSETTO:-0500
TZNAME:EST
DTSTART:20241103T060000
END:STANDARD
END:VTIMEZONE
BEGIN:VEVENT
DTSTART;TZID=America/Kentucky/Louisville:20231026T170000
DTEND;TZID=America/Kentucky/Louisville:20231026T170000
DTSTAMP:20260419T151748
CREATED:20230914T222813Z
LAST-MODIFIED:20231005T133651Z
UID:10000348-1698339600-1698339600@www.laruelibrary.org
SUMMARY:Bat Wreaths
DESCRIPTION:Let’s get crafty and ready for Halloween at the library making a Bat Wreath. We’ll be crafting a wreath similar to the one included in this post. This program is designed for teens and adults\, and spots are available for the first ten participants to sign up. To register\, call the library at 270-358-3851.
URL:https://www.laruelibrary.org/event/bat-wreaths/
LOCATION:LaRue County Public Library\, 215 Lincoln Drive\, Hodgenville\, KY\, 42748\, United States
CATEGORIES:Adult,High School,Middle School
END:VEVENT
END:VCALENDAR