BEGIN:VCALENDAR
VERSION:2.0
PRODID:-//LaRue County Public Library - ECPv6.15.20//NONSGML v1.0//EN
CALSCALE:GREGORIAN
METHOD:PUBLISH
X-WR-CALNAME:LaRue County Public Library
X-ORIGINAL-URL:https://www.laruelibrary.org
X-WR-CALDESC:Events for LaRue County Public Library
REFRESH-INTERVAL;VALUE=DURATION:PT1H
X-Robots-Tag:noindex
X-PUBLISHED-TTL:PT1H
BEGIN:VTIMEZONE
TZID:America/Kentucky/Louisville
BEGIN:DAYLIGHT
TZOFFSETFROM:-0500
TZOFFSETTO:-0400
TZNAME:EDT
DTSTART:20230312T070000
END:DAYLIGHT
BEGIN:STANDARD
TZOFFSETFROM:-0400
TZOFFSETTO:-0500
TZNAME:EST
DTSTART:20231105T060000
END:STANDARD
BEGIN:DAYLIGHT
TZOFFSETFROM:-0500
TZOFFSETTO:-0400
TZNAME:EDT
DTSTART:20240310T070000
END:DAYLIGHT
BEGIN:STANDARD
TZOFFSETFROM:-0400
TZOFFSETTO:-0500
TZNAME:EST
DTSTART:20241103T060000
END:STANDARD
BEGIN:DAYLIGHT
TZOFFSETFROM:-0500
TZOFFSETTO:-0400
TZNAME:EDT
DTSTART:20250309T070000
END:DAYLIGHT
BEGIN:STANDARD
TZOFFSETFROM:-0400
TZOFFSETTO:-0500
TZNAME:EST
DTSTART:20251102T060000
END:STANDARD
END:VTIMEZONE
BEGIN:VEVENT
DTSTART;TZID=America/Kentucky/Louisville:20240111T160000
DTEND;TZID=America/Kentucky/Louisville:20240111T160000
DTSTAMP:20260421T044217
CREATED:20231216T152413Z
LAST-MODIFIED:20231216T152413Z
UID:10000488-1704988800-1704988800@www.laruelibrary.org
SUMMARY:Make Your Own Stickers
DESCRIPTION:Celebrate National Sticker Day at the library on Thursday\, January 11th at 4:00 PM by making your own stickers. We’ll design them and laminate them. Families are welcome\, and all ages are welcome to participate.
URL:https://www.laruelibrary.org/event/make-your-own-stickers/
LOCATION:LaRue County Public Library\, 215 Lincoln Drive\, Hodgenville\, KY\, 42748\, United States
CATEGORIES:Adult,Adult Events,Family,Grade School,High School,Middle School,Youth Events
END:VEVENT
BEGIN:VEVENT
DTSTART;TZID=America/Kentucky/Louisville:20240111T160000
DTEND;TZID=America/Kentucky/Louisville:20240111T183000
DTSTAMP:20260421T044217
CREATED:20231216T152104Z
LAST-MODIFIED:20231216T152104Z
UID:10000487-1704988800-1704997800@www.laruelibrary.org
SUMMARY:New Year\, New You
DESCRIPTION:New year\, new you! Join us on Thursday\, January 11th any time from 4:00-6:30 for our health fair. Local businesses will be at the library to share health-related topics – everything from mind\, body\, and soul! Pneuma Body & Mind\, Communicare\, Lincoln Trail Health Department\, Humana\, Elevated Nutrition\, and Grandview Farm will be at the library to share.
URL:https://www.laruelibrary.org/event/new-year-new-you/
LOCATION:LaRue County Public Library\, 215 Lincoln Drive\, Hodgenville\, KY\, 42748\, United States
CATEGORIES:Adult,Family,Grade School,High School,Middle School
ATTACH;FMTTYPE=image/jpeg:https://www.laruelibrary.org/wp-content/uploads/2023/12/new_year_1_mob.jpeg
END:VEVENT
END:VCALENDAR