BEGIN:VCALENDAR
VERSION:2.0
PRODID:-//LaRue County Public Library - ECPv6.15.20//NONSGML v1.0//EN
CALSCALE:GREGORIAN
METHOD:PUBLISH
X-WR-CALNAME:LaRue County Public Library
X-ORIGINAL-URL:https://www.laruelibrary.org
X-WR-CALDESC:Events for LaRue County Public Library
REFRESH-INTERVAL;VALUE=DURATION:PT1H
X-Robots-Tag:noindex
X-PUBLISHED-TTL:PT1H
BEGIN:VTIMEZONE
TZID:America/Kentucky/Louisville
BEGIN:DAYLIGHT
TZOFFSETFROM:-0500
TZOFFSETTO:-0400
TZNAME:EDT
DTSTART:20250309T070000
END:DAYLIGHT
BEGIN:STANDARD
TZOFFSETFROM:-0400
TZOFFSETTO:-0500
TZNAME:EST
DTSTART:20251102T060000
END:STANDARD
BEGIN:DAYLIGHT
TZOFFSETFROM:-0500
TZOFFSETTO:-0400
TZNAME:EDT
DTSTART:20260308T070000
END:DAYLIGHT
BEGIN:STANDARD
TZOFFSETFROM:-0400
TZOFFSETTO:-0500
TZNAME:EST
DTSTART:20261101T060000
END:STANDARD
BEGIN:DAYLIGHT
TZOFFSETFROM:-0500
TZOFFSETTO:-0400
TZNAME:EDT
DTSTART:20270314T070000
END:DAYLIGHT
BEGIN:STANDARD
TZOFFSETFROM:-0400
TZOFFSETTO:-0500
TZNAME:EST
DTSTART:20271107T060000
END:STANDARD
END:VTIMEZONE
BEGIN:VEVENT
DTSTART;VALUE=DATE:20260413
DTEND;VALUE=DATE:20260418
DTSTAMP:20260425T125540
CREATED:20260316T193438Z
LAST-MODIFIED:20260316T193438Z
UID:10003334-1776038400-1776470399@www.laruelibrary.org
SUMMARY:Plant Swap
DESCRIPTION:Join us from Monday\, April 13th – Friday\, April 17th for the LCPL Plant Swap! \nBring One Plant\, Take One Plant. Houseplants and Perennials welcome! ALL PLANTS SHOULD BE HEALTHY. Please bring your plants in a container that you won’t want back!
URL:https://www.laruelibrary.org/event/plant-swap-4/
LOCATION:LaRue County Public Library\, 215 Lincoln Drive\, Hodgenville\, KY\, 42748\, United States
CATEGORIES:Adult,Adult Events,Everyone,Family,Youth Events
ATTACH;FMTTYPE=image/png:https://www.laruelibrary.org/wp-content/uploads/2026/03/plantApril.png
ORGANIZER;CN="LaRue Public Library":MAILTO:info@laruelibrary.org
END:VEVENT
BEGIN:VEVENT
DTSTART;TZID=America/Kentucky/Louisville:20260416T133000
DTEND;TZID=America/Kentucky/Louisville:20260416T133000
DTSTAMP:20260425T125540
CREATED:20260316T201946Z
LAST-MODIFIED:20260316T201946Z
UID:10003356-1776346200-1776346200@www.laruelibrary.org
SUMMARY:Story Time
DESCRIPTION:Join us for a fun and fantastic story and a craft on Tuesday at 11:00 AM and on Thursday at 1:30 PM! \nStory time is for children under the ages of 5. \nThis is a great opportunity to grow young readers. We make learning fun by introducing children to books\, love of reading\, and songs! We can’t wait to see you!
URL:https://www.laruelibrary.org/event/story-time-132/2026-04-16/
LOCATION:LaRue County Public Library\, 215 Lincoln Drive\, Hodgenville\, KY\, 42748\, United States
CATEGORIES:Age Under 5 Years Old,Youth Events
ATTACH;FMTTYPE=image/png:https://www.laruelibrary.org/wp-content/uploads/2026/03/maternityST.png
ORGANIZER;CN="LaRue Public Library":MAILTO:info@laruelibrary.org
END:VEVENT
BEGIN:VEVENT
DTSTART;TZID=America/Kentucky/Louisville:20260416T153000
DTEND;TZID=America/Kentucky/Louisville:20260416T153000
DTSTAMP:20260425T125540
CREATED:20260316T201523Z
LAST-MODIFIED:20260316T201523Z
UID:10003351-1776353400-1776353400@www.laruelibrary.org
SUMMARY:Book Club
DESCRIPTION:Come join us on Thursday\, April 16th at 3:30pm for Book Club! \nThis is an Adult program.
URL:https://www.laruelibrary.org/event/book-club-35/
LOCATION:LaRue County Public Library\, 215 Lincoln Drive\, Hodgenville\, KY\, 42748\, United States
CATEGORIES:Adult,Adult Events
ATTACH;FMTTYPE=image/jpeg:https://www.laruelibrary.org/wp-content/uploads/2023/07/bc2.jpg
ORGANIZER;CN="LaRue Public Library":MAILTO:info@laruelibrary.org
END:VEVENT
BEGIN:VEVENT
DTSTART;TZID=America/Kentucky/Louisville:20260416T163000
DTEND;TZID=America/Kentucky/Louisville:20260416T163000
DTSTAMP:20260425T125540
CREATED:20260316T201404Z
LAST-MODIFIED:20260316T201404Z
UID:10003350-1776357000-1776357000@www.laruelibrary.org
SUMMARY:Board Meeting
DESCRIPTION:LCPL Board Meeting on Thursday\, April 16th at 4:30pm. \nThis is for adults only.
URL:https://www.laruelibrary.org/event/board-meeting-31/
LOCATION:LaRue County Public Library\, 215 Lincoln Drive\, Hodgenville\, KY\, 42748\, United States
CATEGORIES:Adult,Adult Events
ATTACH;FMTTYPE=image/jpeg:https://www.laruelibrary.org/wp-content/uploads/2023/07/brm2.jpg
ORGANIZER;CN="LaRue Public Library":MAILTO:info@laruelibrary.org
END:VEVENT
BEGIN:VEVENT
DTSTART;TZID=America/Kentucky/Louisville:20260416T170000
DTEND;TZID=America/Kentucky/Louisville:20260416T170000
DTSTAMP:20260425T125540
CREATED:20260316T193726Z
LAST-MODIFIED:20260316T193726Z
UID:10003335-1776358800-1776358800@www.laruelibrary.org
SUMMARY:Meet Author: Ann Gabhart
DESCRIPTION:Join us on Thursday\, April 16th at 5:00pm to meet author Ann Gabhart! \nEveryone welcome
URL:https://www.laruelibrary.org/event/meet-author-ann-gabhart/
LOCATION:LaRue County Public Library\, 215 Lincoln Drive\, Hodgenville\, KY\, 42748\, United States
CATEGORIES:Adult,Adult Events,Everyone,Family,Youth Events
ATTACH;FMTTYPE=image/png:https://www.laruelibrary.org/wp-content/uploads/2026/03/authorApril.png
ORGANIZER;CN="LaRue Public Library":MAILTO:info@laruelibrary.org
END:VEVENT
BEGIN:VEVENT
DTSTART;TZID=America/Kentucky/Louisville:20260417T150000
DTEND;TZID=America/Kentucky/Louisville:20260417T150000
DTSTAMP:20260425T125540
CREATED:20260316T194157Z
LAST-MODIFIED:20260316T194157Z
UID:10003337-1776438000-1776438000@www.laruelibrary.org
SUMMARY:Beginner Crochet
DESCRIPTION:Join us on April 10th\, 17th\, and 24th at 3:00pm for a beginner crochet class! \nThis is a 3-week course and you MUST attend ALL THREE classes if you sign up! \nMaterials will be provided in a canvas bag for you to keep. \nRegistration required.
URL:https://www.laruelibrary.org/event/beginner-crochet/2026-04-17/
LOCATION:LaRue County Public Library\, 215 Lincoln Drive\, Hodgenville\, KY\, 42748\, United States
CATEGORIES:Adult,Adult Events,High School,Youth Events
ATTACH;FMTTYPE=image/png:https://www.laruelibrary.org/wp-content/uploads/2026/03/crochetApril.png
ORGANIZER;CN="LaRue Public Library":MAILTO:info@laruelibrary.org
END:VEVENT
BEGIN:VEVENT
DTSTART;TZID=America/Kentucky/Louisville:20260420T100000
DTEND;TZID=America/Kentucky/Louisville:20260420T100000
DTSTAMP:20260425T125540
CREATED:20260112T145648Z
LAST-MODIFIED:20260112T145648Z
UID:10002921-1776679200-1776679200@www.laruelibrary.org
SUMMARY:Stretch and Shine
DESCRIPTION:Ease into your week with Stretch and Shine\, a low-impact program focused on stretching and simple\, relaxing movements. Designed for adults of all mobility levels\, this session supports flexibility\, balance\, and a sense of calm. Join us at the library every Monday at 10 AM. No special equipment needed—just wear comfortable clothes and enjoy some time to move and unwind.
URL:https://www.laruelibrary.org/event/stretch-and-shine-58/2026-04-20/
LOCATION:LaRue County Public Library\, 215 Lincoln Drive\, Hodgenville\, KY\, 42748\, United States
CATEGORIES:Adult,Adult Events
ATTACH;FMTTYPE=image/png:https://www.laruelibrary.org/wp-content/uploads/2023/03/Stretch-Adult-Event-1.png
ORGANIZER;CN="LaRue Public Library":MAILTO:info@laruelibrary.org
END:VEVENT
BEGIN:VEVENT
DTSTART;TZID=America/Kentucky/Louisville:20260420T100000
DTEND;TZID=America/Kentucky/Louisville:20260420T100000
DTSTAMP:20260425T125540
CREATED:20260221T151547Z
LAST-MODIFIED:20260221T151547Z
UID:10003076-1776679200-1776679200@www.laruelibrary.org
SUMMARY:Stretch and Shine
DESCRIPTION:Ease into your week with Stretch and Shine\, a low-impact program focused on stretching and simple\, relaxing movements. Designed for adults of all mobility levels\, this session supports flexibility\, balance\, and a sense of calm. Join us at the library every Monday at 10 AM. No special equipment needed—just wear comfortable clothes and enjoy some time to move and unwind.
URL:https://www.laruelibrary.org/event/stretch-and-shine-59/2026-04-20/
LOCATION:LaRue County Public Library\, 215 Lincoln Drive\, Hodgenville\, KY\, 42748\, United States
CATEGORIES:Adult,Adult Events
ATTACH;FMTTYPE=image/png:https://www.laruelibrary.org/wp-content/uploads/2023/03/Stretch-Adult-Event-1.png
END:VEVENT
BEGIN:VEVENT
DTSTART;TZID=America/Kentucky/Louisville:20260420T140000
DTEND;TZID=America/Kentucky/Louisville:20260420T140000
DTSTAMP:20260425T125540
CREATED:20260112T150059Z
LAST-MODIFIED:20260112T150059Z
UID:10002972-1776693600-1776693600@www.laruelibrary.org
SUMMARY:Community Games
DESCRIPTION:Come and have some game day fun here at the library at 2:00 pm! Bring your friends\, family\, a board game (or choose one of ours)\, and enjoy! We’ll see you on Monday at 2 PM in the Community Room at the library.
URL:https://www.laruelibrary.org/event/community-games-52/2026-04-20/
LOCATION:LaRue County Public Library\, 215 Lincoln Drive\, Hodgenville\, KY\, 42748\, United States
CATEGORIES:Adult,Adult Events,Everyone,Family,Youth Events
ATTACH;FMTTYPE=image/jpeg:https://www.laruelibrary.org/wp-content/uploads/2025/01/game.jpeg
ORGANIZER;CN="LaRue Public Library":MAILTO:info@laruelibrary.org
END:VEVENT
BEGIN:VEVENT
DTSTART;TZID=America/Kentucky/Louisville:20260421T100000
DTEND;TZID=America/Kentucky/Louisville:20260421T100000
DTSTAMP:20260425T125540
CREATED:20260316T194752Z
LAST-MODIFIED:20260316T194752Z
UID:10003340-1776765600-1776765600@www.laruelibrary.org
SUMMARY:BINGOcize
DESCRIPTION:Join us on Tuesday\, April 21st at 10:00am for a health promotion program combining Bingo! with inclusive exercises for all! \nThis class is meant for Adults.
URL:https://www.laruelibrary.org/event/bingocize-16/
LOCATION:LaRue County Public Library\, 215 Lincoln Drive\, Hodgenville\, KY\, 42748\, United States
CATEGORIES:Adult,Adult Events
ATTACH;FMTTYPE=image/png:https://www.laruelibrary.org/wp-content/uploads/2026/03/bingoApril.png
ORGANIZER;CN="LaRue Public Library":MAILTO:info@laruelibrary.org
END:VEVENT
BEGIN:VEVENT
DTSTART;TZID=America/Kentucky/Louisville:20260421T110000
DTEND;TZID=America/Kentucky/Louisville:20260421T110000
DTSTAMP:20260425T125540
CREATED:20260316T194919Z
LAST-MODIFIED:20260316T194919Z
UID:10003341-1776769200-1776769200@www.laruelibrary.org
SUMMARY:Tai Chi
DESCRIPTION:Join us on Tuesday\, April 21st @ 11:15am to practice Tai Chi. \nTai Chi is a practice that involves a series of slow gentle movements and physical postures\, a meditative state of mind\, and controlled breathing. It originated as an ancient martial art in China and\, over time\, has become more focused on health promotion and rehabilitation. \nAdults Only.
URL:https://www.laruelibrary.org/event/tai-chi-13/
LOCATION:LaRue County Public Library\, 215 Lincoln Drive\, Hodgenville\, KY\, 42748\, United States
CATEGORIES:Adult,Adult Events
ATTACH;FMTTYPE=image/png:https://www.laruelibrary.org/wp-content/uploads/2026/03/taichiApril.png
ORGANIZER;CN="LaRue Public Library":MAILTO:info@laruelibrary.org
END:VEVENT
BEGIN:VEVENT
DTSTART;TZID=America/Kentucky/Louisville:20260421T110000
DTEND;TZID=America/Kentucky/Louisville:20260421T110000
DTSTAMP:20260425T125540
CREATED:20260316T201946Z
LAST-MODIFIED:20260316T201946Z
UID:10003357-1776769200-1776769200@www.laruelibrary.org
SUMMARY:Story Time
DESCRIPTION:Join us for a fun and fantastic story and a craft on Tuesday at 11:00 AM and on Thursday at 1:30 PM! \nStory time is for children under the ages of 5. \nThis is a great opportunity to grow young readers. We make learning fun by introducing children to books\, love of reading\, and songs! We can’t wait to see you!
URL:https://www.laruelibrary.org/event/story-time-132/2026-04-21/
LOCATION:LaRue County Public Library\, 215 Lincoln Drive\, Hodgenville\, KY\, 42748\, United States
CATEGORIES:Age Under 5 Years Old,Youth Events
ATTACH;FMTTYPE=image/png:https://www.laruelibrary.org/wp-content/uploads/2026/03/maternityST.png
ORGANIZER;CN="LaRue Public Library":MAILTO:info@laruelibrary.org
END:VEVENT
BEGIN:VEVENT
DTSTART;TZID=America/Kentucky/Louisville:20260421T153000
DTEND;TZID=America/Kentucky/Louisville:20260421T153000
DTSTAMP:20260425T125540
CREATED:20260316T202157Z
LAST-MODIFIED:20260316T202157Z
UID:10003361-1776785400-1776785400@www.laruelibrary.org
SUMMARY:LEGO Create
DESCRIPTION:Join us on Tuesday\, April 21st @ 3:30pm for free-building LEGO Create! \nGrade School – Teens
URL:https://www.laruelibrary.org/event/lego-create-9/
LOCATION:LaRue County Public Library\, 215 Lincoln Drive\, Hodgenville\, KY\, 42748\, United States
CATEGORIES:Family,Grade School,High School,Middle School,Youth Events
ATTACH;FMTTYPE=image/png:https://www.laruelibrary.org/wp-content/uploads/2026/03/legoApril.png
ORGANIZER;CN="LaRue Public Library":MAILTO:info@laruelibrary.org
END:VEVENT
BEGIN:VEVENT
DTSTART;TZID=America/Kentucky/Louisville:20260421T170000
DTEND;TZID=America/Kentucky/Louisville:20260421T170000
DTSTAMP:20260425T125540
CREATED:20260316T194538Z
LAST-MODIFIED:20260316T194538Z
UID:10003339-1776790800-1776790800@www.laruelibrary.org
SUMMARY:American Sign Language (ASL)
DESCRIPTION:Join us on Tuesday\, April 21st at 5:00pm for an ASL class. \nClass limit of 24. Everyone welcome. Call to sign up.
URL:https://www.laruelibrary.org/event/american-sign-language-asl-2/
LOCATION:LaRue County Public Library\, 215 Lincoln Drive\, Hodgenville\, KY\, 42748\, United States
CATEGORIES:Adult,Adult Events,Everyone,Family,Youth Events
ATTACH;FMTTYPE=image/png:https://www.laruelibrary.org/wp-content/uploads/2026/03/aslApril.png
ORGANIZER;CN="LaRue Public Library":MAILTO:info@laruelibrary.org
END:VEVENT
BEGIN:VEVENT
DTSTART;TZID=America/Kentucky/Louisville:20260422T180000
DTEND;TZID=America/Kentucky/Louisville:20260422T180000
DTSTAMP:20260425T125540
CREATED:20260316T201204Z
LAST-MODIFIED:20260316T201204Z
UID:10003349-1776880800-1776880800@www.laruelibrary.org
SUMMARY:Adult Book Club: Off-Site
DESCRIPTION:We will be meeting at Top Hat Tavern for Adult Book Club on Wednesday\, April 22nd at 6:00pm! \nAdults only.
URL:https://www.laruelibrary.org/event/adult-book-club-off-site-5/
LOCATION:LaRue County Public Library\, 215 Lincoln Drive\, Hodgenville\, KY\, 42748\, United States
CATEGORIES:Adult,Adult Events
ATTACH;FMTTYPE=image/png:https://www.laruelibrary.org/wp-content/uploads/2024/09/Offsite-Book-Club.png
ORGANIZER;CN="LaRue Public Library":MAILTO:info@laruelibrary.org
END:VEVENT
BEGIN:VEVENT
DTSTART;TZID=America/Kentucky/Louisville:20260423T100000
DTEND;TZID=America/Kentucky/Louisville:20260423T100000
DTSTAMP:20260425T125540
CREATED:20260316T195051Z
LAST-MODIFIED:20260316T195051Z
UID:10003342-1776938400-1776938400@www.laruelibrary.org
SUMMARY:Coffee for Veterans
DESCRIPTION:Join us on Thursday\, April 23rd at 10:00AM for Coffee for Veterans – spouses and partners are welcome.
URL:https://www.laruelibrary.org/event/coffee-for-veterans-25/
LOCATION:LaRue County Public Library\, 215 Lincoln Drive\, Hodgenville\, KY\, 42748\, United States
CATEGORIES:Adult,Adult Events
ATTACH;FMTTYPE=image/png:https://www.laruelibrary.org/wp-content/uploads/2026/03/coffeeApril.png
ORGANIZER;CN="LaRue Public Library":MAILTO:info@laruelibrary.org
END:VEVENT
BEGIN:VEVENT
DTSTART;TZID=America/Kentucky/Louisville:20260423T120000
DTEND;TZID=America/Kentucky/Louisville:20260423T133000
DTSTAMP:20260425T125540
CREATED:20260316T195857Z
LAST-MODIFIED:20260316T195857Z
UID:10003344-1776945600-1776951000@www.laruelibrary.org
SUMMARY:Cyber Security with SCRTC
DESCRIPTION:Join us on Thursday\, April 23rd from 12:00pm-1:30pm for a “Lunch and Learn” on cyber security! \nCall to register. Come with or without your computer!
URL:https://www.laruelibrary.org/event/cyber-security-with-scrtc/
LOCATION:LaRue County Public Library\, 215 Lincoln Drive\, Hodgenville\, KY\, 42748\, United States
CATEGORIES:Adult,Adult Events
ATTACH;FMTTYPE=image/png:https://www.laruelibrary.org/wp-content/uploads/2026/03/scrtcApril.png
ORGANIZER;CN="LaRue Public Library":MAILTO:info@laruelibrary.org
END:VEVENT
BEGIN:VEVENT
DTSTART;TZID=America/Kentucky/Louisville:20260423T120000
DTEND;TZID=America/Kentucky/Louisville:20260423T140000
DTSTAMP:20260425T125540
CREATED:20260316T200109Z
LAST-MODIFIED:20260316T200109Z
UID:10003345-1776945600-1776952800@www.laruelibrary.org
SUMMARY:KY Career Center
DESCRIPTION:Job search assistance (best resume practices\, personal branding\, leveling up job search strategies\, etc) on Thursday\, April 23rd from 12:00-2:00pm \nContact claudette@laruelibrary.org for more information
URL:https://www.laruelibrary.org/event/ky-career-center-5/
LOCATION:LaRue County Public Library\, 215 Lincoln Drive\, Hodgenville\, KY\, 42748\, United States
CATEGORIES:Adult,Adult Events
ATTACH;FMTTYPE=image/png:https://www.laruelibrary.org/wp-content/uploads/2026/03/careerApril.png
ORGANIZER;CN="LaRue Public Library":MAILTO:info@laruelibrary.org
END:VEVENT
BEGIN:VEVENT
DTSTART;TZID=America/Kentucky/Louisville:20260423T133000
DTEND;TZID=America/Kentucky/Louisville:20260423T133000
DTSTAMP:20260425T125540
CREATED:20260316T201946Z
LAST-MODIFIED:20260316T201946Z
UID:10003358-1776951000-1776951000@www.laruelibrary.org
SUMMARY:Story Time
DESCRIPTION:Join us for a fun and fantastic story and a craft on Tuesday at 11:00 AM and on Thursday at 1:30 PM! \nStory time is for children under the ages of 5. \nThis is a great opportunity to grow young readers. We make learning fun by introducing children to books\, love of reading\, and songs! We can’t wait to see you!
URL:https://www.laruelibrary.org/event/story-time-132/2026-04-23/
LOCATION:LaRue County Public Library\, 215 Lincoln Drive\, Hodgenville\, KY\, 42748\, United States
CATEGORIES:Age Under 5 Years Old,Youth Events
ATTACH;FMTTYPE=image/png:https://www.laruelibrary.org/wp-content/uploads/2026/03/maternityST.png
ORGANIZER;CN="LaRue Public Library":MAILTO:info@laruelibrary.org
END:VEVENT
BEGIN:VEVENT
DTSTART;TZID=America/Kentucky/Louisville:20260423T153000
DTEND;TZID=America/Kentucky/Louisville:20260423T153000
DTSTAMP:20260425T125540
CREATED:20260316T202423Z
LAST-MODIFIED:20260316T202423Z
UID:10003362-1776958200-1776958200@www.laruelibrary.org
SUMMARY:Earth Day Craft
DESCRIPTION:Join us on Thursday\, April 23rd at 3:30pm to make a fun and creative Earth Day craft! \nThis is a Family craft
URL:https://www.laruelibrary.org/event/earth-day-craft-2/
LOCATION:LaRue County Public Library\, 215 Lincoln Drive\, Hodgenville\, KY\, 42748\, United States
CATEGORIES:Family,Youth Events
ATTACH;FMTTYPE=image/png:https://www.laruelibrary.org/wp-content/uploads/2026/03/earthApril.png
ORGANIZER;CN="LaRue Public Library":MAILTO:info@laruelibrary.org
END:VEVENT
BEGIN:VEVENT
DTSTART;TZID=America/Kentucky/Louisville:20260423T170000
DTEND;TZID=America/Kentucky/Louisville:20260423T170000
DTSTAMP:20260425T125540
CREATED:20260316T195531Z
LAST-MODIFIED:20260316T195531Z
UID:10003343-1776963600-1776963600@www.laruelibrary.org
SUMMARY:Page to Plate
DESCRIPTION:Check out a cookbook and choose a recipe to make\, share\, and speak about on Thursday\, April 23rd at 5:00pm! \nChoose a recipe where a main ingredient is eggs! \nTeens and Adults. Call to register.
URL:https://www.laruelibrary.org/event/page-to-plate-4/
LOCATION:LaRue County Public Library\, 215 Lincoln Drive\, Hodgenville\, KY\, 42748\, United States
CATEGORIES:Adult,Adult Events,High School,Youth Events
ATTACH;FMTTYPE=image/png:https://www.laruelibrary.org/wp-content/uploads/2026/03/pageApril.png
ORGANIZER;CN="LaRue Public Library":MAILTO:info@laruelibrary.org
END:VEVENT
BEGIN:VEVENT
DTSTART;TZID=America/Kentucky/Louisville:20260424T093000
DTEND;TZID=America/Kentucky/Louisville:20260424T093000
DTSTAMP:20260425T125540
CREATED:20250916T201451Z
LAST-MODIFIED:20250916T201451Z
UID:10002278-1777023000-1777023000@www.laruelibrary.org
SUMMARY:Tiny Hawks Story Time
DESCRIPTION:Join us for a very special Tiny Hawks Story Time at 9:30am with assistance from Ellen Shelton! Each session\, children will receive a free educational take-home item/supplies (provided by the ALES Family Resource Center). \nThese story times/sessions will take place at LaRue County Public Library on Friday September 26th\, Friday October 24th\, November 21st\, January 30th\, February 27th\, March 27th\, and April 24th These story times/sessions are geared toward preschool age children (2-5 years old) and their caregiver(s). \nSign-up is NOT required. \nFor more info\, contact: \nTaylor Metcalf; LCPL Children’s Librarian @ 358-3851 \nEllen Shelton; ALES FRC Coordinator @ 358-7130
URL:https://www.laruelibrary.org/event/tiny-hawks-story-time-2/2026-04-24/
LOCATION:LaRue County Public Library\, 215 Lincoln Drive\, Hodgenville\, KY\, 42748\, United States
CATEGORIES:Age Under 5 Years Old,Youth Events
ATTACH;FMTTYPE=image/png:https://www.laruelibrary.org/wp-content/uploads/2025/08/tiny.png
ORGANIZER;CN="LaRue Public Library":MAILTO:info@laruelibrary.org
END:VEVENT
BEGIN:VEVENT
DTSTART;TZID=America/Kentucky/Louisville:20260424T150000
DTEND;TZID=America/Kentucky/Louisville:20260424T150000
DTSTAMP:20260425T125540
CREATED:20260316T194157Z
LAST-MODIFIED:20260316T194157Z
UID:10003338-1777042800-1777042800@www.laruelibrary.org
SUMMARY:Beginner Crochet
DESCRIPTION:Join us on April 10th\, 17th\, and 24th at 3:00pm for a beginner crochet class! \nThis is a 3-week course and you MUST attend ALL THREE classes if you sign up! \nMaterials will be provided in a canvas bag for you to keep. \nRegistration required.
URL:https://www.laruelibrary.org/event/beginner-crochet/2026-04-24/
LOCATION:LaRue County Public Library\, 215 Lincoln Drive\, Hodgenville\, KY\, 42748\, United States
CATEGORIES:Adult,Adult Events,High School,Youth Events
ATTACH;FMTTYPE=image/png:https://www.laruelibrary.org/wp-content/uploads/2026/03/crochetApril.png
ORGANIZER;CN="LaRue Public Library":MAILTO:info@laruelibrary.org
END:VEVENT
BEGIN:VEVENT
DTSTART;TZID=America/Kentucky/Louisville:20260427T100000
DTEND;TZID=America/Kentucky/Louisville:20260427T100000
DTSTAMP:20260425T125540
CREATED:20260112T145648Z
LAST-MODIFIED:20260112T145648Z
UID:10002922-1777284000-1777284000@www.laruelibrary.org
SUMMARY:Stretch and Shine
DESCRIPTION:Ease into your week with Stretch and Shine\, a low-impact program focused on stretching and simple\, relaxing movements. Designed for adults of all mobility levels\, this session supports flexibility\, balance\, and a sense of calm. Join us at the library every Monday at 10 AM. No special equipment needed—just wear comfortable clothes and enjoy some time to move and unwind.
URL:https://www.laruelibrary.org/event/stretch-and-shine-58/2026-04-27/
LOCATION:LaRue County Public Library\, 215 Lincoln Drive\, Hodgenville\, KY\, 42748\, United States
CATEGORIES:Adult,Adult Events
ATTACH;FMTTYPE=image/png:https://www.laruelibrary.org/wp-content/uploads/2023/03/Stretch-Adult-Event-1.png
ORGANIZER;CN="LaRue Public Library":MAILTO:info@laruelibrary.org
END:VEVENT
BEGIN:VEVENT
DTSTART;TZID=America/Kentucky/Louisville:20260427T100000
DTEND;TZID=America/Kentucky/Louisville:20260427T100000
DTSTAMP:20260425T125540
CREATED:20260221T151547Z
LAST-MODIFIED:20260221T151547Z
UID:10003077-1777284000-1777284000@www.laruelibrary.org
SUMMARY:Stretch and Shine
DESCRIPTION:Ease into your week with Stretch and Shine\, a low-impact program focused on stretching and simple\, relaxing movements. Designed for adults of all mobility levels\, this session supports flexibility\, balance\, and a sense of calm. Join us at the library every Monday at 10 AM. No special equipment needed—just wear comfortable clothes and enjoy some time to move and unwind.
URL:https://www.laruelibrary.org/event/stretch-and-shine-59/2026-04-27/
LOCATION:LaRue County Public Library\, 215 Lincoln Drive\, Hodgenville\, KY\, 42748\, United States
CATEGORIES:Adult,Adult Events
ATTACH;FMTTYPE=image/png:https://www.laruelibrary.org/wp-content/uploads/2023/03/Stretch-Adult-Event-1.png
END:VEVENT
BEGIN:VEVENT
DTSTART;TZID=America/Kentucky/Louisville:20260427T140000
DTEND;TZID=America/Kentucky/Louisville:20260427T140000
DTSTAMP:20260425T125540
CREATED:20260112T150059Z
LAST-MODIFIED:20260112T150059Z
UID:10002973-1777298400-1777298400@www.laruelibrary.org
SUMMARY:Community Games
DESCRIPTION:Come and have some game day fun here at the library at 2:00 pm! Bring your friends\, family\, a board game (or choose one of ours)\, and enjoy! We’ll see you on Monday at 2 PM in the Community Room at the library.
URL:https://www.laruelibrary.org/event/community-games-52/2026-04-27/
LOCATION:LaRue County Public Library\, 215 Lincoln Drive\, Hodgenville\, KY\, 42748\, United States
CATEGORIES:Adult,Adult Events,Everyone,Family,Youth Events
ATTACH;FMTTYPE=image/jpeg:https://www.laruelibrary.org/wp-content/uploads/2025/01/game.jpeg
ORGANIZER;CN="LaRue Public Library":MAILTO:info@laruelibrary.org
END:VEVENT
BEGIN:VEVENT
DTSTART;TZID=America/Kentucky/Louisville:20260428T110000
DTEND;TZID=America/Kentucky/Louisville:20260428T110000
DTSTAMP:20260425T125540
CREATED:20260316T201946Z
LAST-MODIFIED:20260316T201946Z
UID:10003359-1777374000-1777374000@www.laruelibrary.org
SUMMARY:Story Time
DESCRIPTION:Join us for a fun and fantastic story and a craft on Tuesday at 11:00 AM and on Thursday at 1:30 PM! \nStory time is for children under the ages of 5. \nThis is a great opportunity to grow young readers. We make learning fun by introducing children to books\, love of reading\, and songs! We can’t wait to see you!
URL:https://www.laruelibrary.org/event/story-time-132/2026-04-28/
LOCATION:LaRue County Public Library\, 215 Lincoln Drive\, Hodgenville\, KY\, 42748\, United States
CATEGORIES:Age Under 5 Years Old,Youth Events
ATTACH;FMTTYPE=image/png:https://www.laruelibrary.org/wp-content/uploads/2026/03/maternityST.png
ORGANIZER;CN="LaRue Public Library":MAILTO:info@laruelibrary.org
END:VEVENT
BEGIN:VEVENT
DTSTART;TZID=America/Kentucky/Louisville:20260428T150000
DTEND;TZID=America/Kentucky/Louisville:20260428T150000
DTSTAMP:20260425T125540
CREATED:20260316T200316Z
LAST-MODIFIED:20260316T200316Z
UID:10003346-1777388400-1777388400@www.laruelibrary.org
SUMMARY:Needle Felted Frogs
DESCRIPTION:Join us on Tuesday\, April 28th at 3:00pm to make needle felted frogs! \nTeens and Adults. Call to register.
URL:https://www.laruelibrary.org/event/needle-felted-frogs/
LOCATION:LaRue County Public Library\, 215 Lincoln Drive\, Hodgenville\, KY\, 42748\, United States
CATEGORIES:Adult,Adult Events,High School,Youth Events
ATTACH;FMTTYPE=image/png:https://www.laruelibrary.org/wp-content/uploads/2026/03/frogsApril.png
ORGANIZER;CN="LaRue Public Library":MAILTO:info@laruelibrary.org
END:VEVENT
BEGIN:VEVENT
DTSTART;TZID=America/Kentucky/Louisville:20260428T173000
DTEND;TZID=America/Kentucky/Louisville:20260428T173000
DTSTAMP:20260425T125540
CREATED:20260316T200550Z
LAST-MODIFIED:20260316T200550Z
UID:10003347-1777397400-1777397400@www.laruelibrary.org
SUMMARY:Master Gardener Class
DESCRIPTION:Join us on Tuesday\, April 28th @ 5:30pm where Laura Howard will speak about seed sowing and garden planning. \nEvery attendee will receive a seed starter kit! \nEveryone welcome!
URL:https://www.laruelibrary.org/event/master-gardener-class-6/
LOCATION:LaRue County Public Library\, 215 Lincoln Drive\, Hodgenville\, KY\, 42748\, United States
CATEGORIES:Adult,Adult Events,Everyone,Family,Youth Events
ATTACH;FMTTYPE=image/png:https://www.laruelibrary.org/wp-content/uploads/2026/03/gardenerApril.png
ORGANIZER;CN="LaRue Public Library":MAILTO:info@laruelibrary.org
END:VEVENT
BEGIN:VEVENT
DTSTART;TZID=America/Kentucky/Louisville:20260430T110000
DTEND;TZID=America/Kentucky/Louisville:20260430T173000
DTSTAMP:20260425T125540
CREATED:20260316T201003Z
LAST-MODIFIED:20260316T201003Z
UID:10003348-1777546800-1777570200@www.laruelibrary.org
SUMMARY:Spring Fling Market
DESCRIPTION:Join us on Thursday\, April 30th from 11:00am – 5:30pm for the LCPL Spring Fling Market!
URL:https://www.laruelibrary.org/event/spring-fling-market/
LOCATION:LaRue County Public Library\, 215 Lincoln Drive\, Hodgenville\, KY\, 42748\, United States
CATEGORIES:Adult,Adult Events,Everyone,Family,Youth Events
ATTACH;FMTTYPE=image/png:https://www.laruelibrary.org/wp-content/uploads/2026/03/springApril.png
ORGANIZER;CN="LaRue Public Library":MAILTO:info@laruelibrary.org
END:VEVENT
END:VCALENDAR