BEGIN:VCALENDAR
VERSION:2.0
PRODID:-//LaRue County Public Library - ECPv6.15.20//NONSGML v1.0//EN
CALSCALE:GREGORIAN
METHOD:PUBLISH
X-ORIGINAL-URL:https://www.laruelibrary.org
X-WR-CALDESC:Events for LaRue County Public Library
REFRESH-INTERVAL;VALUE=DURATION:PT1H
X-Robots-Tag:noindex
X-PUBLISHED-TTL:PT1H
BEGIN:VTIMEZONE
TZID:America/Kentucky/Louisville
BEGIN:DAYLIGHT
TZOFFSETFROM:-0500
TZOFFSETTO:-0400
TZNAME:EDT
DTSTART:20240310T070000
END:DAYLIGHT
BEGIN:STANDARD
TZOFFSETFROM:-0400
TZOFFSETTO:-0500
TZNAME:EST
DTSTART:20241103T060000
END:STANDARD
BEGIN:DAYLIGHT
TZOFFSETFROM:-0500
TZOFFSETTO:-0400
TZNAME:EDT
DTSTART:20250309T070000
END:DAYLIGHT
BEGIN:STANDARD
TZOFFSETFROM:-0400
TZOFFSETTO:-0500
TZNAME:EST
DTSTART:20251102T060000
END:STANDARD
BEGIN:DAYLIGHT
TZOFFSETFROM:-0500
TZOFFSETTO:-0400
TZNAME:EDT
DTSTART:20260308T070000
END:DAYLIGHT
BEGIN:STANDARD
TZOFFSETFROM:-0400
TZOFFSETTO:-0500
TZNAME:EST
DTSTART:20261101T060000
END:STANDARD
END:VTIMEZONE
BEGIN:VEVENT
DTSTART;TZID=America/Kentucky/Louisville:20250808T150000
DTEND;TZID=America/Kentucky/Louisville:20250808T150000
DTSTAMP:20260425T174341
CREATED:20250717T160254Z
LAST-MODIFIED:20250717T160254Z
UID:10002059-1754665200-1754665200@www.laruelibrary.org
SUMMARY:Magic: The Gathering Ages 14-18
DESCRIPTION:Join us at the library on Friday\, August 8th and Friday\, August 22nd @ 3:00pm for Magic: The Gathering\, a fun and welcoming event for teens ages 14-18. \nWhether you’re new to the game or a seasoned player\, come learn\, play\, and connect with others who enjoy Magic!
URL:https://www.laruelibrary.org/event/magic-the-gathering-ages-14-18-2/2025-08-08/
LOCATION:LaRue County Public Library\, 215 Lincoln Drive\, Hodgenville\, KY\, 42748\, United States
CATEGORIES:High School,Youth Events
ATTACH;FMTTYPE=image/png:https://www.laruelibrary.org/wp-content/uploads/2025/07/14-18-Magic-88-22.png
ORGANIZER;CN="LaRue Public Library":MAILTO:info@laruelibrary.org
END:VEVENT
BEGIN:VEVENT
DTSTART;TZID=America/Kentucky/Louisville:20250808T150000
DTEND;TZID=America/Kentucky/Louisville:20250808T150000
DTSTAMP:20260425T174341
CREATED:20250719T153828Z
LAST-MODIFIED:20250719T153828Z
UID:10002066-1754665200-1754665200@www.laruelibrary.org
SUMMARY:Happiness Bracelets
DESCRIPTION:Get creative and brighten your day at our Happiness Bracelets workshop on Friday\, August 8 at 3 PM\, open to teens and adults! Make a meaningful bracelet for yourself or someone special in this relaxing\, hands-on program. Space is limited to 24 participants—call the library to register!
URL:https://www.laruelibrary.org/event/happiness-bracelets/
LOCATION:LaRue County Public Library\, 215 Lincoln Drive\, Hodgenville\, KY\, 42748\, United States
CATEGORIES:Adult,Adult Events,High School,Middle School
ATTACH;FMTTYPE=image/png:https://www.laruelibrary.org/wp-content/uploads/2025/07/Screenshot-2025-07-19-at-11.38.16-AM.png
END:VEVENT
BEGIN:VEVENT
DTSTART;TZID=America/Kentucky/Louisville:20250811T100000
DTEND;TZID=America/Kentucky/Louisville:20250811T100000
DTSTAMP:20260425T174341
CREATED:20250715T223202Z
LAST-MODIFIED:20250715T223202Z
UID:10001976-1754906400-1754906400@www.laruelibrary.org
SUMMARY:Stretch and Shine
DESCRIPTION:Ease into your week with Stretch and Shine\, a low-impact program focused on stretching and simple\, relaxing movements. Designed for adults of all mobility levels\, this session supports flexibility\, balance\, and a sense of calm. Join us at the library every Monday at 10 AM. No special equipment needed—just wear comfortable clothes and enjoy some time to move and unwind.
URL:https://www.laruelibrary.org/event/stretch-and-shine-56/2025-08-11/
LOCATION:LaRue County Public Library\, 215 Lincoln Drive\, Hodgenville\, KY\, 42748\, United States
CATEGORIES:Adult,Adult Events
ATTACH;FMTTYPE=image/png:https://www.laruelibrary.org/wp-content/uploads/2023/03/Stretch-Adult-Event-1.png
END:VEVENT
BEGIN:VEVENT
DTSTART;TZID=America/Kentucky/Louisville:20250811T160000
DTEND;TZID=America/Kentucky/Louisville:20250811T160000
DTSTAMP:20260425T174341
CREATED:20250719T154247Z
LAST-MODIFIED:20250719T154247Z
UID:10002067-1754928000-1754928000@www.laruelibrary.org
SUMMARY:Chocolate Face Masks
DESCRIPTION:Treat yourself to some sweet self-care at our Chocolate Face Masks program on Monday\, August 11 at 4 PM\, just for teens! Learn how to make a simple\, soothing face mask using chocolate and other natural ingredients. Call the library to register—space is limited!
URL:https://www.laruelibrary.org/event/chocolate-face-masks/
LOCATION:LaRue County Public Library\, 215 Lincoln Drive\, Hodgenville\, KY\, 42748\, United States
CATEGORIES:High School,Middle School
ATTACH;FMTTYPE=image/png:https://www.laruelibrary.org/wp-content/uploads/2025/07/Screenshot-2025-07-19-at-11.40.22-AM.png
END:VEVENT
BEGIN:VEVENT
DTSTART;TZID=America/Kentucky/Louisville:20250812T100000
DTEND;TZID=America/Kentucky/Louisville:20250812T113000
DTSTAMP:20260425T174341
CREATED:20250719T154537Z
LAST-MODIFIED:20250719T154537Z
UID:10002068-1754992800-1754998200@www.laruelibrary.org
SUMMARY:Kynect Resource Table
DESCRIPTION:What can Kynect do for you? Ginny Whitt will be set up in our lobby on Tuesday\, August 12th\, from 10 AM until 11:30 AM. Not sure where to start? Ginny can help you! Snap benefits\, Medicaid\, Kentucky Marketplace Insurance\, and more. Let her help you avoid those phone calls and red tape.
URL:https://www.laruelibrary.org/event/kynect-resource-table/
LOCATION:LaRue County Public Library\, 215 Lincoln Drive\, Hodgenville\, KY\, 42748\, United States
CATEGORIES:Adult,Adult Events
ATTACH;FMTTYPE=image/png:https://www.laruelibrary.org/wp-content/uploads/2023/08/kynect2.png
END:VEVENT
BEGIN:VEVENT
DTSTART;TZID=America/Kentucky/Louisville:20250812T110000
DTEND;TZID=America/Kentucky/Louisville:20250812T110000
DTSTAMP:20260425T174341
CREATED:20250716T200853Z
LAST-MODIFIED:20250716T200853Z
UID:10002039-1754996400-1754996400@www.laruelibrary.org
SUMMARY:Story Time
DESCRIPTION:Join us for a fun and fantastic story and a craft on Tuesday at 11:00 AM and on Thursday at 1:30 PM! \nStory time is for children under the ages of 5. \nThis is a great opportunity to grow young readers. We make learning fun by introducing children to books\, love of reading\, and songs! We can’t wait to see you!
URL:https://www.laruelibrary.org/event/story-time-124/2025-08-12/
LOCATION:LaRue County Public Library\, 215 Lincoln Drive\, Hodgenville\, KY\, 42748\, United States
CATEGORIES:Age Under 5 Years Old,Ages 0 - 36 Months,Youth Events
ATTACH;FMTTYPE=image/png:https://www.laruelibrary.org/wp-content/uploads/2023/10/NST.0-1.png
ORGANIZER;CN="LaRue Public Library":MAILTO:info@laruelibrary.org
END:VEVENT
BEGIN:VEVENT
DTSTART;TZID=America/Kentucky/Louisville:20250812T150000
DTEND;TZID=America/Kentucky/Louisville:20250812T150000
DTSTAMP:20260425T174341
CREATED:20250719T160323Z
LAST-MODIFIED:20250719T160323Z
UID:10002069-1755010800-1755010800@www.laruelibrary.org
SUMMARY:Vinyl Record Craft
DESCRIPTION:Get crafty with a retro twist at our Vinyl Record Craft Class on Tuesday\, August 12 at 3 PM\, open to teens and adults! Transform old vinyl records into unique and creative art pieces—no experience needed. Space is limited\, so call the library to register!
URL:https://www.laruelibrary.org/event/vinyl-record-craft/
LOCATION:LaRue County Public Library\, 215 Lincoln Drive\, Hodgenville\, KY\, 42748\, United States
CATEGORIES:Adult,Adult Events,High School,Middle School
END:VEVENT
BEGIN:VEVENT
DTSTART;TZID=America/Kentucky/Louisville:20250814T100000
DTEND;TZID=America/Kentucky/Louisville:20250814T100000
DTSTAMP:20260425T174341
CREATED:20250315T145412Z
LAST-MODIFIED:20250315T145427Z
UID:10001795-1755165600-1755165600@www.laruelibrary.org
SUMMARY:Circle of Love
DESCRIPTION:Circle of Love – a program for newborn children through age 3. \nOur sponsors are proud of present a program specifically for our youngest community members! Try new songs and activities\, hear stories\, learn about keeping your child safe\, and much more. Each child will leave with some sort of age-appropriate treat! This program is sponsored by: LaRue County Public Library\, HES Family Resource Center\, Lincoln Trail District Health Department. \nJoin us at 10 AM on April 10th\, May 15th\, June 12th\, July 10th\, August 14th\, September 11th\, and October 16th.
URL:https://www.laruelibrary.org/event/circle-of-love/2025-08-14/
LOCATION:LaRue County Public Library\, 215 Lincoln Drive\, Hodgenville\, KY\, 42748\, United States
CATEGORIES:Ages 0 - 36 Months
ATTACH;FMTTYPE=image/png:https://www.laruelibrary.org/wp-content/uploads/2025/03/Screenshot-2025-03-15-105413.png
END:VEVENT
BEGIN:VEVENT
DTSTART;TZID=America/Kentucky/Louisville:20250814T133000
DTEND;TZID=America/Kentucky/Louisville:20250814T133000
DTSTAMP:20260425T174341
CREATED:20250716T200853Z
LAST-MODIFIED:20250716T200853Z
UID:10002040-1755178200-1755178200@www.laruelibrary.org
SUMMARY:Story Time
DESCRIPTION:Join us for a fun and fantastic story and a craft on Tuesday at 11:00 AM and on Thursday at 1:30 PM! \nStory time is for children under the ages of 5. \nThis is a great opportunity to grow young readers. We make learning fun by introducing children to books\, love of reading\, and songs! We can’t wait to see you!
URL:https://www.laruelibrary.org/event/story-time-124/2025-08-14/
LOCATION:LaRue County Public Library\, 215 Lincoln Drive\, Hodgenville\, KY\, 42748\, United States
CATEGORIES:Age Under 5 Years Old,Ages 0 - 36 Months,Youth Events
ATTACH;FMTTYPE=image/png:https://www.laruelibrary.org/wp-content/uploads/2023/10/NST.0-1.png
ORGANIZER;CN="LaRue Public Library":MAILTO:info@laruelibrary.org
END:VEVENT
BEGIN:VEVENT
DTSTART;TZID=America/Kentucky/Louisville:20250814T170000
DTEND;TZID=America/Kentucky/Louisville:20250814T170000
DTSTAMP:20260425T174341
CREATED:20250719T160618Z
LAST-MODIFIED:20250719T160618Z
UID:10002070-1755190800-1755190800@www.laruelibrary.org
SUMMARY:Chocolate Chip Sourdough Discard
DESCRIPTION:Learn how to turn your sourdough discard into something delicious at our Chocolate Chip Sourdough Discard class on Thursday\, August 14 at 5 PM\, open to teens and adults! Discover tips for reducing food waste while baking a sweet treat. Space is limited—call the library to register in advance!
URL:https://www.laruelibrary.org/event/chocolate-chip-sourdough-discard/
LOCATION:LaRue County Public Library\, 215 Lincoln Drive\, Hodgenville\, KY\, 42748\, United States
CATEGORIES:Adult,Adult Events,High School,Middle School
ATTACH;FMTTYPE=image/png:https://www.laruelibrary.org/wp-content/uploads/2025/07/Screenshot-2025-07-19-at-12.06.04-PM.png
END:VEVENT
BEGIN:VEVENT
DTSTART;TZID=America/Kentucky/Louisville:20250815T080000
DTEND;TZID=America/Kentucky/Louisville:20250815T170000
DTSTAMP:20260425T174341
CREATED:20250815T171754Z
LAST-MODIFIED:20250815T171754Z
UID:10002109-1755244800-1755277200@www.laruelibrary.org
SUMMARY:Tiny Hawks Story Time
DESCRIPTION:Join us for a very special Tiny Hawks Story Time at 9:30am with assistance from Ellen Shelton! Each session\, children will receive a free educational take-home item/supplies (provided by the ALES Family Resource Center). \nThese story times/sessions will take place at LaRue County Public Library on Friday September 26th\, October 24th\, November 21st\, January 30th\, February 27th\, March 27th\, and April 24th These story times/sessions are geared toward preschool age children (2-5 years old) and their caregiver(s). \nSign-up is NOT required. \nFor more info\, contact: \nTaylor Metcalf; LCPL Children’s Librarian @ 358-3851 \nEllen Shelton; ALES FRC Coordinator @ 358-7130
URL:https://www.laruelibrary.org/event/tiny-hawks-story-time/
LOCATION:KY
CATEGORIES:Age Under 5 Years Old,Youth Events
ATTACH;FMTTYPE=image/png:https://www.laruelibrary.org/wp-content/uploads/2025/08/tiny.png
END:VEVENT
BEGIN:VEVENT
DTSTART;TZID=America/Kentucky/Louisville:20250815T150000
DTEND;TZID=America/Kentucky/Louisville:20250815T150000
DTSTAMP:20260425T174341
CREATED:20250717T161439Z
LAST-MODIFIED:20250717T161439Z
UID:10002063-1755270000-1755270000@www.laruelibrary.org
SUMMARY:Making Stress Balls
DESCRIPTION:Join us on Friday\, August 15th @ 3:00pm as we make our own stress balls! \nMiddle School – High School. Call to register.
URL:https://www.laruelibrary.org/event/making-stress-balls/
LOCATION:LaRue County Public Library\, 215 Lincoln Drive\, Hodgenville\, KY\, 42748\, United States
CATEGORIES:High School,Middle School,Youth Events
ATTACH;FMTTYPE=image/png:https://www.laruelibrary.org/wp-content/uploads/2025/07/stress-balls-815.png
ORGANIZER;CN="LaRue Public Library":MAILTO:info@laruelibrary.org
END:VEVENT
BEGIN:VEVENT
DTSTART;TZID=America/Kentucky/Louisville:20250815T150000
DTEND;TZID=America/Kentucky/Louisville:20250815T150000
DTSTAMP:20260425T174341
CREATED:20250719T161512Z
LAST-MODIFIED:20250719T161512Z
UID:10002072-1755270000-1755270000@www.laruelibrary.org
SUMMARY:Making Stress Balls
DESCRIPTION:Need a fun way to unwind? Join us for Making Stress Balls on Friday\, August 15 at 3 PM\, a hands-on program for anyone in late elementary school through high school. Space is limited—call the library to register!
URL:https://www.laruelibrary.org/event/making-stress-balls-2/
LOCATION:LaRue County Public Library\, 215 Lincoln Drive\, Hodgenville\, KY\, 42748\, United States
CATEGORIES:High School,Middle School
ATTACH;FMTTYPE=image/png:https://www.laruelibrary.org/wp-content/uploads/2025/07/Screenshot-2025-07-19-at-12.14.55-PM.png
END:VEVENT
BEGIN:VEVENT
DTSTART;TZID=America/Kentucky/Louisville:20250818T100000
DTEND;TZID=America/Kentucky/Louisville:20250818T100000
DTSTAMP:20260425T174341
CREATED:20250715T223202Z
LAST-MODIFIED:20250715T223202Z
UID:10001977-1755511200-1755511200@www.laruelibrary.org
SUMMARY:Stretch and Shine
DESCRIPTION:Ease into your week with Stretch and Shine\, a low-impact program focused on stretching and simple\, relaxing movements. Designed for adults of all mobility levels\, this session supports flexibility\, balance\, and a sense of calm. Join us at the library every Monday at 10 AM. No special equipment needed—just wear comfortable clothes and enjoy some time to move and unwind.
URL:https://www.laruelibrary.org/event/stretch-and-shine-56/2025-08-18/
LOCATION:LaRue County Public Library\, 215 Lincoln Drive\, Hodgenville\, KY\, 42748\, United States
CATEGORIES:Adult,Adult Events
ATTACH;FMTTYPE=image/png:https://www.laruelibrary.org/wp-content/uploads/2023/03/Stretch-Adult-Event-1.png
END:VEVENT
BEGIN:VEVENT
DTSTART;TZID=America/Kentucky/Louisville:20250819T100000
DTEND;TZID=America/Kentucky/Louisville:20250819T100000
DTSTAMP:20260425T174341
CREATED:20250716T203223Z
LAST-MODIFIED:20250716T203223Z
UID:10002046-1755597600-1755597600@www.laruelibrary.org
SUMMARY:BINGOcize
DESCRIPTION:Join us on Tuesday\, August 19th at 10:00am for a health promotion program combining Bingo! with inclusive exercises for all! \nThis class is meant for Adults. Call to register.
URL:https://www.laruelibrary.org/event/bingocize-10/
LOCATION:LaRue County Public Library\, 215 Lincoln Drive\, Hodgenville\, KY\, 42748\, United States
CATEGORIES:Adult,Adult Events
ATTACH;FMTTYPE=image/png:https://www.laruelibrary.org/wp-content/uploads/2025/07/bingo-819.png
ORGANIZER;CN="LaRue Public Library":MAILTO:info@laruelibrary.org
END:VEVENT
BEGIN:VEVENT
DTSTART;TZID=America/Kentucky/Louisville:20250819T100000
DTEND;TZID=America/Kentucky/Louisville:20250819T120000
DTSTAMP:20260425T174341
CREATED:20250716T202918Z
LAST-MODIFIED:20250716T202918Z
UID:10002045-1755597600-1755604800@www.laruelibrary.org
SUMMARY:Medicare Table
DESCRIPTION:Visit Michael Monaghan in our front lobby Tuesday\, August 19th from 10:30am-12:00pm for Medicare enrollment assistance!
URL:https://www.laruelibrary.org/event/medicare-table-2/
LOCATION:LaRue County Public Library\, 215 Lincoln Drive\, Hodgenville\, KY\, 42748\, United States
CATEGORIES:Adult,Adult Events
ATTACH;FMTTYPE=image/png:https://www.laruelibrary.org/wp-content/uploads/2025/07/medicare-819.png
ORGANIZER;CN="LaRue Public Library":MAILTO:info@laruelibrary.org
END:VEVENT
BEGIN:VEVENT
DTSTART;TZID=America/Kentucky/Louisville:20250819T110000
DTEND;TZID=America/Kentucky/Louisville:20250819T110000
DTSTAMP:20260425T174341
CREATED:20250716T200853Z
LAST-MODIFIED:20250716T200853Z
UID:10002041-1755601200-1755601200@www.laruelibrary.org
SUMMARY:Story Time
DESCRIPTION:Join us for a fun and fantastic story and a craft on Tuesday at 11:00 AM and on Thursday at 1:30 PM! \nStory time is for children under the ages of 5. \nThis is a great opportunity to grow young readers. We make learning fun by introducing children to books\, love of reading\, and songs! We can’t wait to see you!
URL:https://www.laruelibrary.org/event/story-time-124/2025-08-19/
LOCATION:LaRue County Public Library\, 215 Lincoln Drive\, Hodgenville\, KY\, 42748\, United States
CATEGORIES:Age Under 5 Years Old,Ages 0 - 36 Months,Youth Events
ATTACH;FMTTYPE=image/png:https://www.laruelibrary.org/wp-content/uploads/2023/10/NST.0-1.png
ORGANIZER;CN="LaRue Public Library":MAILTO:info@laruelibrary.org
END:VEVENT
BEGIN:VEVENT
DTSTART;TZID=America/Kentucky/Louisville:20250819T110000
DTEND;TZID=America/Kentucky/Louisville:20250819T110000
DTSTAMP:20260425T174341
CREATED:20250716T203343Z
LAST-MODIFIED:20250716T203343Z
UID:10002047-1755601200-1755601200@www.laruelibrary.org
SUMMARY:Tai Chi
DESCRIPTION:Join us on Tuesday\, August 19th @ 11:15am to practice Tai Chi. \nTai Chi is a practice that involves a series of slow gentle movements and physical postures\, a meditative state of mind\, and controlled breathing. It originated as an ancient martial art in China and\, over time\, has become more focused on health promotion and rehabilitation. \nAdults Only.
URL:https://www.laruelibrary.org/event/tai-chi-7/
LOCATION:LaRue County Public Library\, 215 Lincoln Drive\, Hodgenville\, KY\, 42748\, United States
CATEGORIES:Adult,Adult Events
ATTACH;FMTTYPE=image/png:https://www.laruelibrary.org/wp-content/uploads/2025/07/tai-chi-819.png
ORGANIZER;CN="LaRue Public Library":MAILTO:info@laruelibrary.org
END:VEVENT
BEGIN:VEVENT
DTSTART;TZID=America/Kentucky/Louisville:20250819T150000
DTEND;TZID=America/Kentucky/Louisville:20250819T150000
DTSTAMP:20260425T174341
CREATED:20250717T161212Z
LAST-MODIFIED:20250717T161212Z
UID:10002062-1755615600-1755615600@www.laruelibrary.org
SUMMARY:Making Slime
DESCRIPTION:Join us on Tuesday\, August 19th @ 3:00pm to make your very own slime! \nGrade School – Teen. Call to register.
URL:https://www.laruelibrary.org/event/making-slime/
LOCATION:LaRue County Public Library\, 215 Lincoln Drive\, Hodgenville\, KY\, 42748\, United States
CATEGORIES:Grade School,High School,Middle School,Youth Events
ATTACH;FMTTYPE=image/png:https://www.laruelibrary.org/wp-content/uploads/2025/07/slime-819.png
ORGANIZER;CN="LaRue Public Library":MAILTO:info@laruelibrary.org
END:VEVENT
BEGIN:VEVENT
DTSTART;TZID=America/Kentucky/Louisville:20250819T160000
DTEND;TZID=America/Kentucky/Louisville:20250819T160000
DTSTAMP:20260425T174341
CREATED:20250716T204200Z
LAST-MODIFIED:20250716T204200Z
UID:10002051-1755619200-1755619200@www.laruelibrary.org
SUMMARY:One Brushstroke Rosebuds
DESCRIPTION:This program is specifically for those who did not attend the last rosebud session with Ann Kelley. \nAdults & Teens. Class limit of 12. Call to register.
URL:https://www.laruelibrary.org/event/one-brushstroke-rosebuds/
LOCATION:LaRue County Public Library\, 215 Lincoln Drive\, Hodgenville\, KY\, 42748\, United States
CATEGORIES:Adult,Adult Events,High School,Youth Events
ATTACH;FMTTYPE=image/png:https://www.laruelibrary.org/wp-content/uploads/2025/07/rose-819.png
ORGANIZER;CN="LaRue Public Library":MAILTO:info@laruelibrary.org
END:VEVENT
BEGIN:VEVENT
DTSTART;TZID=America/Kentucky/Louisville:20250821T133000
DTEND;TZID=America/Kentucky/Louisville:20250821T133000
DTSTAMP:20260425T174341
CREATED:20250716T200853Z
LAST-MODIFIED:20250716T200853Z
UID:10002042-1755783000-1755783000@www.laruelibrary.org
SUMMARY:Story Time
DESCRIPTION:Join us for a fun and fantastic story and a craft on Tuesday at 11:00 AM and on Thursday at 1:30 PM! \nStory time is for children under the ages of 5. \nThis is a great opportunity to grow young readers. We make learning fun by introducing children to books\, love of reading\, and songs! We can’t wait to see you!
URL:https://www.laruelibrary.org/event/story-time-124/2025-08-21/
LOCATION:LaRue County Public Library\, 215 Lincoln Drive\, Hodgenville\, KY\, 42748\, United States
CATEGORIES:Age Under 5 Years Old,Ages 0 - 36 Months,Youth Events
ATTACH;FMTTYPE=image/png:https://www.laruelibrary.org/wp-content/uploads/2023/10/NST.0-1.png
ORGANIZER;CN="LaRue Public Library":MAILTO:info@laruelibrary.org
END:VEVENT
BEGIN:VEVENT
DTSTART;TZID=America/Kentucky/Louisville:20250821T153000
DTEND;TZID=America/Kentucky/Louisville:20250821T153000
DTSTAMP:20260425T174341
CREATED:20250716T203533Z
LAST-MODIFIED:20250716T203533Z
UID:10002048-1755790200-1755790200@www.laruelibrary.org
SUMMARY:Book Club
DESCRIPTION:Come join us on Thursday\, August 21st at 3:30pm for Book Club! \nThis is an Adult program.
URL:https://www.laruelibrary.org/event/book-club-27/
LOCATION:LaRue County Public Library\, 215 Lincoln Drive\, Hodgenville\, KY\, 42748\, United States
CATEGORIES:Adult,Adult Events
ATTACH;FMTTYPE=image/jpeg:https://www.laruelibrary.org/wp-content/uploads/2023/07/bc2.jpg
ORGANIZER;CN="LaRue Public Library":MAILTO:info@laruelibrary.org
END:VEVENT
BEGIN:VEVENT
DTSTART;TZID=America/Kentucky/Louisville:20250821T173000
DTEND;TZID=America/Kentucky/Louisville:20250821T173000
DTSTAMP:20260425T174341
CREATED:20250717T154250Z
LAST-MODIFIED:20250717T154250Z
UID:10002052-1755797400-1755797400@www.laruelibrary.org
SUMMARY:Poetry Reading
DESCRIPTION:Join us on Thursday\, August 21st at 5:30pm for a family friendly event with family friendly poetry. \nIf participating\, please email claudette@laruelibrary.org by August 15th!
URL:https://www.laruelibrary.org/event/poetry-reading/
LOCATION:LaRue County Public Library\, 215 Lincoln Drive\, Hodgenville\, KY\, 42748\, United States
CATEGORIES:Adult Events,Everyone,Youth Events
ATTACH;FMTTYPE=image/png:https://www.laruelibrary.org/wp-content/uploads/2025/07/poetry-821.png
ORGANIZER;CN="LaRue Public Library":MAILTO:info@laruelibrary.org
END:VEVENT
BEGIN:VEVENT
DTSTART;TZID=America/Kentucky/Louisville:20250822T140000
DTEND;TZID=America/Kentucky/Louisville:20250822T140000
DTSTAMP:20260425T174341
CREATED:20250717T160047Z
LAST-MODIFIED:20250717T160047Z
UID:10002058-1755871200-1755871200@www.laruelibrary.org
SUMMARY:Magic: The Gathering Ages 7-13
DESCRIPTION:Join us at the library on Friday\, August 8th and Friday\, August 22nd @ 2:00pm for Magic: The Gathering\, a fun and welcoming event for kids ages 7–13. \nWhether you’re new to the game or a seasoned player\, come learn\, play\, and connect with others who enjoy Magic!
URL:https://www.laruelibrary.org/event/magic-the-gathering-ages-7-13-3/2025-08-22/
LOCATION:LaRue County Public Library\, 215 Lincoln Drive\, Hodgenville\, KY\, 42748\, United States
CATEGORIES:Grade School,Middle School,Youth Events
ATTACH;FMTTYPE=image/png:https://www.laruelibrary.org/wp-content/uploads/2025/07/7-13-Magic-88-22.png
ORGANIZER;CN="LaRue Public Library":MAILTO:info@laruelibrary.org
END:VEVENT
BEGIN:VEVENT
DTSTART;TZID=America/Kentucky/Louisville:20250822T150000
DTEND;TZID=America/Kentucky/Louisville:20250822T150000
DTSTAMP:20260425T174341
CREATED:20250717T154815Z
LAST-MODIFIED:20250717T154831Z
UID:10002054-1755874800-1755874800@www.laruelibrary.org
SUMMARY:Ugly Art Contest
DESCRIPTION:Join us on Friday\, August 22nd @ 3:00pm for our Ugly Art Contest! \nThere will be 1st\, 2nd\, and 3rd place prizes! \nTeens and Adults. Limit of 24 spaces\, Call to register.
URL:https://www.laruelibrary.org/event/ugly-art-contest/
LOCATION:LaRue County Public Library\, 215 Lincoln Drive\, Hodgenville\, KY\, 42748\, United States
CATEGORIES:Adult,Adult Events,High School,Youth Events
ATTACH;FMTTYPE=image/png:https://www.laruelibrary.org/wp-content/uploads/2025/07/ugly-822.png
ORGANIZER;CN="LaRue Public Library":MAILTO:info@laruelibrary.org
END:VEVENT
BEGIN:VEVENT
DTSTART;TZID=America/Kentucky/Louisville:20250822T150000
DTEND;TZID=America/Kentucky/Louisville:20250822T150000
DTSTAMP:20260425T174341
CREATED:20250717T160254Z
LAST-MODIFIED:20250717T160254Z
UID:10002060-1755874800-1755874800@www.laruelibrary.org
SUMMARY:Magic: The Gathering Ages 14-18
DESCRIPTION:Join us at the library on Friday\, August 8th and Friday\, August 22nd @ 3:00pm for Magic: The Gathering\, a fun and welcoming event for teens ages 14-18. \nWhether you’re new to the game or a seasoned player\, come learn\, play\, and connect with others who enjoy Magic!
URL:https://www.laruelibrary.org/event/magic-the-gathering-ages-14-18-2/2025-08-22/
LOCATION:LaRue County Public Library\, 215 Lincoln Drive\, Hodgenville\, KY\, 42748\, United States
CATEGORIES:High School,Youth Events
ATTACH;FMTTYPE=image/png:https://www.laruelibrary.org/wp-content/uploads/2025/07/14-18-Magic-88-22.png
ORGANIZER;CN="LaRue Public Library":MAILTO:info@laruelibrary.org
END:VEVENT
BEGIN:VEVENT
DTSTART;TZID=America/Kentucky/Louisville:20250825T100000
DTEND;TZID=America/Kentucky/Louisville:20250825T100000
DTSTAMP:20260425T174341
CREATED:20250715T223202Z
LAST-MODIFIED:20250715T223202Z
UID:10001978-1756116000-1756116000@www.laruelibrary.org
SUMMARY:Stretch and Shine
DESCRIPTION:Ease into your week with Stretch and Shine\, a low-impact program focused on stretching and simple\, relaxing movements. Designed for adults of all mobility levels\, this session supports flexibility\, balance\, and a sense of calm. Join us at the library every Monday at 10 AM. No special equipment needed—just wear comfortable clothes and enjoy some time to move and unwind.
URL:https://www.laruelibrary.org/event/stretch-and-shine-56/2025-08-25/
LOCATION:LaRue County Public Library\, 215 Lincoln Drive\, Hodgenville\, KY\, 42748\, United States
CATEGORIES:Adult,Adult Events
ATTACH;FMTTYPE=image/png:https://www.laruelibrary.org/wp-content/uploads/2023/03/Stretch-Adult-Event-1.png
END:VEVENT
BEGIN:VEVENT
DTSTART;TZID=America/Kentucky/Louisville:20250826T110000
DTEND;TZID=America/Kentucky/Louisville:20250826T110000
DTSTAMP:20260425T174341
CREATED:20250716T200853Z
LAST-MODIFIED:20250716T200853Z
UID:10002043-1756206000-1756206000@www.laruelibrary.org
SUMMARY:Story Time
DESCRIPTION:Join us for a fun and fantastic story and a craft on Tuesday at 11:00 AM and on Thursday at 1:30 PM! \nStory time is for children under the ages of 5. \nThis is a great opportunity to grow young readers. We make learning fun by introducing children to books\, love of reading\, and songs! We can’t wait to see you!
URL:https://www.laruelibrary.org/event/story-time-124/2025-08-26/
LOCATION:LaRue County Public Library\, 215 Lincoln Drive\, Hodgenville\, KY\, 42748\, United States
CATEGORIES:Age Under 5 Years Old,Ages 0 - 36 Months,Youth Events
ATTACH;FMTTYPE=image/png:https://www.laruelibrary.org/wp-content/uploads/2023/10/NST.0-1.png
ORGANIZER;CN="LaRue Public Library":MAILTO:info@laruelibrary.org
END:VEVENT
BEGIN:VEVENT
DTSTART;TZID=America/Kentucky/Louisville:20250826T160000
DTEND;TZID=America/Kentucky/Louisville:20250826T160000
DTSTAMP:20260425T174341
CREATED:20250717T155706Z
LAST-MODIFIED:20250717T155706Z
UID:10002056-1756224000-1756224000@www.laruelibrary.org
SUMMARY:One Brushstroke Sunflowers
DESCRIPTION:Join Ann Kelley on Tuesday\, August 26th @ 4:00pm in painting sunflowers using a one brushstroke technique! \nTeens and Adults. Class limit of 12. Call to register.
URL:https://www.laruelibrary.org/event/one-brushstroke-sunflowers/
LOCATION:LaRue County Public Library\, 215 Lincoln Drive\, Hodgenville\, KY\, 42748\, United States
CATEGORIES:Adult,Adult Events,High School,Youth Events
ATTACH;FMTTYPE=image/png:https://www.laruelibrary.org/wp-content/uploads/2025/07/sunflower-826.png
ORGANIZER;CN="LaRue Public Library":MAILTO:info@laruelibrary.org
END:VEVENT
BEGIN:VEVENT
DTSTART;TZID=America/Kentucky/Louisville:20250827T180000
DTEND;TZID=America/Kentucky/Louisville:20250827T180000
DTSTAMP:20260425T174341
CREATED:20250716T203849Z
LAST-MODIFIED:20250716T203849Z
UID:10002050-1756317600-1756317600@www.laruelibrary.org
SUMMARY:Offsite Book Club
DESCRIPTION:We will be meeting at Kayla’s Fill-Up Station for Adult Book Club on Wednesday\, August 27 at 6:00pm! \nAdults only.
URL:https://www.laruelibrary.org/event/offsite-book-club-11/
LOCATION:LaRue County Public Library\, 215 Lincoln Drive\, Hodgenville\, KY\, 42748\, United States
CATEGORIES:Adult,Adult Events
ATTACH;FMTTYPE=image/png:https://www.laruelibrary.org/wp-content/uploads/2025/05/Kayla.png
ORGANIZER;CN="LaRue Public Library":MAILTO:info@laruelibrary.org
END:VEVENT
END:VCALENDAR