BEGIN:VCALENDAR
VERSION:2.0
PRODID:-//LaRue County Public Library - ECPv6.15.20//NONSGML v1.0//EN
CALSCALE:GREGORIAN
METHOD:PUBLISH
X-WR-CALNAME:LaRue County Public Library
X-ORIGINAL-URL:https://www.laruelibrary.org
X-WR-CALDESC:Events for LaRue County Public Library
REFRESH-INTERVAL;VALUE=DURATION:PT1H
X-Robots-Tag:noindex
X-PUBLISHED-TTL:PT1H
BEGIN:VTIMEZONE
TZID:America/Kentucky/Louisville
BEGIN:DAYLIGHT
TZOFFSETFROM:-0500
TZOFFSETTO:-0400
TZNAME:EDT
DTSTART:20240310T070000
END:DAYLIGHT
BEGIN:STANDARD
TZOFFSETFROM:-0400
TZOFFSETTO:-0500
TZNAME:EST
DTSTART:20241103T060000
END:STANDARD
BEGIN:DAYLIGHT
TZOFFSETFROM:-0500
TZOFFSETTO:-0400
TZNAME:EDT
DTSTART:20250309T070000
END:DAYLIGHT
BEGIN:STANDARD
TZOFFSETFROM:-0400
TZOFFSETTO:-0500
TZNAME:EST
DTSTART:20251102T060000
END:STANDARD
BEGIN:DAYLIGHT
TZOFFSETFROM:-0500
TZOFFSETTO:-0400
TZNAME:EDT
DTSTART:20260308T070000
END:DAYLIGHT
BEGIN:STANDARD
TZOFFSETFROM:-0400
TZOFFSETTO:-0500
TZNAME:EST
DTSTART:20261101T060000
END:STANDARD
END:VTIMEZONE
BEGIN:VEVENT
DTSTART;TZID=America/Kentucky/Louisville:20250903T100000
DTEND;TZID=America/Kentucky/Louisville:20250903T100000
DTSTAMP:20260426T001945
CREATED:20250814T222135Z
LAST-MODIFIED:20250814T222135Z
UID:10002075-1756893600-1756893600@www.laruelibrary.org
SUMMARY:Homeschool Meet and Greet
DESCRIPTION:Connect with other homeschooling families at our Homeschool Meet & Greet—a relaxed morning of conversation\, idea-sharing\, and community building. Join us on Wednesday\, September 3 at 10:00 AM.
URL:https://www.laruelibrary.org/event/homeschool-meet-and-greet-2/
LOCATION:LaRue County Public Library\, 215 Lincoln Drive\, Hodgenville\, KY\, 42748\, United States
CATEGORIES:Everyone
END:VEVENT
BEGIN:VEVENT
DTSTART;TZID=America/Kentucky/Louisville:20250904T133000
DTEND;TZID=America/Kentucky/Louisville:20250904T133000
DTSTAMP:20260426T001945
CREATED:20250815T161324Z
LAST-MODIFIED:20250815T161324Z
UID:10002097-1756992600-1756992600@www.laruelibrary.org
SUMMARY:Story Time
DESCRIPTION:Join us for a fun and fantastic story and a craft on Tuesday at 11:00 AM and on Thursday at 1:30 PM! \nStory time is for children under the ages of 5. \nThis is a great opportunity to grow young readers. We make learning fun by introducing children to books\, love of reading\, and songs! We can’t wait to see you!
URL:https://www.laruelibrary.org/event/story-time-125/2025-09-04/
LOCATION:LaRue County Public Library\, 215 Lincoln Drive\, Hodgenville\, KY\, 42748\, United States
CATEGORIES:Age Under 5 Years Old,Youth Events
ATTACH;FMTTYPE=image/png:https://www.laruelibrary.org/wp-content/uploads/2023/10/NST.0-1.png
ORGANIZER;CN="LaRue Public Library":MAILTO:info@laruelibrary.org
END:VEVENT
BEGIN:VEVENT
DTSTART;TZID=America/Kentucky/Louisville:20250904T153000
DTEND;TZID=America/Kentucky/Louisville:20250904T153000
DTSTAMP:20260426T001945
CREATED:20250814T222318Z
LAST-MODIFIED:20250814T222318Z
UID:10002076-1756999800-1756999800@www.laruelibrary.org
SUMMARY:Build a Scarecrow
DESCRIPTION:Bring your imagination and help us Build a Scarecrow at the library! Kids in grade school and younger are invited to join the fun on Thursday\, September 4 at 3:30 PM.
URL:https://www.laruelibrary.org/event/build-a-scarecrow/
LOCATION:LaRue County Public Library\, 215 Lincoln Drive\, Hodgenville\, KY\, 42748\, United States
CATEGORIES:Age Under 5 Years Old,Grade School
END:VEVENT
BEGIN:VEVENT
DTSTART;TZID=America/Kentucky/Louisville:20250904T160000
DTEND;TZID=America/Kentucky/Louisville:20250904T160000
DTSTAMP:20260426T001945
CREATED:20250816T141124Z
LAST-MODIFIED:20250816T141124Z
UID:10002118-1757001600-1757001600@www.laruelibrary.org
SUMMARY:Friends of the Library
DESCRIPTION:Join us for a Friends of the Library meeting. Consider becoming a member and help us promote the LaRue County Public Library. Membership enables you to join your local branch chapter and participate in many wonderful library activities throughout the year. Benefits include invitations to special Friends’ events\, Volunteer opportunities\, and advocacy opportunities. We hope you’ll join us on Thursday\, September 4th at 4 PM.
URL:https://www.laruelibrary.org/event/friends-of-the-library-27/
LOCATION:LaRue County Public Library\, 215 Lincoln Drive\, Hodgenville\, KY\, 42748\, United States
CATEGORIES:Adult,Adult Events
ATTACH;FMTTYPE=image/png:https://www.laruelibrary.org/wp-content/uploads/2023/03/BecomeLibraryFriend.png
END:VEVENT
BEGIN:VEVENT
DTSTART;TZID=America/Kentucky/Louisville:20250904T173000
DTEND;TZID=America/Kentucky/Louisville:20250904T173000
DTSTAMP:20260426T001945
CREATED:20250816T141435Z
LAST-MODIFIED:20250816T141435Z
UID:10002119-1757007000-1757007000@www.laruelibrary.org
SUMMARY:Fluffy the Poodle Service Dog
DESCRIPTION:Meet Fluffy the Poodle\, service poodle for veteran Daniel Odell. Come hear from Daniel about his life with Fluffy. Join us on Thursday\, September 4th at 5:30 PM.
URL:https://www.laruelibrary.org/event/fluffy-the-poodle-service-dog/
LOCATION:LaRue County Public Library\, 215 Lincoln Drive\, Hodgenville\, KY\, 42748\, United States
CATEGORIES:Everyone
ATTACH;FMTTYPE=image/png:https://www.laruelibrary.org/wp-content/uploads/2025/08/Screenshot-2025-08-16-at-10.14.05-AM.png
END:VEVENT
BEGIN:VEVENT
DTSTART;TZID=America/Kentucky/Louisville:20250905T100000
DTEND;TZID=America/Kentucky/Louisville:20250905T120000
DTSTAMP:20260426T001945
CREATED:20250815T152700Z
LAST-MODIFIED:20250815T152700Z
UID:10002085-1757066400-1757073600@www.laruelibrary.org
SUMMARY:Voter Registration
DESCRIPTION:Voter Registration in the LCPL Lobby on: \nSeptember 5th & 22nd from 10:00am-12:00pm \nSeptember 11th & 16th from 3:00pm-5:00pm
URL:https://www.laruelibrary.org/event/voter-registration/2025-09-05/
LOCATION:LaRue County Public Library\, 215 Lincoln Drive\, Hodgenville\, KY\, 42748\, United States
CATEGORIES:Adult,Adult Events
ATTACH;FMTTYPE=image/png:https://www.laruelibrary.org/wp-content/uploads/2025/08/voter.png
ORGANIZER;CN="LaRue Public Library":MAILTO:info@laruelibrary.org
END:VEVENT
BEGIN:VEVENT
DTSTART;TZID=America/Kentucky/Louisville:20250905T150000
DTEND;TZID=America/Kentucky/Louisville:20250905T150000
DTSTAMP:20260426T001945
CREATED:20250815T163245Z
LAST-MODIFIED:20250815T163245Z
UID:10002105-1757084400-1757084400@www.laruelibrary.org
SUMMARY:Magic: The Gathering Ages 7-13
DESCRIPTION:Join us at the library on Friday\, September 5th and Friday\, September 19th @ 3:00pm for Magic: The Gathering\, a fun and welcoming event for kids ages 7–13. \nWhether you’re new to the game or a seasoned player\, come learn\, play\, and connect with others who enjoy Magic!
URL:https://www.laruelibrary.org/event/magic-the-gathering-ages-7-13-4/2025-09-05/
LOCATION:LaRue County Public Library\, 215 Lincoln Drive\, Hodgenville\, KY\, 42748\, United States
CATEGORIES:Grade School,Middle School,Youth Events
ATTACH;FMTTYPE=image/png:https://www.laruelibrary.org/wp-content/uploads/2025/08/magic-7-13.png
ORGANIZER;CN="LaRue Public Library":MAILTO:info@laruelibrary.org
END:VEVENT
BEGIN:VEVENT
DTSTART;TZID=America/Kentucky/Louisville:20250905T160000
DTEND;TZID=America/Kentucky/Louisville:20250905T160000
DTSTAMP:20260426T001945
CREATED:20250815T163507Z
LAST-MODIFIED:20250815T163507Z
UID:10002107-1757088000-1757088000@www.laruelibrary.org
SUMMARY:Magic: The Gathering Ages 14-18
DESCRIPTION:Join us at the library on Friday\, September 5th and Friday September 19th @ 4:00pm for Magic: The Gathering\, a fun and welcoming event for teens ages 14-18. \nWhether you’re new to the game or a seasoned player\, come learn\, play\, and connect with others who enjoy Magic!
URL:https://www.laruelibrary.org/event/magic-the-gathering-ages-14-18-3/2025-09-05/
LOCATION:LaRue County Public Library\, 215 Lincoln Drive\, Hodgenville\, KY\, 42748\, United States
CATEGORIES:High School,Youth Events
ATTACH;FMTTYPE=image/png:https://www.laruelibrary.org/wp-content/uploads/2025/08/magic-14-18.png
ORGANIZER;CN="LaRue Public Library":MAILTO:info@laruelibrary.org
END:VEVENT
BEGIN:VEVENT
DTSTART;TZID=America/Kentucky/Louisville:20250908T100000
DTEND;TZID=America/Kentucky/Louisville:20250908T100000
DTSTAMP:20260426T001945
CREATED:20250816T141552Z
LAST-MODIFIED:20250816T141552Z
UID:10002120-1757325600-1757325600@www.laruelibrary.org
SUMMARY:Stretch and Shine
DESCRIPTION:Ease into your week with Stretch and Shine\, a low-impact program focused on stretching and simple\, relaxing movements. Designed for adults of all mobility levels\, this session supports flexibility\, balance\, and a sense of calm. Join us at the library every Monday at 10 AM. No special equipment needed—just wear comfortable clothes and enjoy some time to move and unwind.
URL:https://www.laruelibrary.org/event/stretch-and-shine-57/2025-09-08/
LOCATION:LaRue County Public Library\, 215 Lincoln Drive\, Hodgenville\, KY\, 42748\, United States
CATEGORIES:Adult,Adult Events
ATTACH;FMTTYPE=image/png:https://www.laruelibrary.org/wp-content/uploads/2023/03/Stretch-Adult-Event-1.png
END:VEVENT
BEGIN:VEVENT
DTSTART;TZID=America/Kentucky/Louisville:20250908T140000
DTEND;TZID=America/Kentucky/Louisville:20250908T140000
DTSTAMP:20260426T001945
CREATED:20250816T141728Z
LAST-MODIFIED:20250816T141728Z
UID:10002124-1757340000-1757340000@www.laruelibrary.org
SUMMARY:Community Games
DESCRIPTION:Come and have some game day fun here at the library at 2:00 pm! Bring your friends\, family\, a board game (or choose one of ours\,) and enjoy!
URL:https://www.laruelibrary.org/event/community-games-53/2025-09-08/
LOCATION:LaRue County Public Library\, 215 Lincoln Drive\, Hodgenville\, KY\, 42748\, United States
CATEGORIES:Everyone
ATTACH;FMTTYPE=image/jpeg:https://www.laruelibrary.org/wp-content/uploads/2025/01/game.jpeg
END:VEVENT
BEGIN:VEVENT
DTSTART;TZID=America/Kentucky/Louisville:20250909T110000
DTEND;TZID=America/Kentucky/Louisville:20250909T110000
DTSTAMP:20260426T001945
CREATED:20250815T161324Z
LAST-MODIFIED:20250815T161324Z
UID:10002098-1757415600-1757415600@www.laruelibrary.org
SUMMARY:Story Time
DESCRIPTION:Join us for a fun and fantastic story and a craft on Tuesday at 11:00 AM and on Thursday at 1:30 PM! \nStory time is for children under the ages of 5. \nThis is a great opportunity to grow young readers. We make learning fun by introducing children to books\, love of reading\, and songs! We can’t wait to see you!
URL:https://www.laruelibrary.org/event/story-time-125/2025-09-09/
LOCATION:LaRue County Public Library\, 215 Lincoln Drive\, Hodgenville\, KY\, 42748\, United States
CATEGORIES:Age Under 5 Years Old,Youth Events
ATTACH;FMTTYPE=image/png:https://www.laruelibrary.org/wp-content/uploads/2023/10/NST.0-1.png
ORGANIZER;CN="LaRue Public Library":MAILTO:info@laruelibrary.org
END:VEVENT
BEGIN:VEVENT
DTSTART;TZID=America/Kentucky/Louisville:20250909T150000
DTEND;TZID=America/Kentucky/Louisville:20250909T150000
DTSTAMP:20260426T001945
CREATED:20250816T142310Z
LAST-MODIFIED:20250816T142310Z
UID:10002128-1757430000-1757430000@www.laruelibrary.org
SUMMARY:Rainbow Car Diffusers
DESCRIPTION:Join us at the library on Tuesday\, September 9th at 3:00 PM to craft your own colorful Rainbow Car Diffuser! This free program is open to teens and adults—call the library to register and reserve your spot.
URL:https://www.laruelibrary.org/event/rainbow-car-diffusers/
LOCATION:LaRue County Public Library\, 215 Lincoln Drive\, Hodgenville\, KY\, 42748\, United States
CATEGORIES:Adult,Adult Events,High School,Middle School
ATTACH;FMTTYPE=image/png:https://www.laruelibrary.org/wp-content/uploads/2025/08/Screenshot-2025-08-16-at-10.22.45-AM.png
END:VEVENT
BEGIN:VEVENT
DTSTART;TZID=America/Kentucky/Louisville:20250911T100000
DTEND;TZID=America/Kentucky/Louisville:20250911T100000
DTSTAMP:20260426T001945
CREATED:20250315T145412Z
LAST-MODIFIED:20250315T145427Z
UID:10001796-1757584800-1757584800@www.laruelibrary.org
SUMMARY:Circle of Love
DESCRIPTION:Circle of Love – a program for newborn children through age 3. \nOur sponsors are proud of present a program specifically for our youngest community members! Try new songs and activities\, hear stories\, learn about keeping your child safe\, and much more. Each child will leave with some sort of age-appropriate treat! This program is sponsored by: LaRue County Public Library\, HES Family Resource Center\, Lincoln Trail District Health Department. \nJoin us at 10 AM on April 10th\, May 15th\, June 12th\, July 10th\, August 14th\, September 11th\, and October 16th.
URL:https://www.laruelibrary.org/event/circle-of-love/2025-09-11/
LOCATION:LaRue County Public Library\, 215 Lincoln Drive\, Hodgenville\, KY\, 42748\, United States
CATEGORIES:Ages 0 - 36 Months
ATTACH;FMTTYPE=image/png:https://www.laruelibrary.org/wp-content/uploads/2025/03/Screenshot-2025-03-15-105413.png
END:VEVENT
BEGIN:VEVENT
DTSTART;TZID=America/Kentucky/Louisville:20250911T133000
DTEND;TZID=America/Kentucky/Louisville:20250911T133000
DTSTAMP:20260426T001945
CREATED:20250815T161324Z
LAST-MODIFIED:20250815T161324Z
UID:10002099-1757597400-1757597400@www.laruelibrary.org
SUMMARY:Story Time
DESCRIPTION:Join us for a fun and fantastic story and a craft on Tuesday at 11:00 AM and on Thursday at 1:30 PM! \nStory time is for children under the ages of 5. \nThis is a great opportunity to grow young readers. We make learning fun by introducing children to books\, love of reading\, and songs! We can’t wait to see you!
URL:https://www.laruelibrary.org/event/story-time-125/2025-09-11/
LOCATION:LaRue County Public Library\, 215 Lincoln Drive\, Hodgenville\, KY\, 42748\, United States
CATEGORIES:Age Under 5 Years Old,Youth Events
ATTACH;FMTTYPE=image/png:https://www.laruelibrary.org/wp-content/uploads/2023/10/NST.0-1.png
ORGANIZER;CN="LaRue Public Library":MAILTO:info@laruelibrary.org
END:VEVENT
BEGIN:VEVENT
DTSTART;TZID=America/Kentucky/Louisville:20250911T150000
DTEND;TZID=America/Kentucky/Louisville:20250911T170000
DTSTAMP:20260426T001945
CREATED:20250815T152700Z
LAST-MODIFIED:20250815T152700Z
UID:10002086-1757602800-1757610000@www.laruelibrary.org
SUMMARY:Voter Registration
DESCRIPTION:Voter Registration in the LCPL Lobby on: \nSeptember 5th & 22nd from 10:00am-12:00pm \nSeptember 11th & 16th from 3:00pm-5:00pm
URL:https://www.laruelibrary.org/event/voter-registration/2025-09-11/
LOCATION:LaRue County Public Library\, 215 Lincoln Drive\, Hodgenville\, KY\, 42748\, United States
CATEGORIES:Adult,Adult Events
ATTACH;FMTTYPE=image/png:https://www.laruelibrary.org/wp-content/uploads/2025/08/voter.png
ORGANIZER;CN="LaRue Public Library":MAILTO:info@laruelibrary.org
END:VEVENT
BEGIN:VEVENT
DTSTART;TZID=America/Kentucky/Louisville:20250911T160000
DTEND;TZID=America/Kentucky/Louisville:20250911T160000
DTSTAMP:20260426T001945
CREATED:20250816T144135Z
LAST-MODIFIED:20250816T144135Z
UID:10002129-1757606400-1757606400@www.laruelibrary.org
SUMMARY:Whittling
DESCRIPTION:Discover the art of whittling with Dave Levee on Thursday\, September 11th at 4:00 PM! Open to teens and adults—registration is required\, so be sure to call the library to sign up.
URL:https://www.laruelibrary.org/event/whittling-5/
LOCATION:LaRue County Public Library\, 215 Lincoln Drive\, Hodgenville\, KY\, 42748\, United States
CATEGORIES:Adult,Adult Events,High School,Middle School
ATTACH;FMTTYPE=image/png:https://www.laruelibrary.org/wp-content/uploads/2025/08/Screenshot-2025-08-16-at-10.41.07-AM.png
END:VEVENT
BEGIN:VEVENT
DTSTART;TZID=America/Kentucky/Louisville:20250915T100000
DTEND;TZID=America/Kentucky/Louisville:20250915T100000
DTSTAMP:20260426T001945
CREATED:20250816T141552Z
LAST-MODIFIED:20250816T141552Z
UID:10002121-1757930400-1757930400@www.laruelibrary.org
SUMMARY:Stretch and Shine
DESCRIPTION:Ease into your week with Stretch and Shine\, a low-impact program focused on stretching and simple\, relaxing movements. Designed for adults of all mobility levels\, this session supports flexibility\, balance\, and a sense of calm. Join us at the library every Monday at 10 AM. No special equipment needed—just wear comfortable clothes and enjoy some time to move and unwind.
URL:https://www.laruelibrary.org/event/stretch-and-shine-57/2025-09-15/
LOCATION:LaRue County Public Library\, 215 Lincoln Drive\, Hodgenville\, KY\, 42748\, United States
CATEGORIES:Adult,Adult Events
ATTACH;FMTTYPE=image/png:https://www.laruelibrary.org/wp-content/uploads/2023/03/Stretch-Adult-Event-1.png
END:VEVENT
BEGIN:VEVENT
DTSTART;TZID=America/Kentucky/Louisville:20250915T140000
DTEND;TZID=America/Kentucky/Louisville:20250915T140000
DTSTAMP:20260426T001945
CREATED:20250816T141728Z
LAST-MODIFIED:20250816T141728Z
UID:10002125-1757944800-1757944800@www.laruelibrary.org
SUMMARY:Community Games
DESCRIPTION:Come and have some game day fun here at the library at 2:00 pm! Bring your friends\, family\, a board game (or choose one of ours\,) and enjoy!
URL:https://www.laruelibrary.org/event/community-games-53/2025-09-15/
LOCATION:LaRue County Public Library\, 215 Lincoln Drive\, Hodgenville\, KY\, 42748\, United States
CATEGORIES:Everyone
ATTACH;FMTTYPE=image/jpeg:https://www.laruelibrary.org/wp-content/uploads/2025/01/game.jpeg
END:VEVENT
BEGIN:VEVENT
DTSTART;TZID=America/Kentucky/Louisville:20250916T100000
DTEND;TZID=America/Kentucky/Louisville:20250916T100000
DTSTAMP:20260426T001945
CREATED:20250815T145520Z
LAST-MODIFIED:20250815T145520Z
UID:10002077-1758016800-1758016800@www.laruelibrary.org
SUMMARY:BINGOcize
DESCRIPTION:Join us on Tuesday\, September 16th at 10:00am for a health promotion program combining Bingo! with inclusive exercises for all! \nThis class is meant for Adults. Call to register.
URL:https://www.laruelibrary.org/event/bingocize-11/
LOCATION:LaRue County Public Library\, 215 Lincoln Drive\, Hodgenville\, KY\, 42748\, United States
CATEGORIES:Adult,Adult Events
ATTACH;FMTTYPE=image/png:https://www.laruelibrary.org/wp-content/uploads/2025/08/bingo-916.png
ORGANIZER;CN="LaRue Public Library":MAILTO:info@laruelibrary.org
END:VEVENT
BEGIN:VEVENT
DTSTART;TZID=America/Kentucky/Louisville:20250916T100000
DTEND;TZID=America/Kentucky/Louisville:20250916T120000
DTSTAMP:20260426T001945
CREATED:20250815T145848Z
LAST-MODIFIED:20250815T145848Z
UID:10002078-1758016800-1758024000@www.laruelibrary.org
SUMMARY:Medicare Table
DESCRIPTION:Visit Michael Monaghan in our front lobby Tuesday\, September 16th from 10:00am-12:00pm for Medicare enrollment assistance!
URL:https://www.laruelibrary.org/event/medicare-table-3/
LOCATION:LaRue County Public Library\, 215 Lincoln Drive\, Hodgenville\, KY\, 42748\, United States
CATEGORIES:Adult,Adult Events
ATTACH;FMTTYPE=image/png:https://www.laruelibrary.org/wp-content/uploads/2025/08/medicare-916.png
ORGANIZER;CN="LaRue Public Library":MAILTO:info@laruelibrary.org
END:VEVENT
BEGIN:VEVENT
DTSTART;TZID=America/Kentucky/Louisville:20250916T110000
DTEND;TZID=America/Kentucky/Louisville:20250916T110000
DTSTAMP:20260426T001945
CREATED:20250815T150015Z
LAST-MODIFIED:20250815T150015Z
UID:10002079-1758020400-1758020400@www.laruelibrary.org
SUMMARY:Tai Chi
DESCRIPTION:Join us on Tuesday\, September 16th @ 11:15am to practice Tai Chi. \nTai Chi is a practice that involves a series of slow gentle movements and physical postures\, a meditative state of mind\, and controlled breathing. It originated as an ancient martial art in China and\, over time\, has become more focused on health promotion and rehabilitation. \nAdults Only.
URL:https://www.laruelibrary.org/event/tai-chi-8/
LOCATION:LaRue County Public Library\, 215 Lincoln Drive\, Hodgenville\, KY\, 42748\, United States
CATEGORIES:Adult,Adult Events
ATTACH;FMTTYPE=image/png:https://www.laruelibrary.org/wp-content/uploads/2025/08/tai-chi-916.png
ORGANIZER;CN="LaRue Public Library":MAILTO:info@laruelibrary.org
END:VEVENT
BEGIN:VEVENT
DTSTART;TZID=America/Kentucky/Louisville:20250916T110000
DTEND;TZID=America/Kentucky/Louisville:20250916T110000
DTSTAMP:20260426T001945
CREATED:20250815T161324Z
LAST-MODIFIED:20250815T161324Z
UID:10002100-1758020400-1758020400@www.laruelibrary.org
SUMMARY:Story Time
DESCRIPTION:Join us for a fun and fantastic story and a craft on Tuesday at 11:00 AM and on Thursday at 1:30 PM! \nStory time is for children under the ages of 5. \nThis is a great opportunity to grow young readers. We make learning fun by introducing children to books\, love of reading\, and songs! We can’t wait to see you!
URL:https://www.laruelibrary.org/event/story-time-125/2025-09-16/
LOCATION:LaRue County Public Library\, 215 Lincoln Drive\, Hodgenville\, KY\, 42748\, United States
CATEGORIES:Age Under 5 Years Old,Youth Events
ATTACH;FMTTYPE=image/png:https://www.laruelibrary.org/wp-content/uploads/2023/10/NST.0-1.png
ORGANIZER;CN="LaRue Public Library":MAILTO:info@laruelibrary.org
END:VEVENT
BEGIN:VEVENT
DTSTART;TZID=America/Kentucky/Louisville:20250916T150000
DTEND;TZID=America/Kentucky/Louisville:20250916T170000
DTSTAMP:20260426T001945
CREATED:20250815T152700Z
LAST-MODIFIED:20250815T152700Z
UID:10002087-1758034800-1758042000@www.laruelibrary.org
SUMMARY:Voter Registration
DESCRIPTION:Voter Registration in the LCPL Lobby on: \nSeptember 5th & 22nd from 10:00am-12:00pm \nSeptember 11th & 16th from 3:00pm-5:00pm
URL:https://www.laruelibrary.org/event/voter-registration/2025-09-16/
LOCATION:LaRue County Public Library\, 215 Lincoln Drive\, Hodgenville\, KY\, 42748\, United States
CATEGORIES:Adult,Adult Events
ATTACH;FMTTYPE=image/png:https://www.laruelibrary.org/wp-content/uploads/2025/08/voter.png
ORGANIZER;CN="LaRue Public Library":MAILTO:info@laruelibrary.org
END:VEVENT
BEGIN:VEVENT
DTSTART;TZID=America/Kentucky/Louisville:20250916T153000
DTEND;TZID=America/Kentucky/Louisville:20250916T153000
DTSTAMP:20260426T001945
CREATED:20250815T172025Z
LAST-MODIFIED:20250815T172025Z
UID:10002110-1758036600-1758036600@www.laruelibrary.org
SUMMARY:Pumpkin Wreaths
DESCRIPTION:Jump into Autumn and join us on Tuesday\, September 16th @ 3:30pm to make pumpkin wreaths! \nMiddle School – Teen. Call to register.
URL:https://www.laruelibrary.org/event/pumpkin-wreaths/
LOCATION:LaRue County Public Library\, 215 Lincoln Drive\, Hodgenville\, KY\, 42748\, United States
CATEGORIES:High School,Middle School,Youth Events
ATTACH;FMTTYPE=image/png:https://www.laruelibrary.org/wp-content/uploads/2025/08/pumpkin-916.png
ORGANIZER;CN="LaRue Public Library":MAILTO:info@laruelibrary.org
END:VEVENT
BEGIN:VEVENT
DTSTART;TZID=America/Kentucky/Louisville:20250916T170000
DTEND;TZID=America/Kentucky/Louisville:20250916T170000
DTSTAMP:20260426T001945
CREATED:20250815T154236Z
LAST-MODIFIED:20250815T154236Z
UID:10002089-1758042000-1758042000@www.laruelibrary.org
SUMMARY:ASL - American Sign Language
DESCRIPTION:ASL class on Tuesday\, September 16th @ 5:00pm \nClass limit of 24. Open to all ages. Call to sign up.
URL:https://www.laruelibrary.org/event/asl-american-sign-language/
LOCATION:LaRue County Public Library\, 215 Lincoln Drive\, Hodgenville\, KY\, 42748\, United States
CATEGORIES:Everyone
ATTACH;FMTTYPE=image/png:https://www.laruelibrary.org/wp-content/uploads/2025/08/asl-916.png
ORGANIZER;CN="LaRue Public Library":MAILTO:info@laruelibrary.org
END:VEVENT
BEGIN:VEVENT
DTSTART;TZID=America/Kentucky/Louisville:20250918T133000
DTEND;TZID=America/Kentucky/Louisville:20250918T133000
DTSTAMP:20260426T001945
CREATED:20250815T161324Z
LAST-MODIFIED:20250815T161324Z
UID:10002101-1758202200-1758202200@www.laruelibrary.org
SUMMARY:Story Time
DESCRIPTION:Join us for a fun and fantastic story and a craft on Tuesday at 11:00 AM and on Thursday at 1:30 PM! \nStory time is for children under the ages of 5. \nThis is a great opportunity to grow young readers. We make learning fun by introducing children to books\, love of reading\, and songs! We can’t wait to see you!
URL:https://www.laruelibrary.org/event/story-time-125/2025-09-18/
LOCATION:LaRue County Public Library\, 215 Lincoln Drive\, Hodgenville\, KY\, 42748\, United States
CATEGORIES:Age Under 5 Years Old,Youth Events
ATTACH;FMTTYPE=image/png:https://www.laruelibrary.org/wp-content/uploads/2023/10/NST.0-1.png
ORGANIZER;CN="LaRue Public Library":MAILTO:info@laruelibrary.org
END:VEVENT
BEGIN:VEVENT
DTSTART;TZID=America/Kentucky/Louisville:20250918T153000
DTEND;TZID=America/Kentucky/Louisville:20250918T153000
DTSTAMP:20260426T001945
CREATED:20250815T150656Z
LAST-MODIFIED:20250815T150656Z
UID:10002083-1758209400-1758209400@www.laruelibrary.org
SUMMARY:Book Club
DESCRIPTION:Come join us on Thursday\, September 18th at 3:30pm for Book Club! \nThis is an Adult program.
URL:https://www.laruelibrary.org/event/book-club-28/
LOCATION:LaRue County Public Library\, 215 Lincoln Drive\, Hodgenville\, KY\, 42748\, United States
CATEGORIES:Adult,Adult Events
ATTACH;FMTTYPE=image/jpeg:https://www.laruelibrary.org/wp-content/uploads/2023/07/bc2.jpg
ORGANIZER;CN="LaRue Public Library":MAILTO:info@laruelibrary.org
END:VEVENT
BEGIN:VEVENT
DTSTART;TZID=America/Kentucky/Louisville:20250918T153000
DTEND;TZID=America/Kentucky/Louisville:20250918T153000
DTSTAMP:20260426T001945
CREATED:20250815T172322Z
LAST-MODIFIED:20250815T172322Z
UID:10002111-1758209400-1758209400@www.laruelibrary.org
SUMMARY:Painting Figurines
DESCRIPTION:Bring out your inner artist and join us on Thursday\, September 18th @ 3:30pm to paint figurines! \nGrade School – 18. Call to register.
URL:https://www.laruelibrary.org/event/painting-figurines/
LOCATION:LaRue County Public Library\, 215 Lincoln Drive\, Hodgenville\, KY\, 42748\, United States
CATEGORIES:Grade School,High School,Middle School,Youth Events
ATTACH;FMTTYPE=image/png:https://www.laruelibrary.org/wp-content/uploads/2025/08/painting-918.png
ORGANIZER;CN="LaRue Public Library":MAILTO:info@laruelibrary.org
END:VEVENT
BEGIN:VEVENT
DTSTART;TZID=America/Kentucky/Louisville:20250918T163000
DTEND;TZID=America/Kentucky/Louisville:20250918T163000
DTSTAMP:20260426T001945
CREATED:20250815T151013Z
LAST-MODIFIED:20250815T151013Z
UID:10002084-1758213000-1758213000@www.laruelibrary.org
SUMMARY:Board Meeting
DESCRIPTION:LCPL Board Meeting on Thursday\, September 18th at 4:30pm. \nThis is for adults only.
URL:https://www.laruelibrary.org/event/board-meeting-24/
LOCATION:LaRue County Public Library\, 215 Lincoln Drive\, Hodgenville\, KY\, 42748\, United States
CATEGORIES:Adult,Adult Events
ATTACH;FMTTYPE=image/jpeg:https://www.laruelibrary.org/wp-content/uploads/2023/07/brm2.jpg
ORGANIZER;CN="LaRue Public Library":MAILTO:info@laruelibrary.org
END:VEVENT
BEGIN:VEVENT
DTSTART;TZID=America/Kentucky/Louisville:20250918T170000
DTEND;TZID=America/Kentucky/Louisville:20250918T170000
DTSTAMP:20260426T001945
CREATED:20250815T154504Z
LAST-MODIFIED:20250815T154504Z
UID:10002090-1758214800-1758214800@www.laruelibrary.org
SUMMARY:Hammered Flower Canvas Bags
DESCRIPTION:Join us on Thursday\, September 18th @ 5:00pm to make Hammered Flower Canvas Bags! \nClass limit of 24. Teens and Adults. Call to register.
URL:https://www.laruelibrary.org/event/hammered-flower-canvas-bags/
LOCATION:LaRue County Public Library\, 215 Lincoln Drive\, Hodgenville\, KY\, 42748\, United States
CATEGORIES:Adult,Adult Events,High School,Youth Events
ATTACH;FMTTYPE=image/png:https://www.laruelibrary.org/wp-content/uploads/2025/08/hammer-918.png
ORGANIZER;CN="LaRue Public Library":MAILTO:info@laruelibrary.org
END:VEVENT
END:VCALENDAR