BEGIN:VCALENDAR
VERSION:2.0
PRODID:-//LaRue County Public Library - ECPv6.15.20//NONSGML v1.0//EN
CALSCALE:GREGORIAN
METHOD:PUBLISH
X-WR-CALNAME:LaRue County Public Library
X-ORIGINAL-URL:https://www.laruelibrary.org
X-WR-CALDESC:Events for LaRue County Public Library
REFRESH-INTERVAL;VALUE=DURATION:PT1H
X-Robots-Tag:noindex
X-PUBLISHED-TTL:PT1H
BEGIN:VTIMEZONE
TZID:UTC
BEGIN:STANDARD
TZOFFSETFROM:+0000
TZOFFSETTO:+0000
TZNAME:UTC
DTSTART:20220101T000000
END:STANDARD
END:VTIMEZONE
BEGIN:VEVENT
DTSTART;TZID=UTC:20230403T110000
DTEND;TZID=UTC:20230403T110000
DTSTAMP:20260420T025221
CREATED:20230329T230759Z
LAST-MODIFIED:20230404T005023Z
UID:10000008-1680519600-1680519600@www.laruelibrary.org
SUMMARY:Teen Advisory Group
DESCRIPTION:Teen Advisory Council Meeting at the LaRue County Public Library.  Any teen that has great ideas or wants to be involved is welcome to come! Monday\, April 3rd @ 11:00.\n \nThis program is designed for Teens. 
URL:https://www.laruelibrary.org/event/teen-advisory-group/
LOCATION:LaRue County Public Library\, 215 Lincoln Drive\, Hodgenville\, KY\, 42748\, United States
CATEGORIES:High School,Youth Events
ATTACH;FMTTYPE=image/png:https://www.laruelibrary.org/wp-content/uploads/2023/03/teen-event.png
ORGANIZER;CN="LaRue Public Library":MAILTO:info@laruelibrary.org
END:VEVENT
BEGIN:VEVENT
DTSTART;TZID=UTC:20230403T100000
DTEND;TZID=UTC:20230403T100000
DTSTAMP:20260420T025221
CREATED:20230329T225404Z
LAST-MODIFIED:20230403T234458Z
UID:10000007-1680516000-1680516000@www.laruelibrary.org
SUMMARY:Stretch & Shine
DESCRIPTION:Join us for Stretch and Shine and start your day off right! Free low-impact exercise class for adults. Let’s get those muscles moving! Monday\, April 3rd @ 10:00am. \n This program is designed for Adults. 
URL:https://www.laruelibrary.org/event/stretch-shine/
LOCATION:LaRue County Public Library\, 215 Lincoln Drive\, Hodgenville\, KY\, 42748\, United States
CATEGORIES:Adult,Adult Events
ORGANIZER;CN="LaRue Public Library":MAILTO:info@laruelibrary.org
END:VEVENT
BEGIN:VEVENT
DTSTART;VALUE=DATE:20230331
DTEND;VALUE=DATE:20230404
DTSTAMP:20260420T025221
CREATED:20230331T213031Z
LAST-MODIFIED:20230404T005058Z
UID:10000050-1680220800-1680566399@www.laruelibrary.org
SUMMARY:Blue Door Decoration Contest
DESCRIPTION:April is National Child Abuse Awareness Month. To raise awareness\, we’re asking you to decorate your door blue! Blue Door Decoration Contest: Post a picture of your Blue Door to Facebook by April 3rd. Prizes for top three doors! See Facebook for details. \nThis program is designed for Families (all ages). 
URL:https://www.laruelibrary.org/event/blue-door-decoration-contest/
LOCATION:LaRue County Public Library\, 215 Lincoln Drive\, Hodgenville\, KY\, 42748\, United States
CATEGORIES:Adult,Adult Events,Age Under 5 Years Old,Ages 0 - 36 Months,Family,Grade School,High School,Middle School,Youth Events
ATTACH;FMTTYPE=image/png:https://www.laruelibrary.org/wp-content/uploads/2023/03/blue-door-event2.png
ORGANIZER;CN="LaRue Public Library":MAILTO:info@laruelibrary.org
END:VEVENT
END:VCALENDAR