BEGIN:VCALENDAR
VERSION:2.0
PRODID:-//LaRue County Public Library - ECPv6.15.20//NONSGML v1.0//EN
CALSCALE:GREGORIAN
METHOD:PUBLISH
X-WR-CALNAME:LaRue County Public Library
X-ORIGINAL-URL:https://www.laruelibrary.org
X-WR-CALDESC:Events for LaRue County Public Library
REFRESH-INTERVAL;VALUE=DURATION:PT1H
X-Robots-Tag:noindex
X-PUBLISHED-TTL:PT1H
BEGIN:VTIMEZONE
TZID:America/Kentucky/Louisville
BEGIN:DAYLIGHT
TZOFFSETFROM:-0500
TZOFFSETTO:-0400
TZNAME:EDT
DTSTART:20230312T070000
END:DAYLIGHT
BEGIN:STANDARD
TZOFFSETFROM:-0400
TZOFFSETTO:-0500
TZNAME:EST
DTSTART:20231105T060000
END:STANDARD
BEGIN:DAYLIGHT
TZOFFSETFROM:-0500
TZOFFSETTO:-0400
TZNAME:EDT
DTSTART:20240310T070000
END:DAYLIGHT
BEGIN:STANDARD
TZOFFSETFROM:-0400
TZOFFSETTO:-0500
TZNAME:EST
DTSTART:20241103T060000
END:STANDARD
BEGIN:DAYLIGHT
TZOFFSETFROM:-0500
TZOFFSETTO:-0400
TZNAME:EDT
DTSTART:20250309T070000
END:DAYLIGHT
BEGIN:STANDARD
TZOFFSETFROM:-0400
TZOFFSETTO:-0500
TZNAME:EST
DTSTART:20251102T060000
END:STANDARD
END:VTIMEZONE
BEGIN:VEVENT
DTSTART;TZID=America/Kentucky/Louisville:20240129T100000
DTEND;TZID=America/Kentucky/Louisville:20240129T100000
DTSTAMP:20260420T025110
CREATED:20231215T171015Z
LAST-MODIFIED:20231215T171441Z
UID:10000479-1706522400-1706522400@www.laruelibrary.org
SUMMARY:Stretch and Shine
DESCRIPTION:Join us for Stretch and Shine and start your day off right! Free low-impact exercise class. \nLet’s get those muscles moving! Monday\, January 29th @ 10:00am. \nThis program is designed for Adults.
URL:https://www.laruelibrary.org/event/stretch-and-shine-18/
LOCATION:LaRue County Public Library\, 215 Lincoln Drive\, Hodgenville\, KY\, 42748\, United States
CATEGORIES:Adult,Adult Events
ORGANIZER;CN="LaRue Public Library":MAILTO:info@laruelibrary.org
END:VEVENT
BEGIN:VEVENT
DTSTART;TZID=America/Kentucky/Louisville:20240129T140000
DTEND;TZID=America/Kentucky/Louisville:20240129T140000
DTSTAMP:20260420T025110
CREATED:20231215T171320Z
LAST-MODIFIED:20231215T171518Z
UID:10000481-1706536800-1706536800@www.laruelibrary.org
SUMMARY:Community Games
DESCRIPTION:Come and have some game day fun here at the library! Bring your friends\, family\, a board game (or choose one of ours) and enjoy! Monday\, January 29th at 2:00pm.
URL:https://www.laruelibrary.org/event/community-games-18/
LOCATION:LaRue County Public Library\, 215 Lincoln Drive\, Hodgenville\, KY\, 42748\, United States
CATEGORIES:Adult Events,Everyone,Youth Events
ATTACH;FMTTYPE=image/jpeg:https://www.laruelibrary.org/wp-content/uploads/2023/07/bg2.jpg
ORGANIZER;CN="LaRue Public Library":MAILTO:info@laruelibrary.org
END:VEVENT
BEGIN:VEVENT
DTSTART;TZID=America/Kentucky/Louisville:20240129T153000
DTEND;TZID=America/Kentucky/Louisville:20240129T153000
DTSTAMP:20260420T025110
CREATED:20231218T171045Z
LAST-MODIFIED:20231218T171045Z
UID:10000495-1706542200-1706542200@www.laruelibrary.org
SUMMARY:Design Your Own Puzzle
DESCRIPTION:Come and design your own puzzle on Monday\, January 29th @ 3:30pm! \nCall to register. Class for ages 18 and under.
URL:https://www.laruelibrary.org/event/design-your-own-puzzle/
LOCATION:LaRue County Public Library\, 215 Lincoln Drive\, Hodgenville\, KY\, 42748\, United States
CATEGORIES:Grade School,High School,Middle School,Youth Events
ATTACH;FMTTYPE=image/png:https://www.laruelibrary.org/wp-content/uploads/2023/12/DIY-Puzzle.png
ORGANIZER;CN="LaRue Public Library":MAILTO:info@laruelibrary.org
END:VEVENT
BEGIN:VEVENT
DTSTART;TZID=America/Kentucky/Louisville:20240130T110000
DTEND;TZID=America/Kentucky/Louisville:20240130T110000
DTSTAMP:20260420T025110
CREATED:20231215T164247Z
LAST-MODIFIED:20240130T140701Z
UID:10000472-1706612400-1706612400@www.laruelibrary.org
SUMMARY:Cancelled - Story Time
DESCRIPTION:Come and enjoy a special Story Time with Ms Taylor on Tuesday\, January 30th @ 11:00am! \nStory Time for children under the age of 5 is a great way to grow a reader! Story Time makes learning fun and introduces children to books\, reading and language with stories\, songs and activities. Hope you can join us!
URL:https://www.laruelibrary.org/event/story-time-65/
LOCATION:LaRue County Public Library\, 215 Lincoln Drive\, Hodgenville\, KY\, 42748\, United States
CATEGORIES:Age Under 5 Years Old,Youth Events
ATTACH;FMTTYPE=image/png:https://www.laruelibrary.org/wp-content/uploads/2023/10/NST.0-1.png
ORGANIZER;CN="LaRue Public Library":MAILTO:info@laruelibrary.org
END:VEVENT
BEGIN:VEVENT
DTSTART;TZID=America/Kentucky/Louisville:20240130T123000
DTEND;TZID=America/Kentucky/Louisville:20240130T140000
DTSTAMP:20260420T025110
CREATED:20231215T170631Z
LAST-MODIFIED:20231215T170631Z
UID:10000477-1706617800-1706623200@www.laruelibrary.org
SUMMARY:Kynect
DESCRIPTION:What can Kynect do for you? Ginny Whitt will set up in the lobby on Tuesday\, January 30th from 12:30pm until 2pm. You might be surprised by what she can help with Snap benefits\, Medicaid\, and Kentucky Marketplace Insurance. Let her help you avoid those phone calls and red tape. \nThis program is designed for Adults.
URL:https://www.laruelibrary.org/event/kynect-14/
LOCATION:LaRue County Public Library\, 215 Lincoln Drive\, Hodgenville\, KY\, 42748\, United States
CATEGORIES:Adult,Adult Events
ATTACH;FMTTYPE=image/png:https://www.laruelibrary.org/wp-content/uploads/2023/08/kynect2.png
ORGANIZER;CN="LaRue Public Library":MAILTO:info@laruelibrary.org
END:VEVENT
BEGIN:VEVENT
DTSTART;TZID=America/Kentucky/Louisville:20240130T130000
DTEND;TZID=America/Kentucky/Louisville:20240130T130000
DTSTAMP:20260420T025110
CREATED:20231218T173117Z
LAST-MODIFIED:20231218T173117Z
UID:10000496-1706619600-1706619600@www.laruelibrary.org
SUMMARY:Soup & Bunco Social
DESCRIPTION:January is National Soup Month and we are having a Soup & Bunco Social to celebrate on Tuesday\, January 30th @ 1:00pm! Limit of 20. Adults only. Prizes for 1st\, 2nd\, and 3rd in Bunco! \nLet us know if you’re willing to bring soup\, sandwiches\, or dessert when you sign up! \nBowls\, Spoons\, crackers\, and drinks will be provided. \n 
URL:https://www.laruelibrary.org/event/soup-bunco-social/
LOCATION:LaRue County Public Library\, 215 Lincoln Drive\, Hodgenville\, KY\, 42748\, United States
CATEGORIES:Adult,Adult Events
ATTACH;FMTTYPE=image/png:https://www.laruelibrary.org/wp-content/uploads/2023/12/SoupBunco.png
ORGANIZER;CN="LaRue Public Library":MAILTO:info@laruelibrary.org
END:VEVENT
BEGIN:VEVENT
DTSTART;TZID=America/Kentucky/Louisville:20240201T153000
DTEND;TZID=America/Kentucky/Louisville:20240201T153000
DTSTAMP:20260420T025110
CREATED:20240125T222353Z
LAST-MODIFIED:20240125T222401Z
UID:10000518-1706801400-1706801400@www.laruelibrary.org
SUMMARY:Valentine's Day Cards
DESCRIPTION:Take a moment to create a card for a special someone – anyone you want to show you love them! Our family program\, Valentine’s Day Cards\, will be here at the library on Thursday\, February 1st at 3:30 PM.
URL:https://www.laruelibrary.org/event/valentines-day-cards/
LOCATION:LaRue County Public Library\, 215 Lincoln Drive\, Hodgenville\, KY\, 42748\, United States
CATEGORIES:Family
END:VEVENT
BEGIN:VEVENT
DTSTART;TZID=America/Kentucky/Louisville:20240201T160000
DTEND;TZID=America/Kentucky/Louisville:20240201T160000
DTSTAMP:20260420T025110
CREATED:20240125T222521Z
LAST-MODIFIED:20240125T222521Z
UID:10000519-1706803200-1706803200@www.laruelibrary.org
SUMMARY:Friends of the Library
DESCRIPTION:Join us for a Friends of the Library meeting. Become a member and help us promote the LaRue County Public Library. Membership enables you to join your local branch chapter and become involved with many wonderful library activities throughout the year. Benefits include invitations to special Friends’ events\, Volunteer opportunities\, and advocacy opportunities. Hope to see you there!
URL:https://www.laruelibrary.org/event/friends-of-the-library-10/
LOCATION:LaRue County Public Library\, 215 Lincoln Drive\, Hodgenville\, KY\, 42748\, United States
CATEGORIES:Adult,Adult Events
ATTACH;FMTTYPE=image/png:https://www.laruelibrary.org/wp-content/uploads/2023/03/BecomeLibraryFriend.png
END:VEVENT
BEGIN:VEVENT
DTSTART;TZID=America/Kentucky/Louisville:20240201T170000
DTEND;TZID=America/Kentucky/Louisville:20240201T170000
DTSTAMP:20260420T025110
CREATED:20240127T160403Z
LAST-MODIFIED:20240127T160403Z
UID:10000534-1706806800-1706806800@www.laruelibrary.org
SUMMARY:Collette Starks - Author Visit
DESCRIPTION:Author Collette Starks will be sharing her story of authoring the children’s book A Christmas Lesson and doing a reading. Everyone is welcome to attend on Thursday\, February 1st at 5:00 PM. We will also be giving away 2 copies of Collette’s book.
URL:https://www.laruelibrary.org/event/collette-starks-author-visit/
LOCATION:LaRue County Public Library\, 215 Lincoln Drive\, Hodgenville\, KY\, 42748\, United States
CATEGORIES:Everyone
ATTACH;FMTTYPE=image/png:https://www.laruelibrary.org/wp-content/uploads/2024/01/Screenshot-2024-01-27-at-11.02.04-AM.png
END:VEVENT
BEGIN:VEVENT
DTSTART;TZID=America/Kentucky/Louisville:20240202T150000
DTEND;TZID=America/Kentucky/Louisville:20240202T150000
DTSTAMP:20260420T025110
CREATED:20240125T233546Z
LAST-MODIFIED:20240125T233546Z
UID:10000520-1706886000-1706886000@www.laruelibrary.org
SUMMARY:Valentine's Day Wreaths
DESCRIPTION:Celebrate the season with a festive Valentine’s Day Wreath at the library on Friday\, February 2nd at 3:00 PM. This program\, designed for teens & adults\, does require registration. To sign up\, stop in the library or call at 270-358-3851.
URL:https://www.laruelibrary.org/event/valentines-day-wreaths/
LOCATION:LaRue County Public Library\, 215 Lincoln Drive\, Hodgenville\, KY\, 42748\, United States
CATEGORIES:Adult,Adult Events,High School,Middle School
END:VEVENT
BEGIN:VEVENT
DTSTART;TZID=America/Kentucky/Louisville:20240202T153000
DTEND;TZID=America/Kentucky/Louisville:20240202T153000
DTSTAMP:20260420T025110
CREATED:20240125T233845Z
LAST-MODIFIED:20240125T233845Z
UID:10000521-1706887800-1706887800@www.laruelibrary.org
SUMMARY:Popsicle Stick Bird Feeders
DESCRIPTION:Join us on Friday\, February 2nd at 3:30 PM to craft a popsicle stick bird feeder! This class\, designed for families and library patrons of all ages\, does not require preregistration. We hope to see you there!
URL:https://www.laruelibrary.org/event/popsicle-stick-bird-feeders/
LOCATION:LaRue County Public Library\, 215 Lincoln Drive\, Hodgenville\, KY\, 42748\, United States
CATEGORIES:Family
END:VEVENT
BEGIN:VEVENT
DTSTART;TZID=America/Kentucky/Louisville:20240205T100000
DTEND;TZID=America/Kentucky/Louisville:20240205T100000
DTSTAMP:20260420T025110
CREATED:20240127T151054Z
LAST-MODIFIED:20240127T154245Z
UID:10000522-1707127200-1707127200@www.laruelibrary.org
SUMMARY:Stretch & Shine
DESCRIPTION:Join us for Stretch & Shine\, a free\, low-impact exercise class at the library on Monday\, February 5th at 10:00 AM. This program is designed for adults. We hope to see you there!
URL:https://www.laruelibrary.org/event/stretch-shine-22/
LOCATION:LaRue County Public Library\, 215 Lincoln Drive\, Hodgenville\, KY\, 42748\, United States
CATEGORIES:Adult,Adult Events
ATTACH;FMTTYPE=image/png:https://www.laruelibrary.org/wp-content/uploads/2023/03/Stretch-Adult-Event-1.png
END:VEVENT
BEGIN:VEVENT
DTSTART;TZID=America/Kentucky/Louisville:20240205T140000
DTEND;TZID=America/Kentucky/Louisville:20240205T140000
DTSTAMP:20260420T025110
CREATED:20240127T151342Z
LAST-MODIFIED:20240127T151342Z
UID:10000523-1707141600-1707141600@www.laruelibrary.org
SUMMARY:Community Games
DESCRIPTION:Come and have some game day fun here at the library! Bring your friends\, family\, and a board game (or choose one of ours) and enjoy! We can’t wait to see you on Monday\, February 5th at 2:00 PM.
URL:https://www.laruelibrary.org/event/community-games-20/
LOCATION:LaRue County Public Library\, 215 Lincoln Drive\, Hodgenville\, KY\, 42748\, United States
CATEGORIES:Everyone
END:VEVENT
BEGIN:VEVENT
DTSTART;TZID=America/Kentucky/Louisville:20240206T110000
DTEND;TZID=America/Kentucky/Louisville:20240206T110000
DTSTAMP:20260420T025110
CREATED:20240127T152029Z
LAST-MODIFIED:20240127T152029Z
UID:10000524-1707217200-1707217200@www.laruelibrary.org
SUMMARY:Story Time - Character Themed
DESCRIPTION:Join us for a character-themed story time at the library on Tuesday\, February 5th at 11:00 AM or on Thursday\, February 8 at 1:30 PM. This program is designed for children under the age of 5! We can’t wait to have fun together!
URL:https://www.laruelibrary.org/event/story-time-character-themed/2024-02-06/
LOCATION:LaRue County Public Library\, 215 Lincoln Drive\, Hodgenville\, KY\, 42748\, United States
CATEGORIES:Age Under 5 Years Old
END:VEVENT
BEGIN:VEVENT
DTSTART;TZID=America/Kentucky/Louisville:20240208T003000
DTEND;TZID=America/Kentucky/Louisville:20240208T140000
DTSTAMP:20260420T025110
CREATED:20240127T152709Z
LAST-MODIFIED:20240127T152709Z
UID:10000526-1707352200-1707400800@www.laruelibrary.org
SUMMARY:Kynect
DESCRIPTION:What can Kynect do for you? Ginny Whitt will set up in the lobby on Thursday\, February 8th from 12:30 pm until 2:00 pm. You might be surprised by what she can help with Snap benefits\, Medicaid\, and Kentucky Marketplace Insurance. Let her help you avoid those phone calls and red tape. \nThis program is designed for Adults.
URL:https://www.laruelibrary.org/event/kynect-16/
LOCATION:LaRue County Public Library\, 215 Lincoln Drive\, Hodgenville\, KY\, 42748\, United States
CATEGORIES:Adult,Adult Events
ATTACH;FMTTYPE=image/png:https://www.laruelibrary.org/wp-content/uploads/2023/08/kynect2.png
END:VEVENT
BEGIN:VEVENT
DTSTART;TZID=America/Kentucky/Louisville:20240208T133000
DTEND;TZID=America/Kentucky/Louisville:20240208T133000
DTSTAMP:20260420T025110
CREATED:20240127T152029Z
LAST-MODIFIED:20240127T152029Z
UID:10000525-1707399000-1707399000@www.laruelibrary.org
SUMMARY:Story Time - Character Themed
DESCRIPTION:Join us for a character-themed story time at the library on Tuesday\, February 5th at 11:00 AM or on Thursday\, February 8 at 1:30 PM. This program is designed for children under the age of 5! We can’t wait to have fun together!
URL:https://www.laruelibrary.org/event/story-time-character-themed/2024-02-08/
LOCATION:LaRue County Public Library\, 215 Lincoln Drive\, Hodgenville\, KY\, 42748\, United States
CATEGORIES:Age Under 5 Years Old
END:VEVENT
BEGIN:VEVENT
DTSTART;TZID=America/Kentucky/Louisville:20240209T150000
DTEND;TZID=America/Kentucky/Louisville:20240209T150000
DTSTAMP:20260420T025110
CREATED:20240127T154148Z
LAST-MODIFIED:20240127T154148Z
UID:10000527-1707490800-1707490800@www.laruelibrary.org
SUMMARY:Lunar New Year Paper Lanterns
DESCRIPTION:Families\, join us on Friday\, February 9th at 3:00 PM to celebrate the lunar new year with a paper lantern craft!
URL:https://www.laruelibrary.org/event/lunar-new-year-paper-lanterns/
LOCATION:LaRue County Public Library\, 215 Lincoln Drive\, Hodgenville\, KY\, 42748\, United States
CATEGORIES:Family
END:VEVENT
BEGIN:VEVENT
DTSTART;TZID=America/Kentucky/Louisville:20240212T100000
DTEND;TZID=America/Kentucky/Louisville:20240212T100000
DTSTAMP:20260420T025110
CREATED:20240127T154331Z
LAST-MODIFIED:20240127T154331Z
UID:10000528-1707732000-1707732000@www.laruelibrary.org
SUMMARY:Stretch and Shine
DESCRIPTION:Join us for Stretch & Shine\, a free\, low-impact exercise class at the library on Monday\, February 12th at 10:00 AM. This program is designed for adults. We hope to see you there!
URL:https://www.laruelibrary.org/event/stretch-and-shine-20/
LOCATION:LaRue County Public Library\, 215 Lincoln Drive\, Hodgenville\, KY\, 42748\, United States
CATEGORIES:Adult,Adult Events
ATTACH;FMTTYPE=image/png:https://www.laruelibrary.org/wp-content/uploads/2023/03/Stretch-Adult-Event-1.png
END:VEVENT
BEGIN:VEVENT
DTSTART;TZID=America/Kentucky/Louisville:20240212T130000
DTEND;TZID=America/Kentucky/Louisville:20240212T130000
DTSTAMP:20260420T025110
CREATED:20240127T154714Z
LAST-MODIFIED:20240127T154714Z
UID:10000529-1707742800-1707742800@www.laruelibrary.org
SUMMARY:Homeschool Program - Grandview Farms
DESCRIPTION:Homeschool students & families\, join us on Monday\, February 12th at 1:00 PM as Grandview Farms shares about life on the farm.
URL:https://www.laruelibrary.org/event/homeschool-program-grandview-farms/
LOCATION:LaRue County Public Library\, 215 Lincoln Drive\, Hodgenville\, KY\, 42748\, United States
CATEGORIES:Everyone
END:VEVENT
BEGIN:VEVENT
DTSTART;TZID=America/Kentucky/Louisville:20240213T110000
DTEND;TZID=America/Kentucky/Louisville:20240213T110000
DTSTAMP:20260420T025110
CREATED:20240127T155307Z
LAST-MODIFIED:20240127T155307Z
UID:10000530-1707822000-1707822000@www.laruelibrary.org
SUMMARY:Story Time - Pete the Cat
DESCRIPTION:Let’s get rockin’ in our storytime shoes with Pete the Cat! Join us on Tuesday\, February 13th at 11:00 AM or Thursday\, February 15th at 1:30 PM for our Pete the Cat character-themed storytime. \nThis program is designed for children under the age of 5.
URL:https://www.laruelibrary.org/event/story-time-pete-the-cat/2024-02-13/
LOCATION:LaRue County Public Library\, 215 Lincoln Drive\, Hodgenville\, KY\, 42748\, United States
CATEGORIES:Age Under 5 Years Old
END:VEVENT
BEGIN:VEVENT
DTSTART;TZID=America/Kentucky/Louisville:20240213T150000
DTEND;TZID=America/Kentucky/Louisville:20240213T150000
DTSTAMP:20260420T025110
CREATED:20240127T155934Z
LAST-MODIFIED:20240127T155934Z
UID:10000532-1707836400-1707836400@www.laruelibrary.org
SUMMARY:Bath Bombs
DESCRIPTION:Teens 12+ are invited to treat themselves to self-care this Valentine’s Day! Personalize a bath bomb that fits you! We’ll begin at 4:00 PM on Tuesday\, February 13th. This program does require preregistration\, so please call the library to sign up at 270-358-3851.
URL:https://www.laruelibrary.org/event/bath-bombs/
LOCATION:LaRue County Public Library\, 215 Lincoln Drive\, Hodgenville\, KY\, 42748\, United States
CATEGORIES:High School,Middle School
END:VEVENT
BEGIN:VEVENT
DTSTART;TZID=America/Kentucky/Louisville:20240215T133000
DTEND;TZID=America/Kentucky/Louisville:20240215T133000
DTSTAMP:20260420T025110
CREATED:20240127T155307Z
LAST-MODIFIED:20240127T155307Z
UID:10000531-1708003800-1708003800@www.laruelibrary.org
SUMMARY:Story Time - Pete the Cat
DESCRIPTION:Let’s get rockin’ in our storytime shoes with Pete the Cat! Join us on Tuesday\, February 13th at 11:00 AM or Thursday\, February 15th at 1:30 PM for our Pete the Cat character-themed storytime. \nThis program is designed for children under the age of 5.
URL:https://www.laruelibrary.org/event/story-time-pete-the-cat/2024-02-15/
LOCATION:LaRue County Public Library\, 215 Lincoln Drive\, Hodgenville\, KY\, 42748\, United States
CATEGORIES:Age Under 5 Years Old
END:VEVENT
BEGIN:VEVENT
DTSTART;TZID=America/Kentucky/Louisville:20240215T153000
DTEND;TZID=America/Kentucky/Louisville:20240215T153000
DTSTAMP:20260420T025110
CREATED:20240127T160121Z
LAST-MODIFIED:20240127T160121Z
UID:10000533-1708011000-1708011000@www.laruelibrary.org
SUMMARY:Book Club
DESCRIPTION:Join us to discuss this month’s latest book club read on Thursday\, February 15th at 3:30 PM. This program is for adults.
URL:https://www.laruelibrary.org/event/book-club-10/
LOCATION:LaRue County Public Library\, 215 Lincoln Drive\, Hodgenville\, KY\, 42748\, United States
CATEGORIES:Adult,Adult Events
END:VEVENT
BEGIN:VEVENT
DTSTART;TZID=America/Kentucky/Louisville:20240215T163000
DTEND;TZID=America/Kentucky/Louisville:20240215T163000
DTSTAMP:20260420T025110
CREATED:20240127T161056Z
LAST-MODIFIED:20240127T161056Z
UID:10000535-1708014600-1708014600@www.laruelibrary.org
SUMMARY:Board Meeting
DESCRIPTION:The LaRue County Public Library’s Board of Trustees will hold their monthly meeting on Thursday\, February 15th at 4:30 PM.
URL:https://www.laruelibrary.org/event/board-meeting-9/
LOCATION:LaRue County Public Library\, 215 Lincoln Drive\, Hodgenville\, KY\, 42748\, United States
CATEGORIES:Adult,Adult Events
END:VEVENT
BEGIN:VEVENT
DTSTART;TZID=America/Kentucky/Louisville:20240216T150000
DTEND;TZID=America/Kentucky/Louisville:20240216T150000
DTSTAMP:20260420T025110
CREATED:20240123T195901Z
LAST-MODIFIED:20240123T195901Z
UID:10000499-1708095600-1708095600@www.laruelibrary.org
SUMMARY:Paper Bookmarks
DESCRIPTION:You can never have too many bookmarks! Join us Friday\, February 16th @ 3:00pm to make your own bookmarks! \nTeens & Adults. Class limit of 20. Call to sign up.
URL:https://www.laruelibrary.org/event/paper-bookmarks/
LOCATION:LaRue County Public Library\, 215 Lincoln Drive\, Hodgenville\, KY\, 42748\, United States
CATEGORIES:Adult,Adult Events,High School,Youth Events
ORGANIZER;CN="LaRue Public Library":MAILTO:info@laruelibrary.org
END:VEVENT
BEGIN:VEVENT
DTSTART;VALUE=DATE:20240219
DTEND;VALUE=DATE:20240220
DTSTAMP:20260420T025110
CREATED:20240123T202301Z
LAST-MODIFIED:20240123T202301Z
UID:10000503-1708300800-1708387199@www.laruelibrary.org
SUMMARY:We Are Closed
DESCRIPTION:LCPL is closed today for President’s Day celebrations. We will open again on Tuesday\, February 20th.
URL:https://www.laruelibrary.org/event/we-are-closed-3/
LOCATION:LaRue County Public Library\, 215 Lincoln Drive\, Hodgenville\, KY\, 42748\, United States
CATEGORIES:Adult Events,Everyone,Youth Events
ATTACH;FMTTYPE=image/png:https://www.laruelibrary.org/wp-content/uploads/2024/01/PresDay.png
ORGANIZER;CN="LaRue Public Library":MAILTO:info@laruelibrary.org
END:VEVENT
BEGIN:VEVENT
DTSTART;TZID=America/Kentucky/Louisville:20240220T110000
DTEND;TZID=America/Kentucky/Louisville:20240220T110000
DTSTAMP:20260420T025110
CREATED:20240123T200451Z
LAST-MODIFIED:20240123T200451Z
UID:10000500-1708426800-1708426800@www.laruelibrary.org
SUMMARY:Story Time
DESCRIPTION:Join Ms Taylor on Tuesday\, February 20th @ 11:00am for a specially themed story time! \nStory Time for children under the age of 5 is a great way to grow a reader! Story Time makes learning fun and introduces children to books\, reading and language with stories\, songs and activities. Hope you can join us!
URL:https://www.laruelibrary.org/event/story-time-68/
LOCATION:LaRue County Public Library\, 215 Lincoln Drive\, Hodgenville\, KY\, 42748\, United States
CATEGORIES:Age Under 5 Years Old,Youth Events
ORGANIZER;CN="LaRue Public Library":MAILTO:info@laruelibrary.org
END:VEVENT
BEGIN:VEVENT
DTSTART;TZID=America/Kentucky/Louisville:20240220T150000
DTEND;TZID=America/Kentucky/Louisville:20240220T150000
DTSTAMP:20260420T025110
CREATED:20240123T201046Z
LAST-MODIFIED:20240123T201046Z
UID:10000502-1708441200-1708441200@www.laruelibrary.org
SUMMARY:Message Boards
DESCRIPTION:We will be making message boards on Tuesday\, February 20th @ 3:00pm! (If you have any embellishments you’d like to add\, please bring them with you.) \nTeens & Adults. Class limit of 20. Call to sign up.
URL:https://www.laruelibrary.org/event/message-boards/
LOCATION:LaRue County Public Library\, 215 Lincoln Drive\, Hodgenville\, KY\, 42748\, United States
CATEGORIES:Adult,Adult Events,High School,Youth Events
ORGANIZER;CN="LaRue Public Library":MAILTO:info@laruelibrary.org
END:VEVENT
BEGIN:VEVENT
DTSTART;TZID=America/Kentucky/Louisville:20240221T130000
DTEND;TZID=America/Kentucky/Louisville:20240221T130000
DTSTAMP:20260420T025110
CREATED:20240123T202551Z
LAST-MODIFIED:20240123T202551Z
UID:10000504-1708520400-1708520400@www.laruelibrary.org
SUMMARY:Textures Sensory Bins
DESCRIPTION:Join us on Wednesday\, February 21st @ 1:00pm to experience several different textures with sensory bins!
URL:https://www.laruelibrary.org/event/textures-sensory-bins/
LOCATION:LaRue County Public Library\, 215 Lincoln Drive\, Hodgenville\, KY\, 42748\, United States
CATEGORIES:Age Under 5 Years Old,Youth Events
ORGANIZER;CN="LaRue Public Library":MAILTO:info@laruelibrary.org
END:VEVENT
BEGIN:VEVENT
DTSTART;TZID=America/Kentucky/Louisville:20240222T100000
DTEND;TZID=America/Kentucky/Louisville:20240222T100000
DTSTAMP:20260420T025110
CREATED:20240123T203033Z
LAST-MODIFIED:20240123T203033Z
UID:10000505-1708596000-1708596000@www.laruelibrary.org
SUMMARY:Coffee for Veterans
DESCRIPTION:Join us on Thursday\, February 22nd @ 10:00am in the LCPL community room for a very special program (with spouses/partners being welcome). \nThe Post Commander from the Elizabethtown chapter of Disabled American Veterans will be here to share about the benefits & services they provide. \nOur hope is this will become a monthly get-together with different speakers.
URL:https://www.laruelibrary.org/event/coffee-for-veterans/
LOCATION:LaRue County Public Library\, 215 Lincoln Drive\, Hodgenville\, KY\, 42748\, United States
CATEGORIES:Adult,Adult Events
ATTACH;FMTTYPE=image/png:https://www.laruelibrary.org/wp-content/uploads/2024/01/vetcoffee.png
ORGANIZER;CN="LaRue Public Library":MAILTO:info@laruelibrary.org
END:VEVENT
END:VCALENDAR