BEGIN:VCALENDAR
VERSION:2.0
PRODID:-//LaRue County Public Library - ECPv6.15.20//NONSGML v1.0//EN
CALSCALE:GREGORIAN
METHOD:PUBLISH
X-WR-CALNAME:LaRue County Public Library
X-ORIGINAL-URL:https://www.laruelibrary.org
X-WR-CALDESC:Events for LaRue County Public Library
REFRESH-INTERVAL;VALUE=DURATION:PT1H
X-Robots-Tag:noindex
X-PUBLISHED-TTL:PT1H
BEGIN:VTIMEZONE
TZID:America/Kentucky/Louisville
BEGIN:DAYLIGHT
TZOFFSETFROM:-0500
TZOFFSETTO:-0400
TZNAME:EDT
DTSTART:20230312T070000
END:DAYLIGHT
BEGIN:STANDARD
TZOFFSETFROM:-0400
TZOFFSETTO:-0500
TZNAME:EST
DTSTART:20231105T060000
END:STANDARD
BEGIN:DAYLIGHT
TZOFFSETFROM:-0500
TZOFFSETTO:-0400
TZNAME:EDT
DTSTART:20240310T070000
END:DAYLIGHT
BEGIN:STANDARD
TZOFFSETFROM:-0400
TZOFFSETTO:-0500
TZNAME:EST
DTSTART:20241103T060000
END:STANDARD
BEGIN:DAYLIGHT
TZOFFSETFROM:-0500
TZOFFSETTO:-0400
TZNAME:EDT
DTSTART:20250309T070000
END:DAYLIGHT
BEGIN:STANDARD
TZOFFSETFROM:-0400
TZOFFSETTO:-0500
TZNAME:EST
DTSTART:20251102T060000
END:STANDARD
END:VTIMEZONE
BEGIN:VEVENT
DTSTART;TZID=America/Kentucky/Louisville:20240321T130000
DTEND;TZID=America/Kentucky/Louisville:20240321T180000
DTSTAMP:20260420T141853
CREATED:20240221T163615Z
LAST-MODIFIED:20240221T163615Z
UID:10000554-1711026000-1711044000@www.laruelibrary.org
SUMMARY:Bloodmobile
DESCRIPTION:Come down to the Library on Thursday\, March 21st from 1pm-6pm to donate blood to the American Red Cross. \nHelp do your part! Schedule appointment now to save a life at redcross.org. \nYou will be entered for one of two gift cards to Sweet Sisters Sweets\, courtesy of the Friends of the Library! \nThis program is designed for Adults.
URL:https://www.laruelibrary.org/event/bloodmobile-6/
LOCATION:LaRue County Public Library\, 215 Lincoln Drive\, Hodgenville\, KY\, 42748\, United States
CATEGORIES:Adult,Adult Events
ATTACH;FMTTYPE=image/png:https://www.laruelibrary.org/wp-content/uploads/2024/02/Blddrv.png
ORGANIZER;CN="LaRue Public Library":MAILTO:info@laruelibrary.org
END:VEVENT
BEGIN:VEVENT
DTSTART;TZID=America/Kentucky/Louisville:20240321T140000
DTEND;TZID=America/Kentucky/Louisville:20240321T160000
DTSTAMP:20260420T141853
CREATED:20240221T164023Z
LAST-MODIFIED:20240221T164023Z
UID:10000557-1711029600-1711036800@www.laruelibrary.org
SUMMARY:Kynect
DESCRIPTION:What can Kynect do for you? Ginny Whitt will set up in the lobby on Thursday\, March 21st from 2:00 PM until 4:00 PM. You might be surprised by what she can help with Snap benefits\, Medicaid\, and Kentucky Marketplace Insurance. Let her help you avoid those phone calls and red tape. \nThis program is designed for Adults.
URL:https://www.laruelibrary.org/event/kynect-17/
LOCATION:LaRue County Public Library\, 215 Lincoln Drive\, Hodgenville\, KY\, 42748\, United States
CATEGORIES:Adult,Adult Events
ATTACH;FMTTYPE=image/png:https://www.laruelibrary.org/wp-content/uploads/2023/08/kynect2.png
ORGANIZER;CN="LaRue Public Library":MAILTO:info@laruelibrary.org
END:VEVENT
BEGIN:VEVENT
DTSTART;TZID=America/Kentucky/Louisville:20240321T153000
DTEND;TZID=America/Kentucky/Louisville:20240321T153000
DTSTAMP:20260420T141853
CREATED:20240221T163744Z
LAST-MODIFIED:20240221T163744Z
UID:10000555-1711035000-1711035000@www.laruelibrary.org
SUMMARY:Book Club
DESCRIPTION:Come join us on Thursday\, March 21st at 3:30pm for Book Club! This is an Adult program.
URL:https://www.laruelibrary.org/event/book-club-11/
LOCATION:LaRue County Public Library\, 215 Lincoln Drive\, Hodgenville\, KY\, 42748\, United States
CATEGORIES:Adult,Adult Events
ATTACH;FMTTYPE=image/jpeg:https://www.laruelibrary.org/wp-content/uploads/2023/07/bc2.jpg
ORGANIZER;CN="LaRue Public Library":MAILTO:info@laruelibrary.org
END:VEVENT
BEGIN:VEVENT
DTSTART;TZID=America/Kentucky/Louisville:20240321T163000
DTEND;TZID=America/Kentucky/Louisville:20240321T163000
DTSTAMP:20260420T141853
CREATED:20240221T163852Z
LAST-MODIFIED:20240221T163852Z
UID:10000556-1711038600-1711038600@www.laruelibrary.org
SUMMARY:Board Meeting
DESCRIPTION:LCPL Board Meeting. Thursday\, March 21st at 4:30 pm.
URL:https://www.laruelibrary.org/event/board-meeting-10/
LOCATION:LaRue County Public Library\, 215 Lincoln Drive\, Hodgenville\, KY\, 42748\, United States
CATEGORIES:Adult,Adult Events
ATTACH;FMTTYPE=image/jpeg:https://www.laruelibrary.org/wp-content/uploads/2023/07/brm2.jpg
ORGANIZER;CN="LaRue Public Library":MAILTO:info@laruelibrary.org
END:VEVENT
BEGIN:VEVENT
DTSTART;TZID=America/Kentucky/Louisville:20240322T140000
DTEND;TZID=America/Kentucky/Louisville:20240322T140000
DTSTAMP:20260420T141853
CREATED:20240221T160212Z
LAST-MODIFIED:20240221T160237Z
UID:10000546-1711116000-1711116000@www.laruelibrary.org
SUMMARY:Blow Painting with Straws
DESCRIPTION:Come and see how your art takes form with only paint\, a straw\, and a canvas with Blow Painting with Straws on Friday\, March 22nd at 2:00 pm! \nNo sign up needed. Ages grade school through teens.
URL:https://www.laruelibrary.org/event/blow-painting-with-straws/
LOCATION:LaRue County Public Library\, 215 Lincoln Drive\, Hodgenville\, KY\, 42748\, United States
CATEGORIES:Grade School,High School,Middle School,Youth Events
ORGANIZER;CN="LaRue Public Library":MAILTO:info@laruelibrary.org
END:VEVENT
BEGIN:VEVENT
DTSTART;TZID=America/Kentucky/Louisville:20240322T150000
DTEND;TZID=America/Kentucky/Louisville:20240322T150000
DTSTAMP:20260420T141853
CREATED:20240221T163242Z
LAST-MODIFIED:20240221T163242Z
UID:10000553-1711119600-1711119600@www.laruelibrary.org
SUMMARY:Yarn Wrapped Vases
DESCRIPTION:Make yarn wrapped vases with Christie on Friday\, March 22nd at 3:00pm! \nClass limit of 20. Call to sign up. Teens and Adults.
URL:https://www.laruelibrary.org/event/yarn-wrapped-vases/
LOCATION:LaRue County Public Library\, 215 Lincoln Drive\, Hodgenville\, KY\, 42748\, United States
CATEGORIES:Adult,Adult Events,High School,Youth Events
ORGANIZER;CN="LaRue Public Library":MAILTO:info@laruelibrary.org
END:VEVENT
BEGIN:VEVENT
DTSTART;TZID=America/Kentucky/Louisville:20240325T100000
DTEND;TZID=America/Kentucky/Louisville:20240325T100000
DTSTAMP:20260420T141853
CREATED:20240220T214614Z
LAST-MODIFIED:20240220T214614Z
UID:10000540-1711360800-1711360800@www.laruelibrary.org
SUMMARY:Stretch and Shine
DESCRIPTION:Join us for Stretch and Shine and start your day off right! Free low-impact exercise class. Let’s get those muscles moving! Monday\, March 25th @ 10:00am. This program is designed for Adults.
URL:https://www.laruelibrary.org/event/stretch-and-shine-22/
LOCATION:LaRue County Public Library\, 215 Lincoln Drive\, Hodgenville\, KY\, 42748\, United States
CATEGORIES:Adult,Adult Events
ORGANIZER;CN="LaRue Public Library":MAILTO:info@laruelibrary.org
END:VEVENT
BEGIN:VEVENT
DTSTART;TZID=America/Kentucky/Louisville:20240325T140000
DTEND;TZID=America/Kentucky/Louisville:20240325T140000
DTSTAMP:20260420T141853
CREATED:20240220T214426Z
LAST-MODIFIED:20240220T214426Z
UID:10000539-1711375200-1711375200@www.laruelibrary.org
SUMMARY:Community Games
DESCRIPTION:Come and have some game day fun here at the library! Bring your friends\, family\, a board game (or choose one of ours) and enjoy! Monday\, March 25th at 2:00pm.
URL:https://www.laruelibrary.org/event/community-games-23/
LOCATION:LaRue County Public Library\, 215 Lincoln Drive\, Hodgenville\, KY\, 42748\, United States
CATEGORIES:Adult Events,Everyone,Youth Events
ATTACH;FMTTYPE=image/jpeg:https://www.laruelibrary.org/wp-content/uploads/2023/07/bg2.jpg
ORGANIZER;CN="LaRue Public Library":MAILTO:info@laruelibrary.org
END:VEVENT
BEGIN:VEVENT
DTSTART;TZID=America/Kentucky/Louisville:20240326T110000
DTEND;TZID=America/Kentucky/Louisville:20240326T110000
DTSTAMP:20260420T141853
CREATED:20240221T154320Z
LAST-MODIFIED:20240221T154320Z
UID:10000544-1711450800-1711450800@www.laruelibrary.org
SUMMARY:Story Time
DESCRIPTION:Come and enjoy a special Story Time with Ms Taylor on Tuesday\, March 26th @ 11:00am! \nStory Time for children under the age of 5 is a great way to grow a reader! Story Time makes learning fun and introduces children to books\, reading and language with stories\, songs and activities. Hope you can join us!
URL:https://www.laruelibrary.org/event/story-time-73/
LOCATION:LaRue County Public Library\, 215 Lincoln Drive\, Hodgenville\, KY\, 42748\, United States
CATEGORIES:Age Under 5 Years Old,Youth Events
ATTACH;FMTTYPE=image/png:https://www.laruelibrary.org/wp-content/uploads/2023/10/NST.0-1.png
ORGANIZER;CN="LaRue Public Library":MAILTO:info@laruelibrary.org
END:VEVENT
BEGIN:VEVENT
DTSTART;TZID=America/Kentucky/Louisville:20240326T150000
DTEND;TZID=America/Kentucky/Louisville:20240326T150000
DTSTAMP:20260420T141853
CREATED:20240221T161740Z
LAST-MODIFIED:20240221T161740Z
UID:10000549-1711465200-1711465200@www.laruelibrary.org
SUMMARY:Bumblebee Craft
DESCRIPTION:Join us on Tuesday\, March 26th at 3:00pm to make a buzz-tastic bumblebee craft to celebrate the springtime! \nClass limit of 20. Call to sign up. Class for teens and adults.
URL:https://www.laruelibrary.org/event/bumblebee-craft/
LOCATION:LaRue County Public Library\, 215 Lincoln Drive\, Hodgenville\, KY\, 42748\, United States
CATEGORIES:Adult,Adult Events,High School,Youth Events
ORGANIZER;CN="LaRue Public Library":MAILTO:info@laruelibrary.org
END:VEVENT
BEGIN:VEVENT
DTSTART;TZID=America/Kentucky/Louisville:20240326T150000
DTEND;TZID=America/Kentucky/Louisville:20240326T150000
DTSTAMP:20260420T141853
CREATED:20240326T214213Z
LAST-MODIFIED:20240327T190540Z
UID:10000609-1711465200-1711465200@www.laruelibrary.org
SUMMARY:Flowerpot Craft
DESCRIPTION:‘Tis the spring season to be planting! Join us on Tuesday\, April 2nd at 3:00 PM for our Flowerpot Craft. This program\, designed for teens and adults\, does require preregistration. To register\, please call the library at 270-358-3851.
URL:https://www.laruelibrary.org/event/flowerpot-craft/
LOCATION:LaRue County Public Library\, 215 Lincoln Drive\, Hodgenville\, KY\, 42748\, United States
CATEGORIES:Adult Events,High School,Middle School
END:VEVENT
BEGIN:VEVENT
DTSTART;VALUE=DATE:20240327
DTEND;VALUE=DATE:20240328
DTSTAMP:20260420T141853
CREATED:20240221T160836Z
LAST-MODIFIED:20240221T160836Z
UID:10000547-1711497600-1711583999@www.laruelibrary.org
SUMMARY:Dress As Your Favorite Book Character Day
DESCRIPTION:Anyone ages 0-18 is welcome to participate in our All Day Dress Event on Wednesday\, March 27th! \nDress as your favorite book character\, visit us at the library\, and be entered for a chance to win a $25 gift card to Barnes & Noble!
URL:https://www.laruelibrary.org/event/dress-as-your-favorite-book-character-day/
LOCATION:LaRue County Public Library\, 215 Lincoln Drive\, Hodgenville\, KY\, 42748\, United States
CATEGORIES:Age Under 5 Years Old,Ages 0 - 36 Months,Family,Grade School,High School,Middle School,Youth Events
ORGANIZER;CN="LaRue Public Library":MAILTO:info@laruelibrary.org
END:VEVENT
BEGIN:VEVENT
DTSTART;TZID=America/Kentucky/Louisville:20240328T100000
DTEND;TZID=America/Kentucky/Louisville:20240328T100000
DTSTAMP:20260420T141853
CREATED:20240221T162241Z
LAST-MODIFIED:20240221T162241Z
UID:10000550-1711620000-1711620000@www.laruelibrary.org
SUMMARY:Coffee for Veterans
DESCRIPTION:Join us on Thursday\, March 28th @ 10:00am in the LCPL community room for a very special program (with spouses/partners being welcome). \nMatt Davis\, an international mental health speaker and author\, will be our special guest.
URL:https://www.laruelibrary.org/event/coffee-for-veterans-2/
LOCATION:LaRue County Public Library\, 215 Lincoln Drive\, Hodgenville\, KY\, 42748\, United States
CATEGORIES:Adult,Adult Events
ATTACH;FMTTYPE=image/png:https://www.laruelibrary.org/wp-content/uploads/2024/01/vetcoffee.png
ORGANIZER;CN="LaRue Public Library":MAILTO:info@laruelibrary.org
END:VEVENT
BEGIN:VEVENT
DTSTART;TZID=America/Kentucky/Louisville:20240328T133000
DTEND;TZID=America/Kentucky/Louisville:20240328T133000
DTSTAMP:20260420T141853
CREATED:20240221T155757Z
LAST-MODIFIED:20240221T155808Z
UID:10000545-1711632600-1711632600@www.laruelibrary.org
SUMMARY:Story Time
DESCRIPTION:Come and enjoy a special Story Time with Ms Taylor on Thursday\, March 28th @ 1:30pm! \nStory Time for children under the age of 5 is a great way to grow a reader! Story Time makes learning fun and introduces children to books\, reading and language with stories\, songs and activities. Hope you can join us!
URL:https://www.laruelibrary.org/event/story-time-74/
LOCATION:LaRue County Public Library\, 215 Lincoln Drive\, Hodgenville\, KY\, 42748\, United States
CATEGORIES:Age Under 5 Years Old,Youth Events
ATTACH;FMTTYPE=image/png:https://www.laruelibrary.org/wp-content/uploads/2023/10/NST.0-1.png
ORGANIZER;CN="LaRue Public Library":MAILTO:info@laruelibrary.org
END:VEVENT
BEGIN:VEVENT
DTSTART;TZID=America/Kentucky/Louisville:20240328T173000
DTEND;TZID=America/Kentucky/Louisville:20240328T173000
DTSTAMP:20260420T141853
CREATED:20240221T162653Z
LAST-MODIFIED:20240221T162653Z
UID:10000551-1711647000-1711647000@www.laruelibrary.org
SUMMARY:na Skylark
DESCRIPTION:Everyone is welcome to join us on Thursday\, March 28th at 5:30pm to the wonderful\, and chart-topping\, music of the Central-Kentucky-based trio na Skylark!
URL:https://www.laruelibrary.org/event/na-skylark/
LOCATION:LaRue County Public Library\, 215 Lincoln Drive\, Hodgenville\, KY\, 42748\, United States
CATEGORIES:Adult Events,Everyone,Youth Events
ORGANIZER;CN="LaRue Public Library":MAILTO:info@laruelibrary.org
END:VEVENT
BEGIN:VEVENT
DTSTART;TZID=America/Kentucky/Louisville:20240329T143000
DTEND;TZID=America/Kentucky/Louisville:20240329T143000
DTSTAMP:20260420T141853
CREATED:20240221T161243Z
LAST-MODIFIED:20240221T161243Z
UID:10000548-1711722600-1711722600@www.laruelibrary.org
SUMMARY:Make Mermaid Money
DESCRIPTION:Happy International Mermaid Day! All school-aged children are welcome to join us in making felt sand dollars to celebrate this magical holiday on Friday\, March 29th at 2:30 pm! \nClass for all school-aged children. No sign up needed.
URL:https://www.laruelibrary.org/event/make-mermaid-money/
LOCATION:LaRue County Public Library\, 215 Lincoln Drive\, Hodgenville\, KY\, 42748\, United States
CATEGORIES:Grade School,Youth Events
ORGANIZER;CN="LaRue Public Library":MAILTO:info@laruelibrary.org
END:VEVENT
BEGIN:VEVENT
DTSTART;TZID=America/Kentucky/Louisville:20240329T150000
DTEND;TZID=America/Kentucky/Louisville:20240329T150000
DTSTAMP:20260420T141853
CREATED:20240221T163017Z
LAST-MODIFIED:20240221T163017Z
UID:10000552-1711724400-1711724400@www.laruelibrary.org
SUMMARY:Matt Davis Open Mic
DESCRIPTION:Motivational speaker Matt Davis is hosting an open mic event where all are encouraged to anything (ex. a poem\, song\, etc.) pertaining to mental health issues. \nFriday\, March 29th at 3:00pm.
URL:https://www.laruelibrary.org/event/matt-davis-open-mic/
LOCATION:LaRue County Public Library\, 215 Lincoln Drive\, Hodgenville\, KY\, 42748\, United States
CATEGORIES:Adult Events,Everyone,Youth Events
ORGANIZER;CN="LaRue Public Library":MAILTO:info@laruelibrary.org
END:VEVENT
BEGIN:VEVENT
DTSTART;TZID=America/Kentucky/Louisville:20240401T140000
DTEND;TZID=America/Kentucky/Louisville:20240401T140000
DTSTAMP:20260420T141853
CREATED:20240326T212546Z
LAST-MODIFIED:20240326T212546Z
UID:10000604-1711980000-1711980000@www.laruelibrary.org
SUMMARY:Community Games
DESCRIPTION:Come and have some game day fun here at the library! Bring your friends\, family\, a board game (or choose one of ours) and enjoy! Monday\, April 1st at 2:00pm.
URL:https://www.laruelibrary.org/event/community-games-28/
LOCATION:LaRue County Public Library\, 215 Lincoln Drive\, Hodgenville\, KY\, 42748\, United States
CATEGORIES:Everyone
END:VEVENT
BEGIN:VEVENT
DTSTART;TZID=America/Kentucky/Louisville:20240402T100000
DTEND;TZID=America/Kentucky/Louisville:20240402T100000
DTSTAMP:20260420T141853
CREATED:20240402T174843Z
LAST-MODIFIED:20240402T174844Z
UID:10000605-1712052000-1712052000@www.laruelibrary.org
SUMMARY:CANCELLED: Story Time
DESCRIPTION:Join us for a special story on Tuesday\, April 2nd at 11:00 AM or on Thursday\, April 4th at 1:30 PM! Story time is for children under the ages of 5. This is a great opportunity to grow young readers. We make learning fun by introducing children to books\, love of reading\, and songs! We can’t wait to see you!
URL:https://www.laruelibrary.org/event/story-time-81-2/
LOCATION:LaRue County Public Library\, 215 Lincoln Drive\, Hodgenville\, KY\, 42748\, United States
CATEGORIES:Age Under 5 Years Old
END:VEVENT
BEGIN:VEVENT
DTSTART;TZID=America/Kentucky/Louisville:20240404T133000
DTEND;TZID=America/Kentucky/Louisville:20240404T133000
DTSTAMP:20260420T141853
CREATED:20240326T213455Z
LAST-MODIFIED:20240326T213455Z
UID:10000606-1712237400-1712237400@www.laruelibrary.org
SUMMARY:Story Time
DESCRIPTION:Join us for a special story on Tuesday\, April 2nd at 11:00 AM or on Thursday\, April 4th at 1:30 PM! Story time is for children under the ages of 5. This is a great opportunity to grow young readers. We make learning fun by introducing children to books\, love of reading\, and songs! We can’t wait to see you!
URL:https://www.laruelibrary.org/event/story-time-81/2024-04-04/
LOCATION:LaRue County Public Library\, 215 Lincoln Drive\, Hodgenville\, KY\, 42748\, United States
CATEGORIES:Age Under 5 Years Old
END:VEVENT
BEGIN:VEVENT
DTSTART;TZID=America/Kentucky/Louisville:20240404T160000
DTEND;TZID=America/Kentucky/Louisville:20240404T160000
DTSTAMP:20260420T141853
CREATED:20240326T223121Z
LAST-MODIFIED:20240326T223121Z
UID:10000610-1712246400-1712246400@www.laruelibrary.org
SUMMARY:Friends of the Library
DESCRIPTION:Join us for a Friends of the Library meeting. Become a member and help us promote the LaRue County Public Library. Membership enables you to join your local branch chapter and become involved with many wonderful library activities throughout the year. Benefits include invitations to special Friends’ events\, Volunteer opportunities\, and advocacy opportunities. Hope to see you there!
URL:https://www.laruelibrary.org/event/friends-of-the-library-12/
LOCATION:LaRue County Public Library\, 215 Lincoln Drive\, Hodgenville\, KY\, 42748\, United States
CATEGORIES:Adult,Adult Events
ATTACH;FMTTYPE=image/png:https://www.laruelibrary.org/wp-content/uploads/2023/03/BecomeLibraryFriend.png
END:VEVENT
BEGIN:VEVENT
DTSTART;TZID=America/Kentucky/Louisville:20240405T030000
DTEND;TZID=America/Kentucky/Louisville:20240405T150000
DTSTAMP:20260420T141853
CREATED:20240328T213645Z
LAST-MODIFIED:20240328T213645Z
UID:10000611-1712286000-1712329200@www.laruelibrary.org
SUMMARY:Vintage Bottle Craft
DESCRIPTION:We’ll be doing our part to conserve by repurposing bottles into vases. Join us on Friday\, April 5th at 3:00 PM. This class is designed for teens and adults and does require preregistration. To sign up\, call the library at 270-358-3851.
URL:https://www.laruelibrary.org/event/vintage-bottle-craft/
LOCATION:LaRue County Public Library\, 215 Lincoln Drive\, Hodgenville\, KY\, 42748\, United States
CATEGORIES:Adult,Adult Events,High School,Middle School
END:VEVENT
BEGIN:VEVENT
DTSTART;TZID=America/Kentucky/Louisville:20240405T153000
DTEND;TZID=America/Kentucky/Louisville:20240405T153000
DTSTAMP:20260420T141853
CREATED:20240328T213841Z
LAST-MODIFIED:20240328T213841Z
UID:10000612-1712331000-1712331000@www.laruelibrary.org
SUMMARY:Eclipse Craft
DESCRIPTION:Join us on Friday\, April 5th at 3:30 PM for a neat eclipse craft – fun for the whole family! We’ll be celebrating the following week’s eclipse!
URL:https://www.laruelibrary.org/event/eclipse-craft/
LOCATION:LaRue County Public Library\, 215 Lincoln Drive\, Hodgenville\, KY\, 42748\, United States
CATEGORIES:Everyone
END:VEVENT
BEGIN:VEVENT
DTSTART;TZID=America/Kentucky/Louisville:20240408T100000
DTEND;TZID=America/Kentucky/Louisville:20240408T100000
DTSTAMP:20260420T141853
CREATED:20240326T212424Z
LAST-MODIFIED:20240326T212424Z
UID:10000603-1712570400-1712570400@www.laruelibrary.org
SUMMARY:Stretch and Shine
DESCRIPTION:Join us for Stretch and Shine and start your day off right! Free low-impact exercise class. Let’s get those muscles moving! \nMonday\, April 8th at 10:00 AM. This program is designed for adults.
URL:https://www.laruelibrary.org/event/stretch-and-shine-28/
LOCATION:LaRue County Public Library\, 215 Lincoln Drive\, Hodgenville\, KY\, 42748\, United States
CATEGORIES:Adult,Adult Events
END:VEVENT
BEGIN:VEVENT
DTSTART;TZID=America/Kentucky/Louisville:20240408T133000
DTEND;TZID=America/Kentucky/Louisville:20240408T133000
DTSTAMP:20260420T141853
CREATED:20240328T214347Z
LAST-MODIFIED:20240328T214347Z
UID:10000613-1712583000-1712583000@www.laruelibrary.org
SUMMARY:Solar Eclipse Viewing
DESCRIPTION:We’ll be experiencing the eclipse together\, complete with eclipse glasses. We’ll begin our event at 1:30. Everyone is welcome!
URL:https://www.laruelibrary.org/event/solar-eclipse-viewing/
LOCATION:LaRue County Public Library\, 215 Lincoln Drive\, Hodgenville\, KY\, 42748\, United States
CATEGORIES:Everyone
END:VEVENT
BEGIN:VEVENT
DTSTART;TZID=America/Kentucky/Louisville:20240409T110000
DTEND;TZID=America/Kentucky/Louisville:20240409T110000
DTSTAMP:20260420T141853
CREATED:20240326T213610Z
LAST-MODIFIED:20240326T213610Z
UID:10000607-1712660400-1712660400@www.laruelibrary.org
SUMMARY:Story Time
DESCRIPTION:Join us for a special story on Tuesday\, April 9th at 11:00 AM or on Thursday\, April 11th at 1:30 PM! Story time is for children under the ages of 5. This is a great opportunity to grow young readers. We make learning fun by introducing children to books\, love of reading\, and songs! We can’t wait to see you!
URL:https://www.laruelibrary.org/event/story-time-82/2024-04-09/
LOCATION:LaRue County Public Library\, 215 Lincoln Drive\, Hodgenville\, KY\, 42748\, United States
CATEGORIES:Age Under 5 Years Old
END:VEVENT
BEGIN:VEVENT
DTSTART;TZID=America/Kentucky/Louisville:20240409T173000
DTEND;TZID=America/Kentucky/Louisville:20240409T183000
DTSTAMP:20260420T141853
CREATED:20240328T221224Z
LAST-MODIFIED:20240328T221224Z
UID:10000615-1712683800-1712687400@www.laruelibrary.org
SUMMARY:Sign Language
DESCRIPTION:Join us for Basic ASL classes\, taught by Summer Atteberry. \nSummer is the outreach consultant for the Kentucky School for the Deaf/Hard of Hearing. \nThis multi-week program is from 5:30-6:30 beginning on Tuesday\, April 9th and every Tuesday through April 30th. When signing up\, please try to attend all four class sessions. \nTo register for the class\, please call the library at 270-358-3851.
URL:https://www.laruelibrary.org/event/sign-language/
LOCATION:LaRue County Public Library\, 215 Lincoln Drive\, Hodgenville\, KY\, 42748\, United States
CATEGORIES:Adult,Adult Events,High School,Middle School
ATTACH;FMTTYPE=image/png:https://www.laruelibrary.org/wp-content/uploads/2024/03/asl.png
END:VEVENT
BEGIN:VEVENT
DTSTART;TZID=America/Kentucky/Louisville:20240410T153000
DTEND;TZID=America/Kentucky/Louisville:20240410T153000
DTSTAMP:20260420T141853
CREATED:20240328T220533Z
LAST-MODIFIED:20240328T220533Z
UID:10000614-1712763000-1712763000@www.laruelibrary.org
SUMMARY:Scrabble Craft
DESCRIPTION:Create a piece of wall decor with craft pom-poms and Scrabble tiles for National Scrabble Day on Wednesday\, April 10th at 3:30 PM. This program is for middle school and high school students\, and does require preregistration. To sign up\, call the library at 270-358-3851.
URL:https://www.laruelibrary.org/event/scrabble-craft/
LOCATION:LaRue County Public Library\, 215 Lincoln Drive\, Hodgenville\, KY\, 42748\, United States
CATEGORIES:High School,Middle School
END:VEVENT
BEGIN:VEVENT
DTSTART;TZID=America/Kentucky/Louisville:20240411T133000
DTEND;TZID=America/Kentucky/Louisville:20240411T133000
DTSTAMP:20260420T141853
CREATED:20240326T213610Z
LAST-MODIFIED:20240326T213610Z
UID:10000608-1712842200-1712842200@www.laruelibrary.org
SUMMARY:Story Time
DESCRIPTION:Join us for a special story on Tuesday\, April 9th at 11:00 AM or on Thursday\, April 11th at 1:30 PM! Story time is for children under the ages of 5. This is a great opportunity to grow young readers. We make learning fun by introducing children to books\, love of reading\, and songs! We can’t wait to see you!
URL:https://www.laruelibrary.org/event/story-time-82/2024-04-11/
LOCATION:LaRue County Public Library\, 215 Lincoln Drive\, Hodgenville\, KY\, 42748\, United States
CATEGORIES:Age Under 5 Years Old
END:VEVENT
BEGIN:VEVENT
DTSTART;TZID=America/Kentucky/Louisville:20240411T170000
DTEND;TZID=America/Kentucky/Louisville:20240411T170000
DTSTAMP:20260420T141853
CREATED:20240328T222249Z
LAST-MODIFIED:20240328T222249Z
UID:10000616-1712854800-1712854800@www.laruelibrary.org
SUMMARY:Clean Eats
DESCRIPTION:Learn more about eating cleaner and being mindful of how you’re fueling your body with our Clean Eats program on Thursday\, April 11th at 5 PM. Everyone is welcome!
URL:https://www.laruelibrary.org/event/clean-eats/
LOCATION:LaRue County Public Library\, 215 Lincoln Drive\, Hodgenville\, KY\, 42748\, United States
CATEGORIES:Everyone
END:VEVENT
END:VCALENDAR