BEGIN:VCALENDAR
VERSION:2.0
PRODID:-//LaRue County Public Library - ECPv6.15.20//NONSGML v1.0//EN
CALSCALE:GREGORIAN
METHOD:PUBLISH
X-ORIGINAL-URL:https://www.laruelibrary.org
X-WR-CALDESC:Events for LaRue County Public Library
REFRESH-INTERVAL;VALUE=DURATION:PT1H
X-Robots-Tag:noindex
X-PUBLISHED-TTL:PT1H
BEGIN:VTIMEZONE
TZID:America/Kentucky/Louisville
BEGIN:DAYLIGHT
TZOFFSETFROM:-0500
TZOFFSETTO:-0400
TZNAME:EDT
DTSTART:20230312T070000
END:DAYLIGHT
BEGIN:STANDARD
TZOFFSETFROM:-0400
TZOFFSETTO:-0500
TZNAME:EST
DTSTART:20231105T060000
END:STANDARD
BEGIN:DAYLIGHT
TZOFFSETFROM:-0500
TZOFFSETTO:-0400
TZNAME:EDT
DTSTART:20240310T070000
END:DAYLIGHT
BEGIN:STANDARD
TZOFFSETFROM:-0400
TZOFFSETTO:-0500
TZNAME:EST
DTSTART:20241103T060000
END:STANDARD
BEGIN:DAYLIGHT
TZOFFSETFROM:-0500
TZOFFSETTO:-0400
TZNAME:EDT
DTSTART:20250309T070000
END:DAYLIGHT
BEGIN:STANDARD
TZOFFSETFROM:-0400
TZOFFSETTO:-0500
TZNAME:EST
DTSTART:20251102T060000
END:STANDARD
END:VTIMEZONE
BEGIN:VEVENT
DTSTART;TZID=America/Kentucky/Louisville:20240429T140000
DTEND;TZID=America/Kentucky/Louisville:20240429T140000
DTSTAMP:20260421T005754
CREATED:20240325T205650Z
LAST-MODIFIED:20240325T205650Z
UID:10000601-1714399200-1714399200@www.laruelibrary.org
SUMMARY:Community Games
DESCRIPTION:Come and have some game day fun here at the library! Bring your friends\, family\, a board game (or choose one of ours) and enjoy! Monday\, April 29th at 2:00pm.
URL:https://www.laruelibrary.org/event/community-games-26/
LOCATION:LaRue County Public Library\, 215 Lincoln Drive\, Hodgenville\, KY\, 42748\, United States
CATEGORIES:Adult,Adult Events,Everyone,Family,Youth Events
ATTACH;FMTTYPE=image/jpeg:https://www.laruelibrary.org/wp-content/uploads/2023/07/bg2.jpg
ORGANIZER;CN="LaRue Public Library":MAILTO:info@laruelibrary.org
END:VEVENT
BEGIN:VEVENT
DTSTART;TZID=America/Kentucky/Louisville:20240429T154500
DTEND;TZID=America/Kentucky/Louisville:20240429T154500
DTSTAMP:20260421T005754
CREATED:20240325T192526Z
LAST-MODIFIED:20240325T192537Z
UID:10000583-1714405500-1714405500@www.laruelibrary.org
SUMMARY:You Color\, I Read Aloud
DESCRIPTION:It’s nice to be read to\, no matter the age! Join us for a nice time coloring while enjoying a good story on Monday\, April 29th at 3:45pm. \nGrade-schoolers through teens are welcome!
URL:https://www.laruelibrary.org/event/you-color-i-read-aloud/
LOCATION:LaRue County Public Library\, 215 Lincoln Drive\, Hodgenville\, KY\, 42748\, United States
CATEGORIES:Grade School,High School,Middle School,Youth Events
ATTACH;FMTTYPE=image/png:https://www.laruelibrary.org/wp-content/uploads/2024/02/ycir2.png
ORGANIZER;CN="LaRue Public Library":MAILTO:info@laruelibrary.org
END:VEVENT
BEGIN:VEVENT
DTSTART;TZID=America/Kentucky/Louisville:20240430T110000
DTEND;TZID=America/Kentucky/Louisville:20240430T110000
DTSTAMP:20260421T005754
CREATED:20240325T190436Z
LAST-MODIFIED:20240325T190436Z
UID:10000581-1714474800-1714474800@www.laruelibrary.org
SUMMARY:Story Time
DESCRIPTION:Come and enjoy a special Story Time with Ms Taylor on Tuesday\, April 30th @ 11:00am! \nStory Time for children under the age of 5 is a great way to grow a reader! Story Time makes learning fun and introduces children to books\, reading and language with stories\, songs and activities. Hope you can join us!
URL:https://www.laruelibrary.org/event/story-time-79/
LOCATION:LaRue County Public Library\, 215 Lincoln Drive\, Hodgenville\, KY\, 42748\, United States
CATEGORIES:Age Under 5 Years Old,Youth Events
ATTACH;FMTTYPE=image/png:https://www.laruelibrary.org/wp-content/uploads/2023/10/NST.0-1.png
ORGANIZER;CN="LaRue Public Library":MAILTO:info@laruelibrary.org
END:VEVENT
BEGIN:VEVENT
DTSTART;TZID=America/Kentucky/Louisville:20240430T173000
DTEND;TZID=America/Kentucky/Louisville:20240430T183000
DTSTAMP:20260421T005754
CREATED:20240325T202156Z
LAST-MODIFIED:20240325T202156Z
UID:10000592-1714498200-1714501800@www.laruelibrary.org
SUMMARY:Basic ASL
DESCRIPTION:Basic ASL (American Sign Language) will be taught by Summer Atteberry every Tuesday (5:30pm-6:30pm) in April starting from the 9th through to the 30th. \nThis class will be for four weeks\, so please try to attend ALL classes when signing up. \nClass limit of 16. Teens and Adults. Call to sign up.
URL:https://www.laruelibrary.org/event/basic-asl-3/
LOCATION:LaRue County Public Library\, 215 Lincoln Drive\, Hodgenville\, KY\, 42748\, United States
CATEGORIES:Adult,Adult Events,High School,Youth Events
ATTACH;FMTTYPE=image/png:https://www.laruelibrary.org/wp-content/uploads/2024/03/asl.png
ORGANIZER;CN="LaRue Public Library":MAILTO:info@laruelibrary.org
END:VEVENT
BEGIN:VEVENT
DTSTART;VALUE=DATE:20240501
DTEND;VALUE=DATE:20240502
DTSTAMP:20260421T005754
CREATED:20240418T193004Z
LAST-MODIFIED:20240426T154305Z
UID:10001095-1714521600-1714607999@www.laruelibrary.org
SUMMARY:Support Victims of Domestic Violence
DESCRIPTION:During the month of May\, LaRue County Public Library will be taking donations for Springhaven Domestic Violence Center. \nPersonal hygiene products\, cleaning supplies\, gift cards\, children’s essentials\, and all other donations are accepted here at the library. \nFor larger items\, such as furniture\, please call the library to make arrangements for pick up.
URL:https://www.laruelibrary.org/event/domestic-violence/2024-05-01/
LOCATION:LaRue County Public Library\, 215 Lincoln Drive\, Hodgenville\, KY\, 42748\, United States
CATEGORIES:Adult Events,Everyone
ORGANIZER;CN="LaRue Public Library":MAILTO:info@laruelibrary.org
END:VEVENT
BEGIN:VEVENT
DTSTART;TZID=America/Kentucky/Louisville:20240501T110000
DTEND;TZID=America/Kentucky/Louisville:20240501T160000
DTSTAMP:20260421T005754
CREATED:20240418T202010Z
LAST-MODIFIED:20240418T202010Z
UID:10001161-1714561200-1714579200@www.laruelibrary.org
SUMMARY:Plant Swap
DESCRIPTION:We are hosting a Plant Swap on Wednesday\, May 1st from 11:00am-4:00pm! \nHealthy plants only! Pest-free plants please! Outdoor and indoor plants accepted! No invasive species\, please–Kentucky-native plants only! \nLabel your plant. Bring in a container you no longer want. Bring a plant\, take a plant (bring one\, take one).
URL:https://www.laruelibrary.org/event/plant-swap/
LOCATION:LaRue County Public Library\, 215 Lincoln Drive\, Hodgenville\, KY\, 42748\, United States
CATEGORIES:Adult Events,Everyone,Youth Events
ATTACH;FMTTYPE=image/png:https://www.laruelibrary.org/wp-content/uploads/2024/04/Plant2.png
ORGANIZER;CN="LaRue Public Library":MAILTO:info@laruelibrary.org
END:VEVENT
BEGIN:VEVENT
DTSTART;TZID=America/Kentucky/Louisville:20240502T100000
DTEND;TZID=America/Kentucky/Louisville:20240502T100000
DTSTAMP:20260421T005754
CREATED:20240418T155651Z
LAST-MODIFIED:20240418T155651Z
UID:10000622-1714644000-1714644000@www.laruelibrary.org
SUMMARY:Homeschool: Architecture
DESCRIPTION:Join us on Thursday\, May 2nd @ 2:00pm to learn all about architecture! \nHomeschool program. All are welcome!
URL:https://www.laruelibrary.org/event/homeschool-architecture/
LOCATION:LaRue County Public Library\, 215 Lincoln Drive\, Hodgenville\, KY\, 42748\, United States
CATEGORIES:Everyone,Youth Events
ATTACH;FMTTYPE=image/png:https://www.laruelibrary.org/wp-content/uploads/2024/04/HomeArch.png
ORGANIZER;CN="LaRue Public Library":MAILTO:info@laruelibrary.org
END:VEVENT
BEGIN:VEVENT
DTSTART;TZID=America/Kentucky/Louisville:20240502T133000
DTEND;TZID=America/Kentucky/Louisville:20240502T133000
DTSTAMP:20260421T005754
CREATED:20240418T155959Z
LAST-MODIFIED:20240418T155959Z
UID:10000623-1714656600-1714656600@www.laruelibrary.org
SUMMARY:Story Time
DESCRIPTION:Join us for a special story on Thursday\, May 2nd at 1:30 PM! \nStory time is for children under the ages of 5. \nThis is a great opportunity to grow young readers. We make learning fun by introducing children to books\, love of reading\, and songs! We can’t wait to see you!
URL:https://www.laruelibrary.org/event/story-time-83/
LOCATION:LaRue County Public Library\, 215 Lincoln Drive\, Hodgenville\, KY\, 42748\, United States
CATEGORIES:Age Under 5 Years Old,Youth Events
ATTACH;FMTTYPE=image/png:https://www.laruelibrary.org/wp-content/uploads/2023/10/NST.0-1.png
ORGANIZER;CN="LaRue Public Library":MAILTO:info@laruelibrary.org
END:VEVENT
BEGIN:VEVENT
DTSTART;TZID=America/Kentucky/Louisville:20240502T160000
DTEND;TZID=America/Kentucky/Louisville:20240502T160000
DTSTAMP:20260421T005754
CREATED:20240418T145115Z
LAST-MODIFIED:20240418T145115Z
UID:10000618-1714665600-1714665600@www.laruelibrary.org
SUMMARY:Friends of the Library
DESCRIPTION:Join us for a Friends of the Library meeting. Become a member and help us promote the LaRue County Public Library. Membership enables you to join your local branch chapter and become involved with many wonderful library activities throughout the year. Benefits include invitations to special Friends’ events\, Volunteer opportunities\, and advocacy opportunities. Hope to see you there!
URL:https://www.laruelibrary.org/event/friends-of-the-library-13/
LOCATION:LaRue County Public Library\, 215 Lincoln Drive\, Hodgenville\, KY\, 42748\, United States
CATEGORIES:Adult,Adult Events
ATTACH;FMTTYPE=image/png:https://www.laruelibrary.org/wp-content/uploads/2023/03/BecomeLibraryFriend.png
ORGANIZER;CN="LaRue Public Library":MAILTO:info@laruelibrary.org
END:VEVENT
BEGIN:VEVENT
DTSTART;TZID=America/Kentucky/Louisville:20240502T170000
DTEND;TZID=America/Kentucky/Louisville:20240502T170000
DTSTAMP:20260421T005754
CREATED:20240418T194301Z
LAST-MODIFIED:20240418T194301Z
UID:10001153-1714669200-1714669200@www.laruelibrary.org
SUMMARY:Felt Hummingbird
DESCRIPTION:Join us on Thursday\, May 2nd at 5:00pm to make this cute felt hummingbird! \nClass limit of 20. Teens and Adults.
URL:https://www.laruelibrary.org/event/felt-hummingbird/
LOCATION:LaRue County Public Library\, 215 Lincoln Drive\, Hodgenville\, KY\, 42748\, United States
CATEGORIES:Adult,Adult Events,High School,Youth Events
ORGANIZER;CN="LaRue Public Library":MAILTO:info@laruelibrary.org
END:VEVENT
BEGIN:VEVENT
DTSTART;TZID=America/Kentucky/Louisville:20240503T110000
DTEND;TZID=America/Kentucky/Louisville:20240503T110000
DTSTAMP:20260421T005754
CREATED:20240418T164540Z
LAST-MODIFIED:20240503T144935Z
UID:10000633-1714734000-1714734000@www.laruelibrary.org
SUMMARY:CANCELLED: Pre-K Sensory Bins
DESCRIPTION:CANCELLED. Join us on Friday\, May 3rd @ 11:00am to experience several different archeology-inspired sensory bins! \nClass for Pre-schoolers. No registration needed.
URL:https://www.laruelibrary.org/event/pre-k-sensory-bins/
LOCATION:LaRue County Public Library\, 215 Lincoln Drive\, Hodgenville\, KY\, 42748\, United States
CATEGORIES:Age Under 5 Years Old,Youth Events
ATTACH;FMTTYPE=image/png:https://www.laruelibrary.org/wp-content/uploads/2024/04/PreKSen.png
ORGANIZER;CN="LaRue Public Library":MAILTO:info@laruelibrary.org
END:VEVENT
BEGIN:VEVENT
DTSTART;TZID=America/Kentucky/Louisville:20240503T140000
DTEND;TZID=America/Kentucky/Louisville:20240503T140000
DTSTAMP:20260421T005754
CREATED:20240418T193955Z
LAST-MODIFIED:20240418T193955Z
UID:10001152-1714744800-1714744800@www.laruelibrary.org
SUMMARY:Derby Hat Bunco
DESCRIPTION:Ladies and gents\, wear your derby hat and bring your favorite finger food to LCPL on Friday\, May 3rd at 2:00pm! \nPlates\, napkins\, forks\, water\, and coffee will be provided by the library. \nBunco will have a 1st\, 2nd\, and 3rd place prizes and a prize will be awarded for the winner of our favorite derby hat! \nLimit of 24 people. Event for adults only.
URL:https://www.laruelibrary.org/event/derby-hat-bunco/
LOCATION:LaRue County Public Library\, 215 Lincoln Drive\, Hodgenville\, KY\, 42748\, United States
CATEGORIES:Adult,Adult Events,High School,Youth Events
ATTACH;FMTTYPE=image/png:https://www.laruelibrary.org/wp-content/uploads/2024/04/Derby2.png
ORGANIZER;CN="LaRue Public Library":MAILTO:info@laruelibrary.org
END:VEVENT
BEGIN:VEVENT
DTSTART;TZID=America/Kentucky/Louisville:20240506T100000
DTEND;TZID=America/Kentucky/Louisville:20240506T100000
DTSTAMP:20260421T005754
CREATED:20240418T161821Z
LAST-MODIFIED:20240418T161821Z
UID:10000627-1714989600-1714989600@www.laruelibrary.org
SUMMARY:Stretch and Shine
DESCRIPTION:Join us for Stretch and Shine and start your day off right! Free low-impact exercise class. Let’s get those muscles moving! \nMonday\, May 6th at 10:00 AM. \nThis program is designed for adults.
URL:https://www.laruelibrary.org/event/stretch-and-shine-29/
LOCATION:LaRue County Public Library\, 215 Lincoln Drive\, Hodgenville\, KY\, 42748\, United States
CATEGORIES:Adult,Adult Events
ATTACH;FMTTYPE=image/png:https://www.laruelibrary.org/wp-content/uploads/2023/03/Stretch-Adult-Event-1.png
ORGANIZER;CN="LaRue Public Library":MAILTO:info@laruelibrary.org
END:VEVENT
BEGIN:VEVENT
DTSTART;TZID=America/Kentucky/Louisville:20240506T140000
DTEND;TZID=America/Kentucky/Louisville:20240506T140000
DTSTAMP:20260421T005754
CREATED:20240418T163701Z
LAST-MODIFIED:20240418T163701Z
UID:10000630-1715004000-1715004000@www.laruelibrary.org
SUMMARY:Community Games
DESCRIPTION:Come and have some game day fun here at the library! \nBring your friends\, family\, a board game (or choose one of ours) and enjoy! Monday\, May 6th at 2:00pm.
URL:https://www.laruelibrary.org/event/community-games-29/
LOCATION:LaRue County Public Library\, 215 Lincoln Drive\, Hodgenville\, KY\, 42748\, United States
CATEGORIES:Adult Events,Everyone,Youth Events
ATTACH;FMTTYPE=image/jpeg:https://www.laruelibrary.org/wp-content/uploads/2023/07/bg2.jpg
ORGANIZER;CN="LaRue Public Library":MAILTO:info@laruelibrary.org
END:VEVENT
BEGIN:VEVENT
DTSTART;TZID=America/Kentucky/Louisville:20240507T110000
DTEND;TZID=America/Kentucky/Louisville:20240507T110000
DTSTAMP:20260421T005754
CREATED:20240418T161149Z
LAST-MODIFIED:20240418T161149Z
UID:10000624-1715079600-1715079600@www.laruelibrary.org
SUMMARY:Story Time
DESCRIPTION:Join us for a fun and fantastic story on Tuesday\, May 7th at 11:00 AM! \nStory time is for children under the ages of 5. \nThis is a great opportunity to grow young readers. We make learning fun by introducing children to books\, love of reading\, and songs! We can’t wait to see you!
URL:https://www.laruelibrary.org/event/story-time-84/
LOCATION:LaRue County Public Library\, 215 Lincoln Drive\, Hodgenville\, KY\, 42748\, United States
CATEGORIES:Age Under 5 Years Old,Youth Events
ATTACH;FMTTYPE=image/png:https://www.laruelibrary.org/wp-content/uploads/2023/10/NST.0-1.png
ORGANIZER;CN="LaRue Public Library":MAILTO:info@laruelibrary.org
END:VEVENT
BEGIN:VEVENT
DTSTART;TZID=America/Kentucky/Louisville:20240507T150000
DTEND;TZID=America/Kentucky/Louisville:20240507T150000
DTSTAMP:20260421T005754
CREATED:20240418T201059Z
LAST-MODIFIED:20240418T201148Z
UID:10001159-1715094000-1715094000@www.laruelibrary.org
SUMMARY:Cake Pops
DESCRIPTION:Come join us on Tuesday\, May 7th at 3:00pm as and Sarah Robers-Schaffner\, owner of ‘Sugar Fashion Cakes’\, teaches us the secret to perfect cakes pops! \nClass limit of 20. Teens & Adults. Call to register.
URL:https://www.laruelibrary.org/event/cake-pops/
LOCATION:LaRue County Public Library\, 215 Lincoln Drive\, Hodgenville\, KY\, 42748\, United States
CATEGORIES:Adult,Adult Events,High School,Youth Events
ORGANIZER;CN="LaRue Public Library":MAILTO:info@laruelibrary.org
END:VEVENT
BEGIN:VEVENT
DTSTART;VALUE=DATE:20240508
DTEND;VALUE=DATE:20240509
DTSTAMP:20260421T005754
CREATED:20240418T193004Z
LAST-MODIFIED:20240426T154305Z
UID:10001096-1715126400-1715212799@www.laruelibrary.org
SUMMARY:Support Victims of Domestic Violence
DESCRIPTION:During the month of May\, LaRue County Public Library will be taking donations for Springhaven Domestic Violence Center. \nPersonal hygiene products\, cleaning supplies\, gift cards\, children’s essentials\, and all other donations are accepted here at the library. \nFor larger items\, such as furniture\, please call the library to make arrangements for pick up.
URL:https://www.laruelibrary.org/event/domestic-violence/2024-05-08/
LOCATION:LaRue County Public Library\, 215 Lincoln Drive\, Hodgenville\, KY\, 42748\, United States
CATEGORIES:Adult Events,Everyone
ORGANIZER;CN="LaRue Public Library":MAILTO:info@laruelibrary.org
END:VEVENT
BEGIN:VEVENT
DTSTART;VALUE=DATE:20240509
DTEND;VALUE=DATE:20240516
DTSTAMP:20260421T005754
CREATED:20240418T165225Z
LAST-MODIFIED:20240418T165225Z
UID:10000635-1715212800-1715817599@www.laruelibrary.org
SUMMARY:Learning Center Closed
DESCRIPTION:The Learning Center will be closed May 9th-15th to accommodate the installation of Play2Go. \nThank you for your cooperation! We appreciate you!
URL:https://www.laruelibrary.org/event/learning-center-closed/
LOCATION:LaRue County Public Library\, 215 Lincoln Drive\, Hodgenville\, KY\, 42748\, United States
CATEGORIES:Adult Events,Everyone,Youth Events
ORGANIZER;CN="LaRue Public Library":MAILTO:info@laruelibrary.org
END:VEVENT
BEGIN:VEVENT
DTSTART;TZID=America/Kentucky/Louisville:20240509T170000
DTEND;TZID=America/Kentucky/Louisville:20240509T170000
DTSTAMP:20260421T005754
CREATED:20240418T195820Z
LAST-MODIFIED:20240418T195820Z
UID:10001156-1715274000-1715274000@www.laruelibrary.org
SUMMARY:Pressed Flower Art
DESCRIPTION:Join us on Thursday\, May 9th @ 3:00pm as April Vines shows us how to create beautiful pressed flower art! \nClass limit of 24. Teens & Adults. Call to sign up.
URL:https://www.laruelibrary.org/event/pressed-flower-art/
LOCATION:LaRue County Public Library\, 215 Lincoln Drive\, Hodgenville\, KY\, 42748\, United States
CATEGORIES:Adult,Adult Events,High School,Youth Events
ORGANIZER;CN="LaRue Public Library":MAILTO:info@laruelibrary.org
END:VEVENT
BEGIN:VEVENT
DTSTART;TZID=America/Kentucky/Louisville:20240510T150000
DTEND;TZID=America/Kentucky/Louisville:20240510T150000
DTSTAMP:20260421T005754
CREATED:20240418T201605Z
LAST-MODIFIED:20240418T201605Z
UID:10001160-1715353200-1715353200@www.laruelibrary.org
SUMMARY:Whisk Dragonflies
DESCRIPTION:Join us on Friday\, May 10th @ 3:00pm to make dragonflies out of whisks! \nClass limit of 20. Teens & Adults. Call to sign up.
URL:https://www.laruelibrary.org/event/whisk-dragonflies/
LOCATION:LaRue County Public Library\, 215 Lincoln Drive\, Hodgenville\, KY\, 42748\, United States
CATEGORIES:Adult,Adult Events,High School,Youth Events
ORGANIZER;CN="LaRue Public Library":MAILTO:info@laruelibrary.org
END:VEVENT
BEGIN:VEVENT
DTSTART;TZID=America/Kentucky/Louisville:20240513T100000
DTEND;TZID=America/Kentucky/Louisville:20240513T100000
DTSTAMP:20260421T005754
CREATED:20240418T163334Z
LAST-MODIFIED:20240418T163334Z
UID:10000628-1715594400-1715594400@www.laruelibrary.org
SUMMARY:Stretch and Shine
DESCRIPTION:Join us for Stretch and Shine and start your day off right! Free low-impact exercise class. Let’s get those muscles moving! \nMonday\, May 13th at 10:00 AM. \nThis program is designed for adults.
URL:https://www.laruelibrary.org/event/stretch-and-shine-30/
LOCATION:LaRue County Public Library\, 215 Lincoln Drive\, Hodgenville\, KY\, 42748\, United States
CATEGORIES:Adult,Adult Events
ATTACH;FMTTYPE=image/png:https://www.laruelibrary.org/wp-content/uploads/2023/03/Stretch-Adult-Event-1.png
ORGANIZER;CN="LaRue Public Library":MAILTO:info@laruelibrary.org
END:VEVENT
BEGIN:VEVENT
DTSTART;TZID=America/Kentucky/Louisville:20240513T140000
DTEND;TZID=America/Kentucky/Louisville:20240513T140000
DTSTAMP:20260421T005754
CREATED:20240418T163806Z
LAST-MODIFIED:20240418T163806Z
UID:10000631-1715608800-1715608800@www.laruelibrary.org
SUMMARY:Community Games
DESCRIPTION:Come and have some game day fun here at the library! \nBring your friends\, family\, a board game (or choose one of ours) and enjoy! Monday\, May 13th at 2:00pm.
URL:https://www.laruelibrary.org/event/community-games-30/
LOCATION:LaRue County Public Library\, 215 Lincoln Drive\, Hodgenville\, KY\, 42748\, United States
CATEGORIES:Adult Events,Everyone,Youth Events
ATTACH;FMTTYPE=image/jpeg:https://www.laruelibrary.org/wp-content/uploads/2023/07/bg2.jpg
ORGANIZER;CN="LaRue Public Library":MAILTO:info@laruelibrary.org
END:VEVENT
BEGIN:VEVENT
DTSTART;TZID=America/Kentucky/Louisville:20240514T173000
DTEND;TZID=America/Kentucky/Louisville:20240514T173000
DTSTAMP:20260421T005754
CREATED:20240418T192144Z
LAST-MODIFIED:20240418T192144Z
UID:10001094-1715707800-1715707800@www.laruelibrary.org
SUMMARY:Coffee for Veterans
DESCRIPTION:Join us on Tuesday\, May 14th @ 5:30pm in the LCPL community room for a very special program (with spouses/partners being welcome). \nAaron Hovious\, veteran and owner of Abe City CrossFit\, will be our special guest.
URL:https://www.laruelibrary.org/event/coffee-for-veterans-4/
LOCATION:LaRue County Public Library\, 215 Lincoln Drive\, Hodgenville\, KY\, 42748\, United States
CATEGORIES:Adult Events,Everyone,Youth Events
ATTACH;FMTTYPE=image/png:https://www.laruelibrary.org/wp-content/uploads/2024/01/vetcoffee.png
ORGANIZER;CN="LaRue Public Library":MAILTO:info@laruelibrary.org
END:VEVENT
BEGIN:VEVENT
DTSTART;VALUE=DATE:20240515
DTEND;VALUE=DATE:20240516
DTSTAMP:20260421T005754
CREATED:20240418T193004Z
LAST-MODIFIED:20240426T154305Z
UID:10001097-1715731200-1715817599@www.laruelibrary.org
SUMMARY:Support Victims of Domestic Violence
DESCRIPTION:During the month of May\, LaRue County Public Library will be taking donations for Springhaven Domestic Violence Center. \nPersonal hygiene products\, cleaning supplies\, gift cards\, children’s essentials\, and all other donations are accepted here at the library. \nFor larger items\, such as furniture\, please call the library to make arrangements for pick up.
URL:https://www.laruelibrary.org/event/domestic-violence/2024-05-15/
LOCATION:LaRue County Public Library\, 215 Lincoln Drive\, Hodgenville\, KY\, 42748\, United States
CATEGORIES:Adult Events,Everyone
ORGANIZER;CN="LaRue Public Library":MAILTO:info@laruelibrary.org
END:VEVENT
BEGIN:VEVENT
DTSTART;TZID=America/Kentucky/Louisville:20240515T153000
DTEND;TZID=America/Kentucky/Louisville:20240515T153000
DTSTAMP:20260421T005754
CREATED:20240325T203507Z
LAST-MODIFIED:20240426T154106Z
UID:10000596-1715787000-1715787000@www.laruelibrary.org
SUMMARY:Plant Propagation
DESCRIPTION:Join us for plant propagation with Adam Thomas (a LaRue County Extension agent) on Wednesday\, May 15th at 3:30 pm! \nEveryone welcome! No registration needed.
URL:https://www.laruelibrary.org/event/plant-propagation/
LOCATION:LaRue County Public Library\, 215 Lincoln Drive\, Hodgenville\, KY\, 42748\, United States
CATEGORIES:Adult,Adult Events,Everyone,Family,Youth Events
ORGANIZER;CN="LaRue Public Library":MAILTO:info@laruelibrary.org
END:VEVENT
BEGIN:VEVENT
DTSTART;TZID=America/Kentucky/Louisville:20240516T090000
DTEND;TZID=America/Kentucky/Louisville:20240516T170000
DTSTAMP:20260421T005754
CREATED:20240418T202433Z
LAST-MODIFIED:20240418T202433Z
UID:10001162-1715850000-1715878800@www.laruelibrary.org
SUMMARY:Early Closing
DESCRIPTION:LaRue County Public Library will be closing early at 5:00pm today. \nWe will see you tomorrow at 9am!
URL:https://www.laruelibrary.org/event/early-closing/
LOCATION:LaRue County Public Library\, 215 Lincoln Drive\, Hodgenville\, KY\, 42748\, United States
CATEGORIES:Adult Events,Everyone,Youth Events
ATTACH;FMTTYPE=image/png:https://www.laruelibrary.org/wp-content/uploads/2024/04/EarlyC.png
ORGANIZER;CN="LaRue Public Library":MAILTO:info@laruelibrary.org
END:VEVENT
BEGIN:VEVENT
DTSTART;TZID=America/Kentucky/Louisville:20240516T153000
DTEND;TZID=America/Kentucky/Louisville:20240516T153000
DTSTAMP:20260421T005754
CREATED:20240418T145352Z
LAST-MODIFIED:20240418T145352Z
UID:10000619-1715873400-1715873400@www.laruelibrary.org
SUMMARY:Book Club
DESCRIPTION:Come join us on Thursday\, May 16th at 3:30pm for Book Club! This is an Adult program.
URL:https://www.laruelibrary.org/event/book-club-13/
LOCATION:LaRue County Public Library\, 215 Lincoln Drive\, Hodgenville\, KY\, 42748\, United States
CATEGORIES:Adult,Adult Events
ATTACH;FMTTYPE=image/jpeg:https://www.laruelibrary.org/wp-content/uploads/2023/07/bc2.jpg
ORGANIZER;CN="LaRue Public Library":MAILTO:info@laruelibrary.org
END:VEVENT
BEGIN:VEVENT
DTSTART;TZID=America/Kentucky/Louisville:20240518T090000
DTEND;TZID=America/Kentucky/Louisville:20240518T140000
DTSTAMP:20260421T005754
CREATED:20240418T173649Z
LAST-MODIFIED:20240503T145934Z
UID:10000636-1716022800-1716040800@www.laruelibrary.org
SUMMARY:Play2Go Exhibit Opens Today
DESCRIPTION:Play2Go Exhibit is now open! \nCome play and explore with us at ‘Science in Play2Go’ today\, Saturday May 18th\, from 9:00am-2:00pm! \n‘Kentucky Science Center’ developed ‘Science in Play2Go’ as a learning experience that makes science personal\, fun\, participatory\, and relevant.
URL:https://www.laruelibrary.org/event/play2go-exhibit-opens-today/
LOCATION:LaRue County Public Library\, 215 Lincoln Drive\, Hodgenville\, KY\, 42748\, United States
CATEGORIES:Adult Events,Everyone,Youth Events
ORGANIZER;CN="LaRue Public Library":MAILTO:info@laruelibrary.org
END:VEVENT
BEGIN:VEVENT
DTSTART;VALUE=DATE:20240520
DTEND;VALUE=DATE:20240521
DTSTAMP:20260421T005754
CREATED:20240418T203511Z
LAST-MODIFIED:20240503T150526Z
UID:10001228-1716163200-1716249599@www.laruelibrary.org
SUMMARY:Play2Go
DESCRIPTION:Play2Go Exhibit is now open! Everyone is welcome! \nCome play and explore with us at ‘Science in Play2Go’ during open/operating hours here at LCPL! \n‘Kentucky Science Center’ developed ‘Science in Play2Go’ as a learning experience that makes science personal\, fun\, participatory\, and relevant.
URL:https://www.laruelibrary.org/event/play2go/
LOCATION:LaRue County Public Library\, 215 Lincoln Drive\, Hodgenville\, KY\, 42748\, United States
CATEGORIES:Adult Events,Everyone,Youth Events
ORGANIZER;CN="LaRue Public Library":MAILTO:info@laruelibrary.org
END:VEVENT
BEGIN:VEVENT
DTSTART;TZID=America/Kentucky/Louisville:20240520T100000
DTEND;TZID=America/Kentucky/Louisville:20240520T100000
DTSTAMP:20260421T005754
CREATED:20240418T163446Z
LAST-MODIFIED:20240418T163446Z
UID:10000629-1716199200-1716199200@www.laruelibrary.org
SUMMARY:Stretch and Shine
DESCRIPTION:Join us for Stretch and Shine and start your day off right! Free low-impact exercise class. Let’s get those muscles moving! \nMonday\, May 20th at 10:00 AM. \nThis program is designed for adults.
URL:https://www.laruelibrary.org/event/stretch-and-shine-31/
LOCATION:LaRue County Public Library\, 215 Lincoln Drive\, Hodgenville\, KY\, 42748\, United States
CATEGORIES:Adult,Adult Events
ATTACH;FMTTYPE=image/png:https://www.laruelibrary.org/wp-content/uploads/2023/03/Stretch-Adult-Event-1.png
ORGANIZER;CN="LaRue Public Library":MAILTO:info@laruelibrary.org
END:VEVENT
END:VCALENDAR