BEGIN:VCALENDAR
VERSION:2.0
PRODID:-//LaRue County Public Library - ECPv6.15.20//NONSGML v1.0//EN
CALSCALE:GREGORIAN
METHOD:PUBLISH
X-ORIGINAL-URL:https://www.laruelibrary.org
X-WR-CALDESC:Events for LaRue County Public Library
REFRESH-INTERVAL;VALUE=DURATION:PT1H
X-Robots-Tag:noindex
X-PUBLISHED-TTL:PT1H
BEGIN:VTIMEZONE
TZID:America/Kentucky/Louisville
BEGIN:DAYLIGHT
TZOFFSETFROM:-0500
TZOFFSETTO:-0400
TZNAME:EDT
DTSTART:20230312T070000
END:DAYLIGHT
BEGIN:STANDARD
TZOFFSETFROM:-0400
TZOFFSETTO:-0500
TZNAME:EST
DTSTART:20231105T060000
END:STANDARD
BEGIN:DAYLIGHT
TZOFFSETFROM:-0500
TZOFFSETTO:-0400
TZNAME:EDT
DTSTART:20240310T070000
END:DAYLIGHT
BEGIN:STANDARD
TZOFFSETFROM:-0400
TZOFFSETTO:-0500
TZNAME:EST
DTSTART:20241103T060000
END:STANDARD
BEGIN:DAYLIGHT
TZOFFSETFROM:-0500
TZOFFSETTO:-0400
TZNAME:EDT
DTSTART:20250309T070000
END:DAYLIGHT
BEGIN:STANDARD
TZOFFSETFROM:-0400
TZOFFSETTO:-0500
TZNAME:EST
DTSTART:20251102T060000
END:STANDARD
END:VTIMEZONE
BEGIN:VEVENT
DTSTART;TZID=America/Kentucky/Louisville:20240528T110000
DTEND;TZID=America/Kentucky/Louisville:20240528T110000
DTSTAMP:20260421T095806
CREATED:20240418T161421Z
LAST-MODIFIED:20240624T161419Z
UID:10000626-1716894000-1716894000@www.laruelibrary.org
SUMMARY:Story Time
DESCRIPTION:Join us for a fun and fantastic story on Tuesday\, May 28th at 11:00 AM! \nStory time is for children under the ages of 5. \nThis is a great opportunity to grow young readers. We make learning fun by introducing children to books\, love of reading\, and songs! We can’t wait to see you!
URL:https://www.laruelibrary.org/event/story-time-86/
LOCATION:LaRue County Public Library\, 215 Lincoln Drive\, Hodgenville\, KY\, 42748\, United States
CATEGORIES:Age Under 5 Years Old,Youth Events
ATTACH;FMTTYPE=image/png:https://www.laruelibrary.org/wp-content/uploads/2023/10/NST.0-1.png
ORGANIZER;CN="LaRue Public Library":MAILTO:info@laruelibrary.org
END:VEVENT
BEGIN:VEVENT
DTSTART;TZID=America/Kentucky/Louisville:20240528T130000
DTEND;TZID=America/Kentucky/Louisville:20240528T163000
DTSTAMP:20260421T095806
CREATED:20240418T200311Z
LAST-MODIFIED:20240418T200311Z
UID:10001157-1716901200-1716913800@www.laruelibrary.org
SUMMARY:Scrapbooking Afternoon
DESCRIPTION:Join us on Tuesday\, May 28th from 1:00pm-4:30pm to spend a relaxing afternoon scrapbooking with Annie James. \nThe library will provide the space\, snacks\, and water–you bring your own materials! \nAdult-only event.
URL:https://www.laruelibrary.org/event/scrapbooking-afternoon/
LOCATION:LaRue County Public Library\, 215 Lincoln Drive\, Hodgenville\, KY\, 42748\, United States
CATEGORIES:Adult,Adult Events
ORGANIZER;CN="LaRue Public Library":MAILTO:info@laruelibrary.org
END:VEVENT
BEGIN:VEVENT
DTSTART;TZID=America/Kentucky/Louisville:20240528T153000
DTEND;TZID=America/Kentucky/Louisville:20240528T153000
DTSTAMP:20260421T095806
CREATED:20240418T164145Z
LAST-MODIFIED:20240418T164145Z
UID:10000632-1716910200-1716910200@www.laruelibrary.org
SUMMARY:Nature Bookmarks
DESCRIPTION:Come prepare for Summer Reading by making your own bookmark on Tuesday\, May 28th @ 3:30 PM! \nEveryone is welcome!
URL:https://www.laruelibrary.org/event/nature-bookmarks/
LOCATION:LaRue County Public Library\, 215 Lincoln Drive\, Hodgenville\, KY\, 42748\, United States
CATEGORIES:Family,Youth Events
ORGANIZER;CN="LaRue Public Library":MAILTO:info@laruelibrary.org
END:VEVENT
BEGIN:VEVENT
DTSTART;VALUE=DATE:20240529
DTEND;VALUE=DATE:20240530
DTSTAMP:20260421T095806
CREATED:20240418T193004Z
LAST-MODIFIED:20240426T154305Z
UID:10001099-1716940800-1717027199@www.laruelibrary.org
SUMMARY:Support Victims of Domestic Violence
DESCRIPTION:During the month of May\, LaRue County Public Library will be taking donations for Springhaven Domestic Violence Center. \nPersonal hygiene products\, cleaning supplies\, gift cards\, children’s essentials\, and all other donations are accepted here at the library. \nFor larger items\, such as furniture\, please call the library to make arrangements for pick up.
URL:https://www.laruelibrary.org/event/domestic-violence/2024-05-29/
LOCATION:LaRue County Public Library\, 215 Lincoln Drive\, Hodgenville\, KY\, 42748\, United States
CATEGORIES:Adult Events,Everyone
ORGANIZER;CN="LaRue Public Library":MAILTO:info@laruelibrary.org
END:VEVENT
BEGIN:VEVENT
DTSTART;TZID=America/Kentucky/Louisville:20240530T173000
DTEND;TZID=America/Kentucky/Louisville:20240530T183000
DTSTAMP:20260421T095806
CREATED:20240418T191623Z
LAST-MODIFIED:20240418T191623Z
UID:10001093-1717090200-1717093800@www.laruelibrary.org
SUMMARY:Bike Show
DESCRIPTION:Come show off your motorcycle\, check out all the cool bikes\, & choose your favorite! \nWe’ll be giving a 1st\, 2nd\, and 3rd place prize…and YOU will choose the winners! \nFREE Kona Ice to the first 30 people to arrive. \nThursday\, May 30th from 5:30pm-6:30pm on the LCPL front lawn. Will be rescheduled if it rains.
URL:https://www.laruelibrary.org/event/bike-show/
LOCATION:LaRue County Public Library\, 215 Lincoln Drive\, Hodgenville\, KY\, 42748\, United States
CATEGORIES:Adult Events,Everyone,Youth Events
ATTACH;FMTTYPE=image/png:https://www.laruelibrary.org/wp-content/uploads/2024/04/BikeShow.png
ORGANIZER;CN="LaRue Public Library":MAILTO:info@laruelibrary.org
END:VEVENT
BEGIN:VEVENT
DTSTART;TZID=America/Kentucky/Louisville:20240531T150000
DTEND;TZID=America/Kentucky/Louisville:20240531T150000
DTSTAMP:20260421T095806
CREATED:20240418T200618Z
LAST-MODIFIED:20240418T200618Z
UID:10001158-1717167600-1717167600@www.laruelibrary.org
SUMMARY:Succulent Craft
DESCRIPTION:Join us on Friday\, May 31st at 3:00pm as April Vines leads a succulent class! \nClass limit of 20. Teens & Adults. Call to sign up.
URL:https://www.laruelibrary.org/event/succulent-craft/
LOCATION:LaRue County Public Library\, 215 Lincoln Drive\, Hodgenville\, KY\, 42748\, United States
CATEGORIES:Adult,Adult Events,High School,Youth Events
ORGANIZER;CN="LaRue Public Library":MAILTO:info@laruelibrary.org
END:VEVENT
BEGIN:VEVENT
DTSTART;TZID=America/Kentucky/Louisville:20240601T103000
DTEND;TZID=America/Kentucky/Louisville:20240601T103000
DTSTAMP:20260421T095806
CREATED:20240514T220340Z
LAST-MODIFIED:20240518T135715Z
UID:10001295-1717237800-1717237800@www.laruelibrary.org
SUMMARY:Teddy Bear Picnic
DESCRIPTION:Bring your teddy and join us for stories\, games\, songs\, and more! \nPlease bring your own blankets or chairs and a yummy picnic lunch! A small snack will be provided for the children. \nOur picnic will be held at the library on Saturday\, June 1st at 10:30 AM!
URL:https://www.laruelibrary.org/event/teddy-bear-picnic-2/
LOCATION:LaRue County Public Library\, 215 Lincoln Drive\, Hodgenville\, KY\, 42748\, United States
CATEGORIES:Family
ATTACH;FMTTYPE=image/webp:https://www.laruelibrary.org/wp-content/uploads/2024/05/Teddy-Bear-Picnic.webp
END:VEVENT
BEGIN:VEVENT
DTSTART;VALUE=DATE:20240603
DTEND;VALUE=DATE:20240604
DTSTAMP:20260421T095806
CREATED:20240418T203741Z
LAST-MODIFIED:20240503T150234Z
UID:10001230-1717372800-1717459199@www.laruelibrary.org
SUMMARY:Play2Go
DESCRIPTION:Play2Go Exhibit is now open! Everyone is welcome! \nCome play and explore with us at ‘Science in Play2Go’ during open/operating hours here at LCPL! \n‘Kentucky Science Center’ developed ‘Science in Play2Go’ as a learning experience that makes science personal\, fun\, participatory\, and relevant.
URL:https://www.laruelibrary.org/event/play2go-3/2024-06-03/
LOCATION:LaRue County Public Library\, 215 Lincoln Drive\, Hodgenville\, KY\, 42748\, United States
CATEGORIES:Adult Events,Everyone,Youth Events
ORGANIZER;CN="LaRue Public Library":MAILTO:info@laruelibrary.org
END:VEVENT
BEGIN:VEVENT
DTSTART;TZID=America/Kentucky/Louisville:20240603T100000
DTEND;TZID=America/Kentucky/Louisville:20240603T100000
DTSTAMP:20260421T095806
CREATED:20240514T215525Z
LAST-MODIFIED:20240514T215525Z
UID:10001293-1717408800-1717408800@www.laruelibrary.org
SUMMARY:Stretch and Shine
DESCRIPTION:Join us for Stretch and Shine and start your day off right! Free low-impact exercise class. Let’s get those muscles moving! \nThis program is designed for adults.
URL:https://www.laruelibrary.org/event/stretch-and-shine-32/2024-06-03/
LOCATION:LaRue County Public Library\, 215 Lincoln Drive\, Hodgenville\, KY\, 42748\, United States
CATEGORIES:Adult,Adult Events
END:VEVENT
BEGIN:VEVENT
DTSTART;TZID=America/Kentucky/Louisville:20240604T110000
DTEND;TZID=America/Kentucky/Louisville:20240604T110000
DTSTAMP:20260421T095806
CREATED:20240514T220713Z
LAST-MODIFIED:20240514T220713Z
UID:10001296-1717498800-1717498800@www.laruelibrary.org
SUMMARY:Story Time
DESCRIPTION:Come enjoy a special Story Time with Ms. Taylor on Tuesday\, June 4th at 11:00 AM. \nStory Time for children under the age of 5 is a great way to grow a reader! Story Time makes learning fun and introduces children to books\, reading and language with stories\, songs and activities. Hope you can join us!
URL:https://www.laruelibrary.org/event/story-time-87/
LOCATION:LaRue County Public Library\, 215 Lincoln Drive\, Hodgenville\, KY\, 42748\, United States
CATEGORIES:Age Under 5 Years Old
END:VEVENT
BEGIN:VEVENT
DTSTART;TZID=America/Kentucky/Louisville:20240604T160000
DTEND;TZID=America/Kentucky/Louisville:20240604T180000
DTSTAMP:20260421T095806
CREATED:20240514T221424Z
LAST-MODIFIED:20240514T221424Z
UID:10001297-1717516800-1717524000@www.laruelibrary.org
SUMMARY:Plant Swap
DESCRIPTION:Grow your friendships and a new plant at our plant swap. Bring a plant and go home with a new one! Join us on Tuesday\, June 4th at 4:00-6:00 PM.
URL:https://www.laruelibrary.org/event/plant-swap-2/
LOCATION:LaRue County Public Library\, 215 Lincoln Drive\, Hodgenville\, KY\, 42748\, United States
CATEGORIES:Everyone
END:VEVENT
BEGIN:VEVENT
DTSTART;TZID=America/Kentucky/Louisville:20240605T130000
DTEND;TZID=America/Kentucky/Louisville:20240605T130000
DTSTAMP:20260421T095806
CREATED:20240514T221633Z
LAST-MODIFIED:20240514T221730Z
UID:10001298-1717592400-1717592400@www.laruelibrary.org
SUMMARY:Lego Create
DESCRIPTION:Calling all builders elementary school through teens – Explore your creativity with Lego free play and challenges. \nSee you there on Wednesday\, June 5th at 1:00 PM!  \nThis event doesn’t require preregistration. 
URL:https://www.laruelibrary.org/event/lego-crate/
LOCATION:LaRue County Public Library\, 215 Lincoln Drive\, Hodgenville\, KY\, 42748\, United States
CATEGORIES:Grade School,High School,Middle School
END:VEVENT
BEGIN:VEVENT
DTSTART;TZID=America/Kentucky/Louisville:20240606T160000
DTEND;TZID=America/Kentucky/Louisville:20240606T160000
DTSTAMP:20260421T095806
CREATED:20240514T222116Z
LAST-MODIFIED:20240514T222116Z
UID:10001299-1717689600-1717689600@www.laruelibrary.org
SUMMARY:Teen Book Club
DESCRIPTION:Join us for the first teen book club meeting at Vibe Coffee in downtown Hodgenville. Our first session will be deciding on our first book\, when we meet\, and other fun things to add in! \nSee you on Thursday\, June 6th at 4:00 PM at Vibe Coffee. \nThis program is for teens.
URL:https://www.laruelibrary.org/event/teen-book-club-3/
LOCATION:LaRue County Public Library\, 215 Lincoln Drive\, Hodgenville\, KY\, 42748\, United States
CATEGORIES:High School,Middle School
END:VEVENT
BEGIN:VEVENT
DTSTART;TZID=America/Kentucky/Louisville:20240606T173000
DTEND;TZID=America/Kentucky/Louisville:20240606T173000
DTSTAMP:20260421T095806
CREATED:20240518T135610Z
LAST-MODIFIED:20240518T142147Z
UID:10001307-1717695000-1717695000@www.laruelibrary.org
SUMMARY:Hiking Patagonia
DESCRIPTION:Explore Patagonia-Torres Del Paine\, Argentina and Tour Du Mont Blanc\, France\, Italy\, and Switzerland with Jimmy Shaw on Thursday\, June 6th at 5:30 PM! Everyone is welcome to attend!
URL:https://www.laruelibrary.org/event/hiking-patagonia/
LOCATION:KY
ATTACH;FMTTYPE=image/jpeg:https://www.laruelibrary.org/wp-content/uploads/2024/05/ice-capped-mountains-patagonia-chile-TORRESTREK0318-44fa05d486f54fa98ffeac7853dd3369.jpg
END:VEVENT
BEGIN:VEVENT
DTSTART;TZID=America/Kentucky/Louisville:20240607T130000
DTEND;TZID=America/Kentucky/Louisville:20240607T130000
DTSTAMP:20260421T095806
CREATED:20240514T222417Z
LAST-MODIFIED:20240514T222417Z
UID:10001300-1717765200-1717765200@www.laruelibrary.org
SUMMARY:Story Time
DESCRIPTION:Come enjoy a special Story Time with Ms. Taylor on Friday\, June 7th at 12:00 PM. \nStory Time for children under the age of 5 is a great way to grow a reader! Story Time makes learning fun and introduces children to books\, reading and language with stories\, songs and activities. Hope you can join us!
URL:https://www.laruelibrary.org/event/story-time-88/
LOCATION:LaRue County Public Library\, 215 Lincoln Drive\, Hodgenville\, KY\, 42748\, United States
CATEGORIES:Age Under 5 Years Old
END:VEVENT
BEGIN:VEVENT
DTSTART;VALUE=DATE:20240610
DTEND;VALUE=DATE:20240611
DTSTAMP:20260421T095806
CREATED:20240418T203741Z
LAST-MODIFIED:20240503T150234Z
UID:10001231-1717977600-1718063999@www.laruelibrary.org
SUMMARY:Play2Go
DESCRIPTION:Play2Go Exhibit is now open! Everyone is welcome! \nCome play and explore with us at ‘Science in Play2Go’ during open/operating hours here at LCPL! \n‘Kentucky Science Center’ developed ‘Science in Play2Go’ as a learning experience that makes science personal\, fun\, participatory\, and relevant.
URL:https://www.laruelibrary.org/event/play2go-3/2024-06-10/
LOCATION:LaRue County Public Library\, 215 Lincoln Drive\, Hodgenville\, KY\, 42748\, United States
CATEGORIES:Adult Events,Everyone,Youth Events
ORGANIZER;CN="LaRue Public Library":MAILTO:info@laruelibrary.org
END:VEVENT
BEGIN:VEVENT
DTSTART;TZID=America/Kentucky/Louisville:20240610T100000
DTEND;TZID=America/Kentucky/Louisville:20240610T100000
DTSTAMP:20260421T095806
CREATED:20240514T215525Z
LAST-MODIFIED:20240514T215525Z
UID:10001294-1718013600-1718013600@www.laruelibrary.org
SUMMARY:Stretch and Shine
DESCRIPTION:Join us for Stretch and Shine and start your day off right! Free low-impact exercise class. Let’s get those muscles moving! \nThis program is designed for adults.
URL:https://www.laruelibrary.org/event/stretch-and-shine-32/2024-06-10/
LOCATION:LaRue County Public Library\, 215 Lincoln Drive\, Hodgenville\, KY\, 42748\, United States
CATEGORIES:Adult,Adult Events
END:VEVENT
BEGIN:VEVENT
DTSTART;TZID=America/Kentucky/Louisville:20240610T150000
DTEND;TZID=America/Kentucky/Louisville:20240610T150000
DTSTAMP:20260421T095806
CREATED:20240514T223044Z
LAST-MODIFIED:20240514T223044Z
UID:10001301-1718031600-1718031600@www.laruelibrary.org
SUMMARY:Play-Doh Party
DESCRIPTION:You’ll have doh-much fun at our Play-Doh Party on Monday\, June 10th at 3 PM. This is a fun time for children pre-k through elementary school!
URL:https://www.laruelibrary.org/event/play-doh-party/
LOCATION:LaRue County Public Library\, 215 Lincoln Drive\, Hodgenville\, KY\, 42748\, United States
CATEGORIES:Age Under 5 Years Old,Grade School
ATTACH;FMTTYPE=image/jpeg:https://www.laruelibrary.org/wp-content/uploads/2024/05/Play-Doh.jpg
END:VEVENT
BEGIN:VEVENT
DTSTART;TZID=America/Kentucky/Louisville:20240611T110000
DTEND;TZID=America/Kentucky/Louisville:20240611T110000
DTSTAMP:20260421T095806
CREATED:20240514T223227Z
LAST-MODIFIED:20240514T223227Z
UID:10001302-1718103600-1718103600@www.laruelibrary.org
SUMMARY:Story Time
DESCRIPTION:Come enjoy a special Story Time with Ms. Taylor on Tuesday\, June 11th at 11:00 AM. \nStory Time for children under the age of 5 is a great way to grow a reader! Story Time makes learning fun and introduces children to books\, reading and language with stories\, songs and activities. Hope you can join us!
URL:https://www.laruelibrary.org/event/story-time-89/
LOCATION:LaRue County Public Library\, 215 Lincoln Drive\, Hodgenville\, KY\, 42748\, United States
CATEGORIES:Age Under 5 Years Old
END:VEVENT
BEGIN:VEVENT
DTSTART;TZID=America/Kentucky/Louisville:20240611T170000
DTEND;TZID=America/Kentucky/Louisville:20240611T170000
DTSTAMP:20260421T095806
CREATED:20240514T223603Z
LAST-MODIFIED:20240514T224117Z
UID:10001303-1718125200-1718125200@www.laruelibrary.org
SUMMARY:A World of Inclusion (Movie Showing)
DESCRIPTION:Join us on Tuesday\, June 11th at 5 PM for a showing of the movie A World of Inclusion. Everyone is welcome to attend!
URL:https://www.laruelibrary.org/event/6371/
LOCATION:LaRue County Public Library\, 215 Lincoln Drive\, Hodgenville\, KY\, 42748\, United States
CATEGORIES:Everyone
ATTACH;FMTTYPE=image/jpeg:https://www.laruelibrary.org/wp-content/uploads/2024/05/A-World-for-Inclusion.jpg
END:VEVENT
BEGIN:VEVENT
DTSTART;TZID=America/Kentucky/Louisville:20240612T100000
DTEND;TZID=America/Kentucky/Louisville:20240612T100000
DTSTAMP:20260421T095806
CREATED:20240514T225052Z
LAST-MODIFIED:20240611T143229Z
UID:10001304-1718186400-1718186400@www.laruelibrary.org
SUMMARY:Melissa Newton Art Class
DESCRIPTION:Paint your own pottery with Melissa Newton on Wednesday\, June 12th at 10 AM. We will be painting plates to be fired in the kiln! \nThis is available for children elementary school through teens. 8 spots are available. To register\, call the library at 270-358-3851.
URL:https://www.laruelibrary.org/event/6376/
LOCATION:LaRue County Public Library\, 215 Lincoln Drive\, Hodgenville\, KY\, 42748\, United States
CATEGORIES:Grade School,Middle School
ATTACH;FMTTYPE=image/jpeg:https://www.laruelibrary.org/wp-content/uploads/2024/05/pottery.jpg
END:VEVENT
BEGIN:VEVENT
DTSTART;TZID=America/Kentucky/Louisville:20240613T163000
DTEND;TZID=America/Kentucky/Louisville:20240613T163000
DTSTAMP:20260421T095806
CREATED:20240611T142436Z
LAST-MODIFIED:20240611T142436Z
UID:10001329-1718296200-1718296200@www.laruelibrary.org
SUMMARY:LaRue County Public Library Board Special Meeting
DESCRIPTION:A Special Meeting of the LaRue County Public Library Board will be held on Thursday\, June 13th at 4:30 p.m.
URL:https://www.laruelibrary.org/event/larue-county-public-library-board-special-meeting-2/
LOCATION:LaRue County Public Library\, 215 Lincoln Drive\, Hodgenville\, KY\, 42748\, United States
CATEGORIES:Adult,Adult Events
ATTACH;FMTTYPE=image/jpeg:https://www.laruelibrary.org/wp-content/uploads/2023/03/book-g69462ac06_1920.jpg
ORGANIZER;CN="LaRue Public Library":MAILTO:info@laruelibrary.org
END:VEVENT
BEGIN:VEVENT
DTSTART;TZID=America/Kentucky/Louisville:20240613T170000
DTEND;TZID=America/Kentucky/Louisville:20240613T170000
DTSTAMP:20260421T095806
CREATED:20240518T133621Z
LAST-MODIFIED:20240518T133621Z
UID:10001305-1718298000-1718298000@www.laruelibrary.org
SUMMARY:Imagine a World of Inclusion!
DESCRIPTION:Learn more about inclusion and disabilities from students in the classes of Mrs. Jennifer Hammons\, Mrs. Kelsey Cote\, and Mrs. Heather Bewley! Students have made posters and presentations to share more about their disabilities\, assistive technology they use\, and how YOU can be more inclusive of people with disabilities! \nCome support these awesome individuals and imagine a world of inclusion! See you on Thursday\, June 13th at 5 PM! Everyone is welcome!
URL:https://www.laruelibrary.org/event/imagine-a-world-of-inclusion/
LOCATION:LaRue County Public Library\, 215 Lincoln Drive\, Hodgenville\, KY\, 42748\, United States
CATEGORIES:Everyone
ATTACH;FMTTYPE=image/jpeg:https://www.laruelibrary.org/wp-content/uploads/2024/05/inclusion.jpg
END:VEVENT
BEGIN:VEVENT
DTSTART;TZID=America/Kentucky/Louisville:20240614T153000
DTEND;TZID=America/Kentucky/Louisville:20240614T153000
DTSTAMP:20260421T095806
CREATED:20240518T134049Z
LAST-MODIFIED:20240518T134049Z
UID:10001306-1718379000-1718379000@www.laruelibrary.org
SUMMARY:Kentucky Humanities Presentation: What's Fright Got to Do with It?
DESCRIPTION:Come explore our fascination with horror films. This presentation will look at classic and contemporary horror films (appropriate for ages 16+). This will also offer a quick overview of film techniques\, as well as an explanation for our attraction to the genre from film’s early days to the present day. \nJoin us on Friday\, June 14th at 3:30 PM.
URL:https://www.laruelibrary.org/event/kentucky-humanities-presentation-whats-fright-got-to-do-with-it/
LOCATION:LaRue County Public Library\, 215 Lincoln Drive\, Hodgenville\, KY\, 42748\, United States
CATEGORIES:Everyone
ATTACH;FMTTYPE=image/jpeg:https://www.laruelibrary.org/wp-content/uploads/2024/05/istockphoto-1142014130-612x612-1.jpg
END:VEVENT
BEGIN:VEVENT
DTSTART;TZID=America/Kentucky/Louisville:20240615T080000
DTEND;TZID=America/Kentucky/Louisville:20240615T170000
DTSTAMP:20260421T095806
CREATED:20240615T150526Z
LAST-MODIFIED:20240615T151059Z
UID:10001336-1718438400-1718470800@www.laruelibrary.org
SUMMARY:Teen Book Club - Vibe Coffee
DESCRIPTION:Join us for the first teen book club at Vibe Coffee on the square! We’ll get our copy of the book and start talking about how we want to continue the book club during the school year! Join us on Tuesday\, July 2nd at 4 PM.
URL:https://www.laruelibrary.org/event/teen-book-club-vibe-coffee/
LOCATION:KY
CATEGORIES:High School,Middle School
END:VEVENT
BEGIN:VEVENT
DTSTART;VALUE=DATE:20240617
DTEND;VALUE=DATE:20240618
DTSTAMP:20260421T095806
CREATED:20240418T203741Z
LAST-MODIFIED:20240503T150234Z
UID:10001232-1718582400-1718668799@www.laruelibrary.org
SUMMARY:Play2Go
DESCRIPTION:Play2Go Exhibit is now open! Everyone is welcome! \nCome play and explore with us at ‘Science in Play2Go’ during open/operating hours here at LCPL! \n‘Kentucky Science Center’ developed ‘Science in Play2Go’ as a learning experience that makes science personal\, fun\, participatory\, and relevant.
URL:https://www.laruelibrary.org/event/play2go-3/2024-06-17/
LOCATION:LaRue County Public Library\, 215 Lincoln Drive\, Hodgenville\, KY\, 42748\, United States
CATEGORIES:Adult Events,Everyone,Youth Events
ORGANIZER;CN="LaRue Public Library":MAILTO:info@laruelibrary.org
END:VEVENT
BEGIN:VEVENT
DTSTART;TZID=America/Kentucky/Louisville:20240617T100000
DTEND;TZID=America/Kentucky/Louisville:20240617T100000
DTSTAMP:20260421T095806
CREATED:20240521T170004Z
LAST-MODIFIED:20240521T170004Z
UID:10001309-1718618400-1718618400@www.laruelibrary.org
SUMMARY:Stretch and Shine
DESCRIPTION:Join us for Stretch and Shine and start your day off right! Free low-impact exercise class beginning at 10:00am. Let’s get those muscles moving! This program is designed for adults.
URL:https://www.laruelibrary.org/event/stretch-and-shine-33/
LOCATION:LaRue County Public Library\, 215 Lincoln Drive\, Hodgenville\, KY\, 42748\, United States
CATEGORIES:Adult,Adult Events
ATTACH;FMTTYPE=image/png:https://www.laruelibrary.org/wp-content/uploads/2023/03/Stretch-Adult-Event-1.png
ORGANIZER;CN="LaRue Public Library":MAILTO:info@laruelibrary.org
END:VEVENT
BEGIN:VEVENT
DTSTART;TZID=America/Kentucky/Louisville:20240617T143000
DTEND;TZID=America/Kentucky/Louisville:20240617T143000
DTSTAMP:20260421T095806
CREATED:20240521T170402Z
LAST-MODIFIED:20240521T170402Z
UID:10001311-1718634600-1718634600@www.laruelibrary.org
SUMMARY:Family Movie!
DESCRIPTION:Join us on Monday\, June 17th @ 2:45pm for a snacks and a fun family movie! \nEveryone welcome! No registration needed.
URL:https://www.laruelibrary.org/event/family-movie-2/
LOCATION:LaRue County Public Library\, 215 Lincoln Drive\, Hodgenville\, KY\, 42748\, United States
CATEGORIES:Family,Youth Events
ORGANIZER;CN="LaRue Public Library":MAILTO:info@laruelibrary.org
END:VEVENT
BEGIN:VEVENT
DTSTART;TZID=America/Kentucky/Louisville:20240618T110000
DTEND;TZID=America/Kentucky/Louisville:20240618T110000
DTSTAMP:20260421T095806
CREATED:20240521T171207Z
LAST-MODIFIED:20240521T171207Z
UID:10001313-1718708400-1718708400@www.laruelibrary.org
SUMMARY:Story Time
DESCRIPTION:Join us for a fun and fantastic story on Tuesday\, June 18th at 11:00 AM! \nStory time is for children under the ages of 5. \nThis is a great opportunity to grow young readers. We make learning fun by introducing children to books\, love of reading\, and songs! We can’t wait to see you!
URL:https://www.laruelibrary.org/event/story-time-90/
LOCATION:LaRue County Public Library\, 215 Lincoln Drive\, Hodgenville\, KY\, 42748\, United States
CATEGORIES:Age Under 5 Years Old,Youth Events
ATTACH;FMTTYPE=image/png:https://www.laruelibrary.org/wp-content/uploads/2023/10/NST.0-1.png
ORGANIZER;CN="LaRue Public Library":MAILTO:info@laruelibrary.org
END:VEVENT
BEGIN:VEVENT
DTSTART;TZID=America/Kentucky/Louisville:20240618T130000
DTEND;TZID=America/Kentucky/Louisville:20240618T130000
DTSTAMP:20260421T095806
CREATED:20240521T171632Z
LAST-MODIFIED:20240618T165222Z
UID:10001315-1718715600-1718715600@www.laruelibrary.org
SUMMARY:Cancelled: Outdoor Family Yoga
DESCRIPTION:This event has been cancelled due to extreme temperatures. \nBring your own mat or blanket on Tuesday\, June 18th at 1:00pm for our out in the sun and breeze Outdoor Family Yoga!
URL:https://www.laruelibrary.org/event/outdoor-family-yoga/
LOCATION:LaRue County Public Library\, 215 Lincoln Drive\, Hodgenville\, KY\, 42748\, United States
CATEGORIES:Family,Youth Events
ATTACH;FMTTYPE=image/png:https://www.laruelibrary.org/wp-content/uploads/2024/05/Outdoor.png
ORGANIZER;CN="LaRue Public Library":MAILTO:info@laruelibrary.org
END:VEVENT
END:VCALENDAR