BEGIN:VCALENDAR
VERSION:2.0
PRODID:-//LaRue County Public Library - ECPv6.15.20//NONSGML v1.0//EN
CALSCALE:GREGORIAN
METHOD:PUBLISH
X-WR-CALNAME:LaRue County Public Library
X-ORIGINAL-URL:https://www.laruelibrary.org
X-WR-CALDESC:Events for LaRue County Public Library
REFRESH-INTERVAL;VALUE=DURATION:PT1H
X-Robots-Tag:noindex
X-PUBLISHED-TTL:PT1H
BEGIN:VTIMEZONE
TZID:America/Kentucky/Louisville
BEGIN:DAYLIGHT
TZOFFSETFROM:-0500
TZOFFSETTO:-0400
TZNAME:EDT
DTSTART:20230312T070000
END:DAYLIGHT
BEGIN:STANDARD
TZOFFSETFROM:-0400
TZOFFSETTO:-0500
TZNAME:EST
DTSTART:20231105T060000
END:STANDARD
BEGIN:DAYLIGHT
TZOFFSETFROM:-0500
TZOFFSETTO:-0400
TZNAME:EDT
DTSTART:20240310T070000
END:DAYLIGHT
BEGIN:STANDARD
TZOFFSETFROM:-0400
TZOFFSETTO:-0500
TZNAME:EST
DTSTART:20241103T060000
END:STANDARD
BEGIN:DAYLIGHT
TZOFFSETFROM:-0500
TZOFFSETTO:-0400
TZNAME:EDT
DTSTART:20250309T070000
END:DAYLIGHT
BEGIN:STANDARD
TZOFFSETFROM:-0400
TZOFFSETTO:-0500
TZNAME:EST
DTSTART:20251102T060000
END:STANDARD
END:VTIMEZONE
BEGIN:VEVENT
DTSTART;TZID=America/Kentucky/Louisville:20240610T100000
DTEND;TZID=America/Kentucky/Louisville:20240610T100000
DTSTAMP:20260422T183518
CREATED:20240514T215525Z
LAST-MODIFIED:20240514T215525Z
UID:10001294-1718013600-1718013600@www.laruelibrary.org
SUMMARY:Stretch and Shine
DESCRIPTION:Join us for Stretch and Shine and start your day off right! Free low-impact exercise class. Let’s get those muscles moving! \nThis program is designed for adults.
URL:https://www.laruelibrary.org/event/stretch-and-shine-32/2024-06-10/
LOCATION:LaRue County Public Library\, 215 Lincoln Drive\, Hodgenville\, KY\, 42748\, United States
CATEGORIES:Adult,Adult Events
END:VEVENT
BEGIN:VEVENT
DTSTART;TZID=America/Kentucky/Louisville:20240610T150000
DTEND;TZID=America/Kentucky/Louisville:20240610T150000
DTSTAMP:20260422T183518
CREATED:20240514T223044Z
LAST-MODIFIED:20240514T223044Z
UID:10001301-1718031600-1718031600@www.laruelibrary.org
SUMMARY:Play-Doh Party
DESCRIPTION:You’ll have doh-much fun at our Play-Doh Party on Monday\, June 10th at 3 PM. This is a fun time for children pre-k through elementary school!
URL:https://www.laruelibrary.org/event/play-doh-party/
LOCATION:LaRue County Public Library\, 215 Lincoln Drive\, Hodgenville\, KY\, 42748\, United States
CATEGORIES:Age Under 5 Years Old,Grade School
ATTACH;FMTTYPE=image/jpeg:https://www.laruelibrary.org/wp-content/uploads/2024/05/Play-Doh.jpg
END:VEVENT
BEGIN:VEVENT
DTSTART;TZID=America/Kentucky/Louisville:20240611T110000
DTEND;TZID=America/Kentucky/Louisville:20240611T110000
DTSTAMP:20260422T183518
CREATED:20240514T223227Z
LAST-MODIFIED:20240514T223227Z
UID:10001302-1718103600-1718103600@www.laruelibrary.org
SUMMARY:Story Time
DESCRIPTION:Come enjoy a special Story Time with Ms. Taylor on Tuesday\, June 11th at 11:00 AM. \nStory Time for children under the age of 5 is a great way to grow a reader! Story Time makes learning fun and introduces children to books\, reading and language with stories\, songs and activities. Hope you can join us!
URL:https://www.laruelibrary.org/event/story-time-89/
LOCATION:LaRue County Public Library\, 215 Lincoln Drive\, Hodgenville\, KY\, 42748\, United States
CATEGORIES:Age Under 5 Years Old
END:VEVENT
BEGIN:VEVENT
DTSTART;TZID=America/Kentucky/Louisville:20240611T170000
DTEND;TZID=America/Kentucky/Louisville:20240611T170000
DTSTAMP:20260422T183518
CREATED:20240514T223603Z
LAST-MODIFIED:20240514T224117Z
UID:10001303-1718125200-1718125200@www.laruelibrary.org
SUMMARY:A World of Inclusion (Movie Showing)
DESCRIPTION:Join us on Tuesday\, June 11th at 5 PM for a showing of the movie A World of Inclusion. Everyone is welcome to attend!
URL:https://www.laruelibrary.org/event/6371/
LOCATION:LaRue County Public Library\, 215 Lincoln Drive\, Hodgenville\, KY\, 42748\, United States
CATEGORIES:Everyone
ATTACH;FMTTYPE=image/jpeg:https://www.laruelibrary.org/wp-content/uploads/2024/05/A-World-for-Inclusion.jpg
END:VEVENT
BEGIN:VEVENT
DTSTART;TZID=America/Kentucky/Louisville:20240612T100000
DTEND;TZID=America/Kentucky/Louisville:20240612T100000
DTSTAMP:20260422T183518
CREATED:20240514T225052Z
LAST-MODIFIED:20240611T143229Z
UID:10001304-1718186400-1718186400@www.laruelibrary.org
SUMMARY:Melissa Newton Art Class
DESCRIPTION:Paint your own pottery with Melissa Newton on Wednesday\, June 12th at 10 AM. We will be painting plates to be fired in the kiln! \nThis is available for children elementary school through teens. 8 spots are available. To register\, call the library at 270-358-3851.
URL:https://www.laruelibrary.org/event/6376/
LOCATION:LaRue County Public Library\, 215 Lincoln Drive\, Hodgenville\, KY\, 42748\, United States
CATEGORIES:Grade School,Middle School
ATTACH;FMTTYPE=image/jpeg:https://www.laruelibrary.org/wp-content/uploads/2024/05/pottery.jpg
END:VEVENT
BEGIN:VEVENT
DTSTART;TZID=America/Kentucky/Louisville:20240613T163000
DTEND;TZID=America/Kentucky/Louisville:20240613T163000
DTSTAMP:20260422T183518
CREATED:20240611T142436Z
LAST-MODIFIED:20240611T142436Z
UID:10001329-1718296200-1718296200@www.laruelibrary.org
SUMMARY:LaRue County Public Library Board Special Meeting
DESCRIPTION:A Special Meeting of the LaRue County Public Library Board will be held on Thursday\, June 13th at 4:30 p.m.
URL:https://www.laruelibrary.org/event/larue-county-public-library-board-special-meeting-2/
LOCATION:LaRue County Public Library\, 215 Lincoln Drive\, Hodgenville\, KY\, 42748\, United States
CATEGORIES:Adult,Adult Events
ATTACH;FMTTYPE=image/jpeg:https://www.laruelibrary.org/wp-content/uploads/2023/03/book-g69462ac06_1920.jpg
ORGANIZER;CN="LaRue Public Library":MAILTO:info@laruelibrary.org
END:VEVENT
BEGIN:VEVENT
DTSTART;TZID=America/Kentucky/Louisville:20240613T170000
DTEND;TZID=America/Kentucky/Louisville:20240613T170000
DTSTAMP:20260422T183518
CREATED:20240518T133621Z
LAST-MODIFIED:20240518T133621Z
UID:10001305-1718298000-1718298000@www.laruelibrary.org
SUMMARY:Imagine a World of Inclusion!
DESCRIPTION:Learn more about inclusion and disabilities from students in the classes of Mrs. Jennifer Hammons\, Mrs. Kelsey Cote\, and Mrs. Heather Bewley! Students have made posters and presentations to share more about their disabilities\, assistive technology they use\, and how YOU can be more inclusive of people with disabilities! \nCome support these awesome individuals and imagine a world of inclusion! See you on Thursday\, June 13th at 5 PM! Everyone is welcome!
URL:https://www.laruelibrary.org/event/imagine-a-world-of-inclusion/
LOCATION:LaRue County Public Library\, 215 Lincoln Drive\, Hodgenville\, KY\, 42748\, United States
CATEGORIES:Everyone
ATTACH;FMTTYPE=image/jpeg:https://www.laruelibrary.org/wp-content/uploads/2024/05/inclusion.jpg
END:VEVENT
BEGIN:VEVENT
DTSTART;TZID=America/Kentucky/Louisville:20240614T153000
DTEND;TZID=America/Kentucky/Louisville:20240614T153000
DTSTAMP:20260422T183518
CREATED:20240518T134049Z
LAST-MODIFIED:20240518T134049Z
UID:10001306-1718379000-1718379000@www.laruelibrary.org
SUMMARY:Kentucky Humanities Presentation: What's Fright Got to Do with It?
DESCRIPTION:Come explore our fascination with horror films. This presentation will look at classic and contemporary horror films (appropriate for ages 16+). This will also offer a quick overview of film techniques\, as well as an explanation for our attraction to the genre from film’s early days to the present day. \nJoin us on Friday\, June 14th at 3:30 PM.
URL:https://www.laruelibrary.org/event/kentucky-humanities-presentation-whats-fright-got-to-do-with-it/
LOCATION:LaRue County Public Library\, 215 Lincoln Drive\, Hodgenville\, KY\, 42748\, United States
CATEGORIES:Everyone
ATTACH;FMTTYPE=image/jpeg:https://www.laruelibrary.org/wp-content/uploads/2024/05/istockphoto-1142014130-612x612-1.jpg
END:VEVENT
BEGIN:VEVENT
DTSTART;TZID=America/Kentucky/Louisville:20240615T080000
DTEND;TZID=America/Kentucky/Louisville:20240615T170000
DTSTAMP:20260422T183518
CREATED:20240615T150526Z
LAST-MODIFIED:20240615T151059Z
UID:10001336-1718438400-1718470800@www.laruelibrary.org
SUMMARY:Teen Book Club - Vibe Coffee
DESCRIPTION:Join us for the first teen book club at Vibe Coffee on the square! We’ll get our copy of the book and start talking about how we want to continue the book club during the school year! Join us on Tuesday\, July 2nd at 4 PM.
URL:https://www.laruelibrary.org/event/teen-book-club-vibe-coffee/
LOCATION:KY
CATEGORIES:High School,Middle School
END:VEVENT
BEGIN:VEVENT
DTSTART;VALUE=DATE:20240617
DTEND;VALUE=DATE:20240618
DTSTAMP:20260422T183518
CREATED:20240418T203741Z
LAST-MODIFIED:20240503T150234Z
UID:10001232-1718582400-1718668799@www.laruelibrary.org
SUMMARY:Play2Go
DESCRIPTION:Play2Go Exhibit is now open! Everyone is welcome! \nCome play and explore with us at ‘Science in Play2Go’ during open/operating hours here at LCPL! \n‘Kentucky Science Center’ developed ‘Science in Play2Go’ as a learning experience that makes science personal\, fun\, participatory\, and relevant.
URL:https://www.laruelibrary.org/event/play2go-3/2024-06-17/
LOCATION:LaRue County Public Library\, 215 Lincoln Drive\, Hodgenville\, KY\, 42748\, United States
CATEGORIES:Adult Events,Everyone,Youth Events
ORGANIZER;CN="LaRue Public Library":MAILTO:info@laruelibrary.org
END:VEVENT
BEGIN:VEVENT
DTSTART;TZID=America/Kentucky/Louisville:20240617T100000
DTEND;TZID=America/Kentucky/Louisville:20240617T100000
DTSTAMP:20260422T183518
CREATED:20240521T170004Z
LAST-MODIFIED:20240521T170004Z
UID:10001309-1718618400-1718618400@www.laruelibrary.org
SUMMARY:Stretch and Shine
DESCRIPTION:Join us for Stretch and Shine and start your day off right! Free low-impact exercise class beginning at 10:00am. Let’s get those muscles moving! This program is designed for adults.
URL:https://www.laruelibrary.org/event/stretch-and-shine-33/
LOCATION:LaRue County Public Library\, 215 Lincoln Drive\, Hodgenville\, KY\, 42748\, United States
CATEGORIES:Adult,Adult Events
ATTACH;FMTTYPE=image/png:https://www.laruelibrary.org/wp-content/uploads/2023/03/Stretch-Adult-Event-1.png
ORGANIZER;CN="LaRue Public Library":MAILTO:info@laruelibrary.org
END:VEVENT
BEGIN:VEVENT
DTSTART;TZID=America/Kentucky/Louisville:20240617T143000
DTEND;TZID=America/Kentucky/Louisville:20240617T143000
DTSTAMP:20260422T183518
CREATED:20240521T170402Z
LAST-MODIFIED:20240521T170402Z
UID:10001311-1718634600-1718634600@www.laruelibrary.org
SUMMARY:Family Movie!
DESCRIPTION:Join us on Monday\, June 17th @ 2:45pm for a snacks and a fun family movie! \nEveryone welcome! No registration needed.
URL:https://www.laruelibrary.org/event/family-movie-2/
LOCATION:LaRue County Public Library\, 215 Lincoln Drive\, Hodgenville\, KY\, 42748\, United States
CATEGORIES:Family,Youth Events
ORGANIZER;CN="LaRue Public Library":MAILTO:info@laruelibrary.org
END:VEVENT
BEGIN:VEVENT
DTSTART;TZID=America/Kentucky/Louisville:20240618T110000
DTEND;TZID=America/Kentucky/Louisville:20240618T110000
DTSTAMP:20260422T183518
CREATED:20240521T171207Z
LAST-MODIFIED:20240521T171207Z
UID:10001313-1718708400-1718708400@www.laruelibrary.org
SUMMARY:Story Time
DESCRIPTION:Join us for a fun and fantastic story on Tuesday\, June 18th at 11:00 AM! \nStory time is for children under the ages of 5. \nThis is a great opportunity to grow young readers. We make learning fun by introducing children to books\, love of reading\, and songs! We can’t wait to see you!
URL:https://www.laruelibrary.org/event/story-time-90/
LOCATION:LaRue County Public Library\, 215 Lincoln Drive\, Hodgenville\, KY\, 42748\, United States
CATEGORIES:Age Under 5 Years Old,Youth Events
ATTACH;FMTTYPE=image/png:https://www.laruelibrary.org/wp-content/uploads/2023/10/NST.0-1.png
ORGANIZER;CN="LaRue Public Library":MAILTO:info@laruelibrary.org
END:VEVENT
BEGIN:VEVENT
DTSTART;TZID=America/Kentucky/Louisville:20240618T130000
DTEND;TZID=America/Kentucky/Louisville:20240618T130000
DTSTAMP:20260422T183518
CREATED:20240521T171632Z
LAST-MODIFIED:20240618T165222Z
UID:10001315-1718715600-1718715600@www.laruelibrary.org
SUMMARY:Cancelled: Outdoor Family Yoga
DESCRIPTION:This event has been cancelled due to extreme temperatures. \nBring your own mat or blanket on Tuesday\, June 18th at 1:00pm for our out in the sun and breeze Outdoor Family Yoga!
URL:https://www.laruelibrary.org/event/outdoor-family-yoga/
LOCATION:LaRue County Public Library\, 215 Lincoln Drive\, Hodgenville\, KY\, 42748\, United States
CATEGORIES:Family,Youth Events
ATTACH;FMTTYPE=image/png:https://www.laruelibrary.org/wp-content/uploads/2024/05/Outdoor.png
ORGANIZER;CN="LaRue Public Library":MAILTO:info@laruelibrary.org
END:VEVENT
BEGIN:VEVENT
DTSTART;TZID=America/Kentucky/Louisville:20240618T140000
DTEND;TZID=America/Kentucky/Louisville:20240618T180000
DTSTAMP:20260422T183518
CREATED:20240521T174433Z
LAST-MODIFIED:20240521T174433Z
UID:10001323-1718719200-1718733600@www.laruelibrary.org
SUMMARY:Community Service Fair
DESCRIPTION:Come and see what our local organizations have to offer on Tuesday\, June 18th from 2:00pm-6:00pm! \nThere’s something for everyone!
URL:https://www.laruelibrary.org/event/community-service-fair/
LOCATION:LaRue County Public Library\, 215 Lincoln Drive\, Hodgenville\, KY\, 42748\, United States
CATEGORIES:Adult,Adult Events,Everyone,Family,Youth Events
ATTACH;FMTTYPE=image/png:https://www.laruelibrary.org/wp-content/uploads/2024/05/CommServFair.png
ORGANIZER;CN="LaRue Public Library":MAILTO:info@laruelibrary.org
END:VEVENT
BEGIN:VEVENT
DTSTART;VALUE=DATE:20240619
DTEND;VALUE=DATE:20240620
DTSTAMP:20260422T183518
CREATED:20240521T173001Z
LAST-MODIFIED:20240521T173207Z
UID:10001318-1718755200-1718841599@www.laruelibrary.org
SUMMARY:We Are Closed
DESCRIPTION:LCPL is closed today for Juneteenth celebrations. We will open again at 9:00am on Thursday\, June 20th.
URL:https://www.laruelibrary.org/event/we-are-closed-4/
LOCATION:LaRue County Public Library\, 215 Lincoln Drive\, Hodgenville\, KY\, 42748\, United States
CATEGORIES:Adult,Adult Events,Everyone,Family,Youth Events
ATTACH;FMTTYPE=image/png:https://www.laruelibrary.org/wp-content/uploads/2024/05/Juneteenth.png
ORGANIZER;CN="LaRue Public Library":MAILTO:info@laruelibrary.org
END:VEVENT
BEGIN:VEVENT
DTSTART;TZID=America/Kentucky/Louisville:20240620T110000
DTEND;TZID=America/Kentucky/Louisville:20240620T110000
DTSTAMP:20260422T183518
CREATED:20240521T172147Z
LAST-MODIFIED:20240521T172147Z
UID:10001316-1718881200-1718881200@www.laruelibrary.org
SUMMARY:Homeschool Program: The First Day of Summer
DESCRIPTION:Join us on Thursday\, June 20th @ 11:00am at the Lincoln Farm picnic area to celebrate the first day of summer! \nFeel free to bring a blanket to sit on and a packed lunch!
URL:https://www.laruelibrary.org/event/homeschool-program-the-first-day-of-summer/
LOCATION:LaRue County Public Library\, 215 Lincoln Drive\, Hodgenville\, KY\, 42748\, United States
CATEGORIES:Family,Youth Events
ATTACH;FMTTYPE=image/png:https://www.laruelibrary.org/wp-content/uploads/2024/05/FDOS.png
ORGANIZER;CN="LaRue Public Library":MAILTO:info@laruelibrary.org
END:VEVENT
BEGIN:VEVENT
DTSTART;TZID=America/Kentucky/Louisville:20240620T153000
DTEND;TZID=America/Kentucky/Louisville:20240620T153000
DTSTAMP:20260422T183518
CREATED:20240521T173422Z
LAST-MODIFIED:20240521T173422Z
UID:10001320-1718897400-1718897400@www.laruelibrary.org
SUMMARY:Book Club
DESCRIPTION:Come join us on Thursday\, June 20th at 3:30pm for Book Club! This is an Adult program.
URL:https://www.laruelibrary.org/event/book-club-14/
LOCATION:LaRue County Public Library\, 215 Lincoln Drive\, Hodgenville\, KY\, 42748\, United States
CATEGORIES:Adult,Adult Events
ATTACH;FMTTYPE=image/jpeg:https://www.laruelibrary.org/wp-content/uploads/2023/07/bc2.jpg
ORGANIZER;CN="LaRue Public Library":MAILTO:info@laruelibrary.org
END:VEVENT
BEGIN:VEVENT
DTSTART;TZID=America/Kentucky/Louisville:20240620T163000
DTEND;TZID=America/Kentucky/Louisville:20240620T163000
DTSTAMP:20260422T183518
CREATED:20240521T173612Z
LAST-MODIFIED:20240521T173612Z
UID:10001321-1718901000-1718901000@www.laruelibrary.org
SUMMARY:Board Meeting
DESCRIPTION:LCPL Board Meeting. Thursday\, June 20th at 4:30 pm.
URL:https://www.laruelibrary.org/event/board-meeting-12/
LOCATION:LaRue County Public Library\, 215 Lincoln Drive\, Hodgenville\, KY\, 42748\, United States
CATEGORIES:Adult,Adult Events
ATTACH;FMTTYPE=image/jpeg:https://www.laruelibrary.org/wp-content/uploads/2023/07/brm2.jpg
ORGANIZER;CN="LaRue Public Library":MAILTO:info@laruelibrary.org
END:VEVENT
BEGIN:VEVENT
DTSTART;TZID=America/Kentucky/Louisville:20240620T170000
DTEND;TZID=America/Kentucky/Louisville:20240620T170000
DTSTAMP:20260422T183518
CREATED:20240521T190308Z
LAST-MODIFIED:20240521T190308Z
UID:10001325-1718902800-1718902800@www.laruelibrary.org
SUMMARY:Local Author Talk
DESCRIPTION:Join us on Thursday\, June 20th at 5:00pm as Donna Duncan Coffey shares with us her book\, ‘Finding Joy in the Journey: A Bible Study for Widows’\, and journey. \nEveryone is welcome!
URL:https://www.laruelibrary.org/event/local-author-talk/
LOCATION:LaRue County Public Library\, 215 Lincoln Drive\, Hodgenville\, KY\, 42748\, United States
CATEGORIES:Adult,Adult Events,Everyone,Family,Youth Events
ORGANIZER;CN="LaRue Public Library":MAILTO:info@laruelibrary.org
END:VEVENT
BEGIN:VEVENT
DTSTART;TZID=America/Kentucky/Louisville:20240621T153000
DTEND;TZID=America/Kentucky/Louisville:20240621T153000
DTSTAMP:20260422T183518
CREATED:20240521T190949Z
LAST-MODIFIED:20240521T190949Z
UID:10001327-1718983800-1718983800@www.laruelibrary.org
SUMMARY:Dairy Month Trivia
DESCRIPTION:Join us for dairy trivia on Friday\, June 21st at 3:30pm! 1st\, 2nd\, and 3rd place prizes for the winners! Prairie Farms chocolate milk for the first 30 people! \nCall to sign up.
URL:https://www.laruelibrary.org/event/dairy-month-trivia/
LOCATION:LaRue County Public Library\, 215 Lincoln Drive\, Hodgenville\, KY\, 42748\, United States
CATEGORIES:Adult,Adult Events,Everyone,Family,Youth Events
ORGANIZER;CN="LaRue Public Library":MAILTO:info@laruelibrary.org
END:VEVENT
BEGIN:VEVENT
DTSTART;VALUE=DATE:20240624
DTEND;VALUE=DATE:20240625
DTSTAMP:20260422T183518
CREATED:20240418T203741Z
LAST-MODIFIED:20240503T150234Z
UID:10001233-1719187200-1719273599@www.laruelibrary.org
SUMMARY:Play2Go
DESCRIPTION:Play2Go Exhibit is now open! Everyone is welcome! \nCome play and explore with us at ‘Science in Play2Go’ during open/operating hours here at LCPL! \n‘Kentucky Science Center’ developed ‘Science in Play2Go’ as a learning experience that makes science personal\, fun\, participatory\, and relevant.
URL:https://www.laruelibrary.org/event/play2go-3/2024-06-24/
LOCATION:LaRue County Public Library\, 215 Lincoln Drive\, Hodgenville\, KY\, 42748\, United States
CATEGORIES:Adult Events,Everyone,Youth Events
ORGANIZER;CN="LaRue Public Library":MAILTO:info@laruelibrary.org
END:VEVENT
BEGIN:VEVENT
DTSTART;TZID=America/Kentucky/Louisville:20240624T100000
DTEND;TZID=America/Kentucky/Louisville:20240624T100000
DTSTAMP:20260422T183518
CREATED:20240521T170129Z
LAST-MODIFIED:20240521T170129Z
UID:10001310-1719223200-1719223200@www.laruelibrary.org
SUMMARY:Stretch and Shine
DESCRIPTION:Join us for Stretch and Shine and start your day off right! Free low-impact exercise class beginning at 10:00am. Let’s get those muscles moving! This program is designed for adults.
URL:https://www.laruelibrary.org/event/stretch-and-shine-34/
LOCATION:LaRue County Public Library\, 215 Lincoln Drive\, Hodgenville\, KY\, 42748\, United States
CATEGORIES:Adult,Adult Events
ATTACH;FMTTYPE=image/png:https://www.laruelibrary.org/wp-content/uploads/2023/03/Stretch-Adult-Event-1.png
ORGANIZER;CN="LaRue Public Library":MAILTO:info@laruelibrary.org
END:VEVENT
BEGIN:VEVENT
DTSTART;TZID=America/Kentucky/Louisville:20240624T150000
DTEND;TZID=America/Kentucky/Louisville:20240624T150000
DTSTAMP:20260422T183518
CREATED:20240521T170957Z
LAST-MODIFIED:20240521T170957Z
UID:10001312-1719241200-1719241200@www.laruelibrary.org
SUMMARY:Melissa Newton Art Class
DESCRIPTION:Melissa Newton will be walking us through how to make kumihimo weavings on Monday\, June 24th at 3:00pm! \nThis is a class for ages 2nd Grader through Teens. Class limit of 8. Call to register.
URL:https://www.laruelibrary.org/event/melissa-newton-art-class/
LOCATION:LaRue County Public Library\, 215 Lincoln Drive\, Hodgenville\, KY\, 42748\, United States
CATEGORIES:Grade School,High School,Middle School,Youth Events
ORGANIZER;CN="LaRue Public Library":MAILTO:info@laruelibrary.org
END:VEVENT
BEGIN:VEVENT
DTSTART;TZID=America/Kentucky/Louisville:20240625T110000
DTEND;TZID=America/Kentucky/Louisville:20240625T110000
DTSTAMP:20260422T183518
CREATED:20240521T171321Z
LAST-MODIFIED:20240521T171321Z
UID:10001314-1719313200-1719313200@www.laruelibrary.org
SUMMARY:Story Time
DESCRIPTION:Join us for a fun and fantastic story on Tuesday\, June 25th at 11:00 AM! \nStory time is for children under the ages of 5. \nThis is a great opportunity to grow young readers. We make learning fun by introducing children to books\, love of reading\, and songs! We can’t wait to see you!
URL:https://www.laruelibrary.org/event/story-time-91/
LOCATION:LaRue County Public Library\, 215 Lincoln Drive\, Hodgenville\, KY\, 42748\, United States
CATEGORIES:Age Under 5 Years Old,Youth Events
ATTACH;FMTTYPE=image/png:https://www.laruelibrary.org/wp-content/uploads/2023/10/NST.0-1.png
ORGANIZER;CN="LaRue Public Library":MAILTO:info@laruelibrary.org
END:VEVENT
BEGIN:VEVENT
DTSTART;TZID=America/Kentucky/Louisville:20240625T150000
DTEND;TZID=America/Kentucky/Louisville:20240625T150000
DTSTAMP:20260422T183518
CREATED:20240521T185935Z
LAST-MODIFIED:20240521T185935Z
UID:10001324-1719327600-1719327600@www.laruelibrary.org
SUMMARY:Cow Door Hanger Craft
DESCRIPTION:Join us on Tuesday\, June 25th at 3:00pm to make this cute Holstein door hanger! \nClass limit of 15. Teens and Adults. Call to sign up.
URL:https://www.laruelibrary.org/event/cow-door-hanger-craft/
LOCATION:LaRue County Public Library\, 215 Lincoln Drive\, Hodgenville\, KY\, 42748\, United States
CATEGORIES:Adult,Adult Events,High School,Youth Events
ORGANIZER;CN="LaRue Public Library":MAILTO:info@laruelibrary.org
END:VEVENT
BEGIN:VEVENT
DTSTART;VALUE=DATE:20240626
DTEND;VALUE=DATE:20240627
DTSTAMP:20260422T183518
CREATED:20240521T173136Z
LAST-MODIFIED:20240521T173136Z
UID:10001319-1719360000-1719446399@www.laruelibrary.org
SUMMARY:We Are Closed
DESCRIPTION:LCPL is closed today for staff training. We will open again at 9:00am on Thursday\, June 27th.
URL:https://www.laruelibrary.org/event/we-are-closed-5/
LOCATION:LaRue County Public Library\, 215 Lincoln Drive\, Hodgenville\, KY\, 42748\, United States
CATEGORIES:Adult,Adult Events,Everyone,Family,Youth Events
ATTACH;FMTTYPE=image/png:https://www.laruelibrary.org/wp-content/uploads/2024/05/Staff-Training.png
ORGANIZER;CN="LaRue Public Library":MAILTO:info@laruelibrary.org
END:VEVENT
BEGIN:VEVENT
DTSTART;TZID=America/Kentucky/Louisville:20240627T100000
DTEND;TZID=America/Kentucky/Louisville:20240627T100000
DTSTAMP:20260422T183518
CREATED:20240521T174045Z
LAST-MODIFIED:20240521T174045Z
UID:10001322-1719482400-1719482400@www.laruelibrary.org
SUMMARY:Coffee for Veterans
DESCRIPTION:Join us on Thursday\, June 27th @ 10:00am in the LCPL community room for a very special program (with spouses/partners being welcome). \nDaniel Odell\, veteran and motivational speaker\, and Fluffy\, his wonderful dog\, will be our special guests.
URL:https://www.laruelibrary.org/event/coffee-for-veterans-5/
LOCATION:LaRue County Public Library\, 215 Lincoln Drive\, Hodgenville\, KY\, 42748\, United States
CATEGORIES:Adult,Adult Events
ATTACH;FMTTYPE=image/png:https://www.laruelibrary.org/wp-content/uploads/2024/01/vetcoffee.png
ORGANIZER;CN="LaRue Public Library":MAILTO:info@laruelibrary.org
END:VEVENT
BEGIN:VEVENT
DTSTART;TZID=America/Kentucky/Louisville:20240627T150000
DTEND;TZID=America/Kentucky/Louisville:20240627T150000
DTSTAMP:20260422T183518
CREATED:20240521T172622Z
LAST-MODIFIED:20240521T172622Z
UID:10001317-1719500400-1719500400@www.laruelibrary.org
SUMMARY:Reusable Bag Craft
DESCRIPTION:Help reduce waste going into our landfills by giving fast fashion a new purpose on Thursday\, June 27th at 3:00pm! \nBring in your own t-shirt to turn into a reusable bag\, or use one of ours\, for our upcycled t-shirts for teens craft!
URL:https://www.laruelibrary.org/event/reusable-bag-craft/
LOCATION:LaRue County Public Library\, 215 Lincoln Drive\, Hodgenville\, KY\, 42748\, United States
CATEGORIES:High School,Youth Events
ORGANIZER;CN="LaRue Public Library":MAILTO:info@laruelibrary.org
END:VEVENT
BEGIN:VEVENT
DTSTART;TZID=America/Kentucky/Louisville:20240627T173000
DTEND;TZID=America/Kentucky/Louisville:20240627T173000
DTSTAMP:20260422T183518
CREATED:20240521T190631Z
LAST-MODIFIED:20240521T190631Z
UID:10001326-1719509400-1719509400@www.laruelibrary.org
SUMMARY:Exploring Greece on a Budget
DESCRIPTION:Lisa Benningfield and Ken Blair will be here on Thursday\, June 27th at 5:30pm to share about their recent trip to Greece. They will also be bringing some samples of traditional Greek food. \nEveryone is welcome!
URL:https://www.laruelibrary.org/event/exploring-greece-on-a-budget/
LOCATION:LaRue County Public Library\, 215 Lincoln Drive\, Hodgenville\, KY\, 42748\, United States
CATEGORIES:Adult,Adult Events,Everyone,Family,Youth Events
ORGANIZER;CN="LaRue Public Library":MAILTO:info@laruelibrary.org
END:VEVENT
END:VCALENDAR