BEGIN:VCALENDAR
VERSION:2.0
PRODID:-//LaRue County Public Library - ECPv6.15.20//NONSGML v1.0//EN
CALSCALE:GREGORIAN
METHOD:PUBLISH
X-WR-CALNAME:LaRue County Public Library
X-ORIGINAL-URL:https://www.laruelibrary.org
X-WR-CALDESC:Events for LaRue County Public Library
REFRESH-INTERVAL;VALUE=DURATION:PT1H
X-Robots-Tag:noindex
X-PUBLISHED-TTL:PT1H
BEGIN:VTIMEZONE
TZID:America/Kentucky/Louisville
BEGIN:DAYLIGHT
TZOFFSETFROM:-0500
TZOFFSETTO:-0400
TZNAME:EDT
DTSTART:20250309T070000
END:DAYLIGHT
BEGIN:STANDARD
TZOFFSETFROM:-0400
TZOFFSETTO:-0500
TZNAME:EST
DTSTART:20251102T060000
END:STANDARD
BEGIN:DAYLIGHT
TZOFFSETFROM:-0500
TZOFFSETTO:-0400
TZNAME:EDT
DTSTART:20260308T070000
END:DAYLIGHT
BEGIN:STANDARD
TZOFFSETFROM:-0400
TZOFFSETTO:-0500
TZNAME:EST
DTSTART:20261101T060000
END:STANDARD
BEGIN:DAYLIGHT
TZOFFSETFROM:-0500
TZOFFSETTO:-0400
TZNAME:EDT
DTSTART:20270314T070000
END:DAYLIGHT
BEGIN:STANDARD
TZOFFSETFROM:-0400
TZOFFSETTO:-0500
TZNAME:EST
DTSTART:20271107T060000
END:STANDARD
END:VTIMEZONE
BEGIN:VEVENT
DTSTART;TZID=America/Kentucky/Louisville:20260319T163000
DTEND;TZID=America/Kentucky/Louisville:20260319T163000
DTSTAMP:20260425T190349
CREATED:20260219T184356Z
LAST-MODIFIED:20260219T184356Z
UID:10003043-1773937800-1773937800@www.laruelibrary.org
SUMMARY:Board Meeting
DESCRIPTION:LCPL Board Meeting on Thursday\, March 19th at 4:30pm. \nThis is for adults only.
URL:https://www.laruelibrary.org/event/board-meeting-30/
LOCATION:LaRue County Public Library\, 215 Lincoln Drive\, Hodgenville\, KY\, 42748\, United States
CATEGORIES:Adult,Adult Events
ATTACH;FMTTYPE=image/jpeg:https://www.laruelibrary.org/wp-content/uploads/2023/07/brm2.jpg
ORGANIZER;CN="LaRue Public Library":MAILTO:info@laruelibrary.org
END:VEVENT
BEGIN:VEVENT
DTSTART;TZID=America/Kentucky/Louisville:20260319T153000
DTEND;TZID=America/Kentucky/Louisville:20260319T153000
DTSTAMP:20260425T190349
CREATED:20260219T184030Z
LAST-MODIFIED:20260219T184030Z
UID:10003042-1773934200-1773934200@www.laruelibrary.org
SUMMARY:Book Club
DESCRIPTION:Come join us on Thursday\, March 19th at 3:30pm for Book Club! \nThis is an Adult program.
URL:https://www.laruelibrary.org/event/book-club-34/
LOCATION:LaRue County Public Library\, 215 Lincoln Drive\, Hodgenville\, KY\, 42748\, United States
CATEGORIES:Adult,Adult Events
ATTACH;FMTTYPE=image/jpeg:https://www.laruelibrary.org/wp-content/uploads/2023/07/bc2.jpg
ORGANIZER;CN="LaRue Public Library":MAILTO:info@laruelibrary.org
END:VEVENT
BEGIN:VEVENT
DTSTART;TZID=America/Kentucky/Louisville:20260319T133000
DTEND;TZID=America/Kentucky/Louisville:20260319T133000
DTSTAMP:20260425T190349
CREATED:20260219T215251Z
LAST-MODIFIED:20260219T215251Z
UID:10003061-1773927000-1773927000@www.laruelibrary.org
SUMMARY:Story Time
DESCRIPTION:Join us for a fun and fantastic story and a craft on Tuesday at 11:00 AM and on Thursday at 1:30 PM! \nStory time is for children under the ages of 5. \nThis is a great opportunity to grow young readers. We make learning fun by introducing children to books\, love of reading\, and songs! We can’t wait to see you!
URL:https://www.laruelibrary.org/event/story-time-131/2026-03-19/
LOCATION:LaRue County Public Library\, 215 Lincoln Drive\, Hodgenville\, KY\, 42748\, United States
CATEGORIES:Age Under 5 Years Old,Youth Events
ATTACH;FMTTYPE=image/png:https://www.laruelibrary.org/wp-content/uploads/2023/10/NST.0-1.png
ORGANIZER;CN="LaRue Public Library":MAILTO:info@laruelibrary.org
END:VEVENT
BEGIN:VEVENT
DTSTART;TZID=America/Kentucky/Louisville:20260319T123000
DTEND;TZID=America/Kentucky/Louisville:20260319T170000
DTSTAMP:20260425T190349
CREATED:20260219T183853Z
LAST-MODIFIED:20260219T183853Z
UID:10003041-1773923400-1773939600@www.laruelibrary.org
SUMMARY:Bloodmobile
DESCRIPTION:Come down to the Library on Thursday\, March 19th from 12:30pm-5:00pm to donate blood to the American Red Cross. \nHelp do your part! Schedule appointment now to save a life at redcross.org. \nThis program is designed for Teens & Adults.
URL:https://www.laruelibrary.org/event/bloodmobile-17/
LOCATION:LaRue County Public Library\, 215 Lincoln Drive\, Hodgenville\, KY\, 42748\, United States
CATEGORIES:Adult,Adult Events,High School,Youth Events
ATTACH;FMTTYPE=image/png:https://www.laruelibrary.org/wp-content/uploads/2026/02/blood19.png
ORGANIZER;CN="LaRue Public Library":MAILTO:info@laruelibrary.org
END:VEVENT
BEGIN:VEVENT
DTSTART;TZID=America/Kentucky/Louisville:20260319T100000
DTEND;TZID=America/Kentucky/Louisville:20260319T100000
DTSTAMP:20260425T190349
CREATED:20260219T215716Z
LAST-MODIFIED:20260219T215716Z
UID:10003065-1773914400-1773914400@www.laruelibrary.org
SUMMARY:Circle of Love
DESCRIPTION:Join us on Thursday\, March 19th at 10:00am for Circle of Love! \nThis is a program for babies and mothers.
URL:https://www.laruelibrary.org/event/circle-of-love-4/
LOCATION:LaRue County Public Library\, 215 Lincoln Drive\, Hodgenville\, KY\, 42748\, United States
CATEGORIES:Ages 0 - 36 Months,Youth Events
ATTACH;FMTTYPE=image/png:https://www.laruelibrary.org/wp-content/uploads/2026/02/circle19.png
ORGANIZER;CN="LaRue Public Library":MAILTO:info@laruelibrary.org
END:VEVENT
BEGIN:VEVENT
DTSTART;TZID=America/Kentucky/Louisville:20260317T170000
DTEND;TZID=America/Kentucky/Louisville:20260317T170000
DTSTAMP:20260425T190349
CREATED:20260219T200459Z
LAST-MODIFIED:20260219T200459Z
UID:10003054-1773766800-1773766800@www.laruelibrary.org
SUMMARY:American Sign Language (ASL)
DESCRIPTION:Join us on Tuesday\, March 17th at 5:00pm for an ASL class. \nClass limit of 24. Everyone welcome. Call to sign up.
URL:https://www.laruelibrary.org/event/american-sign-language-asl/
LOCATION:LaRue County Public Library\, 215 Lincoln Drive\, Hodgenville\, KY\, 42748\, United States
CATEGORIES:Adult,Adult Events,Everyone,Family,Youth Events
ATTACH;FMTTYPE=image/png:https://www.laruelibrary.org/wp-content/uploads/2026/02/sign17.png
ORGANIZER;CN="LaRue Public Library":MAILTO:info@laruelibrary.org
END:VEVENT
BEGIN:VEVENT
DTSTART;TZID=America/Kentucky/Louisville:20260317T153000
DTEND;TZID=America/Kentucky/Louisville:20260317T153000
DTSTAMP:20260425T190349
CREATED:20260219T215545Z
LAST-MODIFIED:20260219T215545Z
UID:10003064-1773761400-1773761400@www.laruelibrary.org
SUMMARY:Leprechaun Lookers
DESCRIPTION:Join us on Tuesday\, March 17th at 3:30pm to make Leprechaun Lookers! \nThis is a family craft
URL:https://www.laruelibrary.org/event/leprechaun-lookers/
LOCATION:LaRue County Public Library\, 215 Lincoln Drive\, Hodgenville\, KY\, 42748\, United States
CATEGORIES:Family,Youth Events
ATTACH;FMTTYPE=image/png:https://www.laruelibrary.org/wp-content/uploads/2026/02/leprechaun17.png
ORGANIZER;CN="LaRue Public Library":MAILTO:info@laruelibrary.org
END:VEVENT
BEGIN:VEVENT
DTSTART;TZID=America/Kentucky/Louisville:20260317T110000
DTEND;TZID=America/Kentucky/Louisville:20260317T110000
DTSTAMP:20260425T190349
CREATED:20260219T215251Z
LAST-MODIFIED:20260219T215251Z
UID:10003060-1773745200-1773745200@www.laruelibrary.org
SUMMARY:Story Time
DESCRIPTION:Join us for a fun and fantastic story and a craft on Tuesday at 11:00 AM and on Thursday at 1:30 PM! \nStory time is for children under the ages of 5. \nThis is a great opportunity to grow young readers. We make learning fun by introducing children to books\, love of reading\, and songs! We can’t wait to see you!
URL:https://www.laruelibrary.org/event/story-time-131/2026-03-17/
LOCATION:LaRue County Public Library\, 215 Lincoln Drive\, Hodgenville\, KY\, 42748\, United States
CATEGORIES:Age Under 5 Years Old,Youth Events
ATTACH;FMTTYPE=image/png:https://www.laruelibrary.org/wp-content/uploads/2023/10/NST.0-1.png
ORGANIZER;CN="LaRue Public Library":MAILTO:info@laruelibrary.org
END:VEVENT
BEGIN:VEVENT
DTSTART;TZID=America/Kentucky/Louisville:20260317T110000
DTEND;TZID=America/Kentucky/Louisville:20260317T110000
DTSTAMP:20260425T190349
CREATED:20260219T183626Z
LAST-MODIFIED:20260219T183626Z
UID:10003040-1773745200-1773745200@www.laruelibrary.org
SUMMARY:Tai Chi
DESCRIPTION:Join us on Tuesday\, March 17th @ 11:15am to practice Tai Chi. \nTai Chi is a practice that involves a series of slow gentle movements and physical postures\, a meditative state of mind\, and controlled breathing. It originated as an ancient martial art in China and\, over time\, has become more focused on health promotion and rehabilitation. \nAdults Only.
URL:https://www.laruelibrary.org/event/tai-chi-12/
LOCATION:LaRue County Public Library\, 215 Lincoln Drive\, Hodgenville\, KY\, 42748\, United States
CATEGORIES:Adult,Adult Events
ATTACH;FMTTYPE=image/png:https://www.laruelibrary.org/wp-content/uploads/2026/02/tai17.png
ORGANIZER;CN="LaRue Public Library":MAILTO:info@laruelibrary.org
END:VEVENT
BEGIN:VEVENT
DTSTART;TZID=America/Kentucky/Louisville:20260317T100000
DTEND;TZID=America/Kentucky/Louisville:20260317T100000
DTSTAMP:20260425T190349
CREATED:20260219T183507Z
LAST-MODIFIED:20260219T183507Z
UID:10003039-1773741600-1773741600@www.laruelibrary.org
SUMMARY:BINGOcize
DESCRIPTION:Join us on Tuesday\, March 17th at 10:00am for a health promotion program combining Bingo! with inclusive exercises for all! \nThis class is meant for Adults.
URL:https://www.laruelibrary.org/event/bingocize-15/
LOCATION:LaRue County Public Library\, 215 Lincoln Drive\, Hodgenville\, KY\, 42748\, United States
CATEGORIES:Adult,Adult Events
ATTACH;FMTTYPE=image/png:https://www.laruelibrary.org/wp-content/uploads/2026/02/bingo17.png
ORGANIZER;CN="LaRue Public Library":MAILTO:info@laruelibrary.org
END:VEVENT
BEGIN:VEVENT
DTSTART;TZID=America/Kentucky/Louisville:20260316T140000
DTEND;TZID=America/Kentucky/Louisville:20260316T140000
DTSTAMP:20260425T190349
CREATED:20260112T150059Z
LAST-MODIFIED:20260112T150059Z
UID:10002967-1773669600-1773669600@www.laruelibrary.org
SUMMARY:Community Games
DESCRIPTION:Come and have some game day fun here at the library at 2:00 pm! Bring your friends\, family\, a board game (or choose one of ours)\, and enjoy! We’ll see you on Monday at 2 PM in the Community Room at the library.
URL:https://www.laruelibrary.org/event/community-games-52/2026-03-16/
LOCATION:LaRue County Public Library\, 215 Lincoln Drive\, Hodgenville\, KY\, 42748\, United States
CATEGORIES:Adult,Adult Events,Everyone,Family,Youth Events
ATTACH;FMTTYPE=image/jpeg:https://www.laruelibrary.org/wp-content/uploads/2025/01/game.jpeg
ORGANIZER;CN="LaRue Public Library":MAILTO:info@laruelibrary.org
END:VEVENT
BEGIN:VEVENT
DTSTART;TZID=America/Kentucky/Louisville:20260316T100000
DTEND;TZID=America/Kentucky/Louisville:20260316T100000
DTSTAMP:20260425T190349
CREATED:20260221T151547Z
LAST-MODIFIED:20260221T151547Z
UID:10003071-1773655200-1773655200@www.laruelibrary.org
SUMMARY:Stretch and Shine
DESCRIPTION:Ease into your week with Stretch and Shine\, a low-impact program focused on stretching and simple\, relaxing movements. Designed for adults of all mobility levels\, this session supports flexibility\, balance\, and a sense of calm. Join us at the library every Monday at 10 AM. No special equipment needed—just wear comfortable clothes and enjoy some time to move and unwind.
URL:https://www.laruelibrary.org/event/stretch-and-shine-59/2026-03-16/
LOCATION:LaRue County Public Library\, 215 Lincoln Drive\, Hodgenville\, KY\, 42748\, United States
CATEGORIES:Adult,Adult Events
ATTACH;FMTTYPE=image/png:https://www.laruelibrary.org/wp-content/uploads/2023/03/Stretch-Adult-Event-1.png
END:VEVENT
BEGIN:VEVENT
DTSTART;TZID=America/Kentucky/Louisville:20260316T100000
DTEND;TZID=America/Kentucky/Louisville:20260316T100000
DTSTAMP:20260425T190349
CREATED:20260112T145648Z
LAST-MODIFIED:20260112T145648Z
UID:10002916-1773655200-1773655200@www.laruelibrary.org
SUMMARY:Stretch and Shine
DESCRIPTION:Ease into your week with Stretch and Shine\, a low-impact program focused on stretching and simple\, relaxing movements. Designed for adults of all mobility levels\, this session supports flexibility\, balance\, and a sense of calm. Join us at the library every Monday at 10 AM. No special equipment needed—just wear comfortable clothes and enjoy some time to move and unwind.
URL:https://www.laruelibrary.org/event/stretch-and-shine-58/2026-03-16/
LOCATION:LaRue County Public Library\, 215 Lincoln Drive\, Hodgenville\, KY\, 42748\, United States
CATEGORIES:Adult,Adult Events
ATTACH;FMTTYPE=image/png:https://www.laruelibrary.org/wp-content/uploads/2023/03/Stretch-Adult-Event-1.png
ORGANIZER;CN="LaRue Public Library":MAILTO:info@laruelibrary.org
END:VEVENT
BEGIN:VEVENT
DTSTART;TZID=America/Kentucky/Louisville:20260312T133000
DTEND;TZID=America/Kentucky/Louisville:20260312T133000
DTSTAMP:20260425T190349
CREATED:20260219T215251Z
LAST-MODIFIED:20260219T215251Z
UID:10003059-1773322200-1773322200@www.laruelibrary.org
SUMMARY:Story Time
DESCRIPTION:Join us for a fun and fantastic story and a craft on Tuesday at 11:00 AM and on Thursday at 1:30 PM! \nStory time is for children under the ages of 5. \nThis is a great opportunity to grow young readers. We make learning fun by introducing children to books\, love of reading\, and songs! We can’t wait to see you!
URL:https://www.laruelibrary.org/event/story-time-131/2026-03-12/
LOCATION:LaRue County Public Library\, 215 Lincoln Drive\, Hodgenville\, KY\, 42748\, United States
CATEGORIES:Age Under 5 Years Old,Youth Events
ATTACH;FMTTYPE=image/png:https://www.laruelibrary.org/wp-content/uploads/2023/10/NST.0-1.png
ORGANIZER;CN="LaRue Public Library":MAILTO:info@laruelibrary.org
END:VEVENT
BEGIN:VEVENT
DTSTART;TZID=America/Kentucky/Louisville:20260310T110000
DTEND;TZID=America/Kentucky/Louisville:20260310T110000
DTSTAMP:20260425T190349
CREATED:20260219T215251Z
LAST-MODIFIED:20260219T215251Z
UID:10003058-1773140400-1773140400@www.laruelibrary.org
SUMMARY:Story Time
DESCRIPTION:Join us for a fun and fantastic story and a craft on Tuesday at 11:00 AM and on Thursday at 1:30 PM! \nStory time is for children under the ages of 5. \nThis is a great opportunity to grow young readers. We make learning fun by introducing children to books\, love of reading\, and songs! We can’t wait to see you!
URL:https://www.laruelibrary.org/event/story-time-131/2026-03-10/
LOCATION:LaRue County Public Library\, 215 Lincoln Drive\, Hodgenville\, KY\, 42748\, United States
CATEGORIES:Age Under 5 Years Old,Youth Events
ATTACH;FMTTYPE=image/png:https://www.laruelibrary.org/wp-content/uploads/2023/10/NST.0-1.png
ORGANIZER;CN="LaRue Public Library":MAILTO:info@laruelibrary.org
END:VEVENT
BEGIN:VEVENT
DTSTART;TZID=America/Kentucky/Louisville:20260309T140000
DTEND;TZID=America/Kentucky/Louisville:20260309T140000
DTSTAMP:20260425T190349
CREATED:20260112T150059Z
LAST-MODIFIED:20260112T150059Z
UID:10002966-1773064800-1773064800@www.laruelibrary.org
SUMMARY:Community Games
DESCRIPTION:Come and have some game day fun here at the library at 2:00 pm! Bring your friends\, family\, a board game (or choose one of ours)\, and enjoy! We’ll see you on Monday at 2 PM in the Community Room at the library.
URL:https://www.laruelibrary.org/event/community-games-52/2026-03-09/
LOCATION:LaRue County Public Library\, 215 Lincoln Drive\, Hodgenville\, KY\, 42748\, United States
CATEGORIES:Adult,Adult Events,Everyone,Family,Youth Events
ATTACH;FMTTYPE=image/jpeg:https://www.laruelibrary.org/wp-content/uploads/2025/01/game.jpeg
ORGANIZER;CN="LaRue Public Library":MAILTO:info@laruelibrary.org
END:VEVENT
BEGIN:VEVENT
DTSTART;TZID=America/Kentucky/Louisville:20260309T100000
DTEND;TZID=America/Kentucky/Louisville:20260309T100000
DTSTAMP:20260425T190349
CREATED:20260221T151547Z
LAST-MODIFIED:20260221T151547Z
UID:10003070-1773050400-1773050400@www.laruelibrary.org
SUMMARY:Stretch and Shine
DESCRIPTION:Ease into your week with Stretch and Shine\, a low-impact program focused on stretching and simple\, relaxing movements. Designed for adults of all mobility levels\, this session supports flexibility\, balance\, and a sense of calm. Join us at the library every Monday at 10 AM. No special equipment needed—just wear comfortable clothes and enjoy some time to move and unwind.
URL:https://www.laruelibrary.org/event/stretch-and-shine-59/2026-03-09/
LOCATION:LaRue County Public Library\, 215 Lincoln Drive\, Hodgenville\, KY\, 42748\, United States
CATEGORIES:Adult,Adult Events
ATTACH;FMTTYPE=image/png:https://www.laruelibrary.org/wp-content/uploads/2023/03/Stretch-Adult-Event-1.png
END:VEVENT
BEGIN:VEVENT
DTSTART;TZID=America/Kentucky/Louisville:20260309T100000
DTEND;TZID=America/Kentucky/Louisville:20260309T100000
DTSTAMP:20260425T190349
CREATED:20260112T145648Z
LAST-MODIFIED:20260112T145648Z
UID:10002915-1773050400-1773050400@www.laruelibrary.org
SUMMARY:Stretch and Shine
DESCRIPTION:Ease into your week with Stretch and Shine\, a low-impact program focused on stretching and simple\, relaxing movements. Designed for adults of all mobility levels\, this session supports flexibility\, balance\, and a sense of calm. Join us at the library every Monday at 10 AM. No special equipment needed—just wear comfortable clothes and enjoy some time to move and unwind.
URL:https://www.laruelibrary.org/event/stretch-and-shine-58/2026-03-09/
LOCATION:LaRue County Public Library\, 215 Lincoln Drive\, Hodgenville\, KY\, 42748\, United States
CATEGORIES:Adult,Adult Events
ATTACH;FMTTYPE=image/png:https://www.laruelibrary.org/wp-content/uploads/2023/03/Stretch-Adult-Event-1.png
ORGANIZER;CN="LaRue Public Library":MAILTO:info@laruelibrary.org
END:VEVENT
BEGIN:VEVENT
DTSTART;TZID=America/Kentucky/Louisville:20260306T150000
DTEND;TZID=America/Kentucky/Louisville:20260306T150000
DTSTAMP:20260425T190349
CREATED:20260221T164138Z
LAST-MODIFIED:20260221T164138Z
UID:10003333-1772809200-1772809200@www.laruelibrary.org
SUMMARY:Clay Pinch Pots
DESCRIPTION:Teens and adults are invited to get creative with clay on Friday\, March 6\, 2026 at 3 PM as we craft unique pinch pots using simple hand-building techniques. All materials are provided—registration is required\, so sign up in advance to secure your spot!
URL:https://www.laruelibrary.org/event/clay-pinch-pots/
LOCATION:LaRue County Public Library\, 215 Lincoln Drive\, Hodgenville\, KY\, 42748\, United States
CATEGORIES:Adult,Adult Events,High School,Middle School
ATTACH;FMTTYPE=image/png:https://www.laruelibrary.org/wp-content/uploads/2026/02/Screenshot-2026-02-21-at-11.39.30-AM.png
END:VEVENT
BEGIN:VEVENT
DTSTART;TZID=America/Kentucky/Louisville:20260305T173000
DTEND;TZID=America/Kentucky/Louisville:20260305T173000
DTSTAMP:20260425T190349
CREATED:20260221T163413Z
LAST-MODIFIED:20260221T163413Z
UID:10003332-1772731800-1772731800@www.laruelibrary.org
SUMMARY:Bariatric Support Group
DESCRIPTION:Adults are invited to join our Bariatric Support Group at 5:30 PM for an encouraging and confidential space to share experiences\, challenges\, and successes related to weight-loss surgery and healthy living. Connect with others on a similar journey\, gain helpful resources\, and build a supportive community—no registration required.
URL:https://www.laruelibrary.org/event/bariatric-support-group/
LOCATION:LaRue County Public Library\, 215 Lincoln Drive\, Hodgenville\, KY\, 42748\, United States
CATEGORIES:Adult,Adult Events
ATTACH;FMTTYPE=image/png:https://www.laruelibrary.org/wp-content/uploads/2026/02/Screenshot-2026-02-21-at-11.34.04-AM.png
END:VEVENT
BEGIN:VEVENT
DTSTART;TZID=America/Kentucky/Louisville:20260305T160000
DTEND;TZID=America/Kentucky/Louisville:20260305T160000
DTSTAMP:20260425T190349
CREATED:20260221T163201Z
LAST-MODIFIED:20260221T163201Z
UID:10003331-1772726400-1772726400@www.laruelibrary.org
SUMMARY:Friends of the Library
DESCRIPTION:Join us for a Friends of the Library meeting. Consider becoming a member and help us promote the LaRue County Public Library. Membership enables you to join your local branch chapter and participate in many wonderful library activities throughout the year. Benefits include invitations to special Friends’ events\, Volunteer opportunities\, and advocacy opportunities. We hope you’ll join us on Thursday\, March 5th at 4 PM.
URL:https://www.laruelibrary.org/event/friends-of-the-library-29/
LOCATION:LaRue County Public Library\, 215 Lincoln Drive\, Hodgenville\, KY\, 42748\, United States
CATEGORIES:Adult,Adult Events
ATTACH;FMTTYPE=image/png:https://www.laruelibrary.org/wp-content/uploads/2026/02/Screenshot-2026-02-21-at-11.30.10-AM.png
END:VEVENT
BEGIN:VEVENT
DTSTART;VALUE=DATE:20260305
DTEND;VALUE=DATE:20260306
DTSTAMP:20260425T190349
CREATED:20260219T214924Z
LAST-MODIFIED:20260219T214924Z
UID:10003056-1772668800-1772755199@www.laruelibrary.org
SUMMARY:No Story Time Today!
DESCRIPTION:There will be no story time today\, but please join Ms. Taylor next week on Tuesday\, March 10th at 11:00am for another fun story time!
URL:https://www.laruelibrary.org/event/no-story-time-today/
LOCATION:LaRue County Public Library\, 215 Lincoln Drive\, Hodgenville\, KY\, 42748\, United States
CATEGORIES:Age Under 5 Years Old,Youth Events
ATTACH;FMTTYPE=image/png:https://www.laruelibrary.org/wp-content/uploads/2026/02/nost5.png
ORGANIZER;CN="LaRue Public Library":MAILTO:info@laruelibrary.org
END:VEVENT
BEGIN:VEVENT
DTSTART;TZID=America/Kentucky/Louisville:20260303T160000
DTEND;TZID=America/Kentucky/Louisville:20260303T160000
DTSTAMP:20260425T190349
CREATED:20260221T162913Z
LAST-MODIFIED:20260221T162913Z
UID:10003330-1772553600-1772553600@www.laruelibrary.org
SUMMARY:Whittling
DESCRIPTION:Join us at the library on Tuesday\, March 3 at 4 PM for a hands-on whittling class designed for teens and adults! Learn basic carving techniques and create your own small wooden project—registration is required\, so be sure to sign up in advance to reserve your spot.
URL:https://www.laruelibrary.org/event/whittling-6/
LOCATION:LaRue County Public Library\, 215 Lincoln Drive\, Hodgenville\, KY\, 42748\, United States
CATEGORIES:Adult,Adult Events,High School,Middle School
ATTACH;FMTTYPE=image/png:https://www.laruelibrary.org/wp-content/uploads/2026/02/Screenshot-2026-02-21-at-11.23.51-AM.png
END:VEVENT
BEGIN:VEVENT
DTSTART;TZID=America/Kentucky/Louisville:20260303T110000
DTEND;TZID=America/Kentucky/Louisville:20260303T110000
DTSTAMP:20260425T190349
CREATED:20260219T215251Z
LAST-MODIFIED:20260219T215251Z
UID:10003057-1772535600-1772535600@www.laruelibrary.org
SUMMARY:Story Time
DESCRIPTION:Join us for a fun and fantastic story and a craft on Tuesday at 11:00 AM and on Thursday at 1:30 PM! \nStory time is for children under the ages of 5. \nThis is a great opportunity to grow young readers. We make learning fun by introducing children to books\, love of reading\, and songs! We can’t wait to see you!
URL:https://www.laruelibrary.org/event/story-time-131/2026-03-03/
LOCATION:LaRue County Public Library\, 215 Lincoln Drive\, Hodgenville\, KY\, 42748\, United States
CATEGORIES:Age Under 5 Years Old,Youth Events
ATTACH;FMTTYPE=image/png:https://www.laruelibrary.org/wp-content/uploads/2023/10/NST.0-1.png
ORGANIZER;CN="LaRue Public Library":MAILTO:info@laruelibrary.org
END:VEVENT
BEGIN:VEVENT
DTSTART;TZID=America/Kentucky/Louisville:20260303T100000
DTEND;TZID=America/Kentucky/Louisville:20260303T100000
DTSTAMP:20260425T190349
CREATED:20260221T155209Z
LAST-MODIFIED:20260221T155209Z
UID:10003329-1772532000-1772532000@www.laruelibrary.org
SUMMARY:Keep Stepping Forward
DESCRIPTION:Keep Stepping Forward is a supportive library program for anyone who has lost a spouse or significant other\, offering a welcoming space for connection\, reflection\, and encouragement. Join us at Vibe Coffee on Tuesday\, March 3rd at 10:00 AM to take meaningful steps forward together.
URL:https://www.laruelibrary.org/event/keep-stepping-forward-13/
LOCATION:Vibe Coffee Hodgenville\, 118 N Lincoln Blvd\, Hodgenville\, KY\, 42748\, United States
CATEGORIES:Adult,Adult Events
ATTACH;FMTTYPE=image/png:https://www.laruelibrary.org/wp-content/uploads/2026/02/Screenshot-2026-02-21-at-10.36.50-AM.png
END:VEVENT
BEGIN:VEVENT
DTSTART;TZID=America/Kentucky/Louisville:20260302T140000
DTEND;TZID=America/Kentucky/Louisville:20260302T140000
DTSTAMP:20260425T190349
CREATED:20260112T150059Z
LAST-MODIFIED:20260112T150059Z
UID:10002965-1772460000-1772460000@www.laruelibrary.org
SUMMARY:Community Games
DESCRIPTION:Come and have some game day fun here at the library at 2:00 pm! Bring your friends\, family\, a board game (or choose one of ours)\, and enjoy! We’ll see you on Monday at 2 PM in the Community Room at the library.
URL:https://www.laruelibrary.org/event/community-games-52/2026-03-02/
LOCATION:LaRue County Public Library\, 215 Lincoln Drive\, Hodgenville\, KY\, 42748\, United States
CATEGORIES:Adult,Adult Events,Everyone,Family,Youth Events
ATTACH;FMTTYPE=image/jpeg:https://www.laruelibrary.org/wp-content/uploads/2025/01/game.jpeg
ORGANIZER;CN="LaRue Public Library":MAILTO:info@laruelibrary.org
END:VEVENT
BEGIN:VEVENT
DTSTART;TZID=America/Kentucky/Louisville:20260302T100000
DTEND;TZID=America/Kentucky/Louisville:20260302T100000
DTSTAMP:20260425T190349
CREATED:20260221T151547Z
LAST-MODIFIED:20260221T151547Z
UID:10003069-1772445600-1772445600@www.laruelibrary.org
SUMMARY:Stretch and Shine
DESCRIPTION:Ease into your week with Stretch and Shine\, a low-impact program focused on stretching and simple\, relaxing movements. Designed for adults of all mobility levels\, this session supports flexibility\, balance\, and a sense of calm. Join us at the library every Monday at 10 AM. No special equipment needed—just wear comfortable clothes and enjoy some time to move and unwind.
URL:https://www.laruelibrary.org/event/stretch-and-shine-59/2026-03-02/
LOCATION:LaRue County Public Library\, 215 Lincoln Drive\, Hodgenville\, KY\, 42748\, United States
CATEGORIES:Adult,Adult Events
ATTACH;FMTTYPE=image/png:https://www.laruelibrary.org/wp-content/uploads/2023/03/Stretch-Adult-Event-1.png
END:VEVENT
BEGIN:VEVENT
DTSTART;TZID=America/Kentucky/Louisville:20260302T100000
DTEND;TZID=America/Kentucky/Louisville:20260302T100000
DTSTAMP:20260425T190349
CREATED:20260112T145648Z
LAST-MODIFIED:20260112T145648Z
UID:10002914-1772445600-1772445600@www.laruelibrary.org
SUMMARY:Stretch and Shine
DESCRIPTION:Ease into your week with Stretch and Shine\, a low-impact program focused on stretching and simple\, relaxing movements. Designed for adults of all mobility levels\, this session supports flexibility\, balance\, and a sense of calm. Join us at the library every Monday at 10 AM. No special equipment needed—just wear comfortable clothes and enjoy some time to move and unwind.
URL:https://www.laruelibrary.org/event/stretch-and-shine-58/2026-03-02/
LOCATION:LaRue County Public Library\, 215 Lincoln Drive\, Hodgenville\, KY\, 42748\, United States
CATEGORIES:Adult,Adult Events
ATTACH;FMTTYPE=image/png:https://www.laruelibrary.org/wp-content/uploads/2023/03/Stretch-Adult-Event-1.png
ORGANIZER;CN="LaRue Public Library":MAILTO:info@laruelibrary.org
END:VEVENT
BEGIN:VEVENT
DTSTART;TZID=America/Kentucky/Louisville:20260227T093000
DTEND;TZID=America/Kentucky/Louisville:20260227T093000
DTSTAMP:20260425T190349
CREATED:20250916T201451Z
LAST-MODIFIED:20250916T201451Z
UID:10002276-1772184600-1772184600@www.laruelibrary.org
SUMMARY:Tiny Hawks Story Time
DESCRIPTION:Join us for a very special Tiny Hawks Story Time at 9:30am with assistance from Ellen Shelton! Each session\, children will receive a free educational take-home item/supplies (provided by the ALES Family Resource Center). \nThese story times/sessions will take place at LaRue County Public Library on Friday September 26th\, Friday October 24th\, November 21st\, January 30th\, February 27th\, March 27th\, and April 24th These story times/sessions are geared toward preschool age children (2-5 years old) and their caregiver(s). \nSign-up is NOT required. \nFor more info\, contact: \nTaylor Metcalf; LCPL Children’s Librarian @ 358-3851 \nEllen Shelton; ALES FRC Coordinator @ 358-7130
URL:https://www.laruelibrary.org/event/tiny-hawks-story-time-2/2026-02-27/
LOCATION:LaRue County Public Library\, 215 Lincoln Drive\, Hodgenville\, KY\, 42748\, United States
CATEGORIES:Age Under 5 Years Old,Youth Events
ATTACH;FMTTYPE=image/png:https://www.laruelibrary.org/wp-content/uploads/2025/08/tiny.png
ORGANIZER;CN="LaRue Public Library":MAILTO:info@laruelibrary.org
END:VEVENT
BEGIN:VEVENT
DTSTART;TZID=America/Kentucky/Louisville:20260226T170000
DTEND;TZID=America/Kentucky/Louisville:20260226T170000
DTSTAMP:20260425T190349
CREATED:20260115T170831Z
LAST-MODIFIED:20260115T170831Z
UID:10003021-1772125200-1772125200@www.laruelibrary.org
SUMMARY:Page to Plate
DESCRIPTION:Check out a cookbook and choose a recipe to make\, share\, and speak about on Thursday\, February 26th at 5:00pm! \nChoose an soup for February! \nTeens and Adults. Call to register.
URL:https://www.laruelibrary.org/event/page-to-plate-2/
LOCATION:LaRue County Public Library\, 215 Lincoln Drive\, Hodgenville\, KY\, 42748\, United States
CATEGORIES:Adult,Adult Events,High School,Youth Events
ATTACH;FMTTYPE=image/png:https://www.laruelibrary.org/wp-content/uploads/2026/01/pageFeb.png
ORGANIZER;CN="LaRue Public Library":MAILTO:info@laruelibrary.org
END:VEVENT
END:VCALENDAR