BEGIN:VCALENDAR
VERSION:2.0
PRODID:-//LaRue County Public Library - ECPv6.15.20//NONSGML v1.0//EN
CALSCALE:GREGORIAN
METHOD:PUBLISH
X-WR-CALNAME:LaRue County Public Library
X-ORIGINAL-URL:https://www.laruelibrary.org
X-WR-CALDESC:Events for LaRue County Public Library
REFRESH-INTERVAL;VALUE=DURATION:PT1H
X-Robots-Tag:noindex
X-PUBLISHED-TTL:PT1H
BEGIN:VTIMEZONE
TZID:America/Kentucky/Louisville
BEGIN:DAYLIGHT
TZOFFSETFROM:-0500
TZOFFSETTO:-0400
TZNAME:EDT
DTSTART:20230312T070000
END:DAYLIGHT
BEGIN:STANDARD
TZOFFSETFROM:-0400
TZOFFSETTO:-0500
TZNAME:EST
DTSTART:20231105T060000
END:STANDARD
BEGIN:DAYLIGHT
TZOFFSETFROM:-0500
TZOFFSETTO:-0400
TZNAME:EDT
DTSTART:20240310T070000
END:DAYLIGHT
BEGIN:STANDARD
TZOFFSETFROM:-0400
TZOFFSETTO:-0500
TZNAME:EST
DTSTART:20241103T060000
END:STANDARD
BEGIN:DAYLIGHT
TZOFFSETFROM:-0500
TZOFFSETTO:-0400
TZNAME:EDT
DTSTART:20250309T070000
END:DAYLIGHT
BEGIN:STANDARD
TZOFFSETFROM:-0400
TZOFFSETTO:-0500
TZNAME:EST
DTSTART:20251102T060000
END:STANDARD
END:VTIMEZONE
BEGIN:VEVENT
DTSTART;TZID=America/Kentucky/Louisville:20240725T100000
DTEND;TZID=America/Kentucky/Louisville:20240725T100000
DTSTAMP:20260421T205206
CREATED:20240620T162644Z
LAST-MODIFIED:20240620T162644Z
UID:10001356-1721901600-1721901600@www.laruelibrary.org
SUMMARY:Coffee for Veterans
DESCRIPTION:Join us on Thursday\, July 25th @ 10:00am in the LCPL community room for a very special program (with spouses/partners being welcome). \nIsmael John\, with the Kentucky Department of Veterans Affairs\, will be our special guest.
URL:https://www.laruelibrary.org/event/coffee-for-veterans-6/
LOCATION:LaRue County Public Library\, 215 Lincoln Drive\, Hodgenville\, KY\, 42748\, United States
CATEGORIES:Adult,Adult Events
ATTACH;FMTTYPE=image/png:https://www.laruelibrary.org/wp-content/uploads/2024/01/vetcoffee.png
ORGANIZER;CN="LaRue Public Library":MAILTO:info@laruelibrary.org
END:VEVENT
BEGIN:VEVENT
DTSTART;TZID=America/Kentucky/Louisville:20240725T120000
DTEND;TZID=America/Kentucky/Louisville:20240725T170000
DTSTAMP:20260421T205206
CREATED:20240620T160249Z
LAST-MODIFIED:20240620T160249Z
UID:10001353-1721908800-1721926800@www.laruelibrary.org
SUMMARY:Bloodmobile
DESCRIPTION:Come down to the Library on Thursday\, July 25th from 12:00pm-5:00pm to donate blood to the American Red Cross. \nHelp do your part! Schedule appointment now to save a life at redcross.org. \nYou will be entered for one of two $25 gift cards\, courtesy of the Friends of the Library! \nThis program is designed for Adults.
URL:https://www.laruelibrary.org/event/bloodmobile-8/
LOCATION:LaRue County Public Library\, 215 Lincoln Drive\, Hodgenville\, KY\, 42748\, United States
CATEGORIES:Adult,Adult Events,High School,Youth Events
ATTACH;FMTTYPE=image/png:https://www.laruelibrary.org/wp-content/uploads/2024/02/Blddrv.png
ORGANIZER;CN="LaRue Public Library":MAILTO:info@laruelibrary.org
END:VEVENT
BEGIN:VEVENT
DTSTART;TZID=America/Kentucky/Louisville:20240725T130000
DTEND;TZID=America/Kentucky/Louisville:20240725T143000
DTSTAMP:20260421T205206
CREATED:20240620T155012Z
LAST-MODIFIED:20240620T155012Z
UID:10001351-1721912400-1721917800@www.laruelibrary.org
SUMMARY:Kynect
DESCRIPTION:What can Kynect do for you? Ginny Whitt will set up in the lobby on Thursday\, July 25th from 1:00 PM – 2:30 PM. \nYou might be surprised by what she can help with Snap benefits\, Medicaid\, and Kentucky Marketplace Insurance. Let her help you avoid those phone calls and red tape. \nThis program is designed for Adults.
URL:https://www.laruelibrary.org/event/kynect-20/
LOCATION:LaRue County Public Library\, 215 Lincoln Drive\, Hodgenville\, KY\, 42748\, United States
CATEGORIES:Adult,Adult Events
ATTACH;FMTTYPE=image/png:https://www.laruelibrary.org/wp-content/uploads/2023/08/kynect2.png
ORGANIZER;CN="LaRue Public Library":MAILTO:info@laruelibrary.org
END:VEVENT
BEGIN:VEVENT
DTSTART;TZID=America/Kentucky/Louisville:20240726T150000
DTEND;TZID=America/Kentucky/Louisville:20240726T150000
DTSTAMP:20260421T205206
CREATED:20240620T154725Z
LAST-MODIFIED:20240620T154725Z
UID:10001350-1722006000-1722006000@www.laruelibrary.org
SUMMARY:Raptor Rehabilitation of Kentucky\, Inc.
DESCRIPTION:Join us on Friday\, July 26th at 3:00pm as Dave of RROKI shows us not just the wonderful raptors of Kentucky\, but also shares just what it is that the RROKI center does! \nHe will also be bringing his bald eagle for us to see up close and personal! \nEveryone welcome! No sign up needed.
URL:https://www.laruelibrary.org/event/raptor-rehabilitation-of-kentucky-inc/
LOCATION:LaRue County Public Library\, 215 Lincoln Drive\, Hodgenville\, KY\, 42748\, United States
CATEGORIES:Adult,Adult Events,Everyone,Family,Youth Events
ORGANIZER;CN="LaRue Public Library":MAILTO:info@laruelibrary.org
END:VEVENT
BEGIN:VEVENT
DTSTART;TZID=America/Kentucky/Louisville:20240727T100000
DTEND;TZID=America/Kentucky/Louisville:20240727T130000
DTSTAMP:20260421T205206
CREATED:20240620T194414Z
LAST-MODIFIED:20240627T135202Z
UID:10001372-1722074400-1722085200@www.laruelibrary.org
SUMMARY:Science Day with the Kentucky Science Center
DESCRIPTION:Enjoy a fun Science Day with our Kentucky Science Center on Saturday\, July 27th from 10:00am-1:00pm! \nBuild and launch a rocket\, watch a vortex cannon make smoke rings with a smoke gun\, and enjoy a few demonstrations from the KSC scientists! \nEverybody welcome! No registration needed!
URL:https://www.laruelibrary.org/event/science-day-with-the-kentucky-science-center/
LOCATION:LaRue County Public Library\, 215 Lincoln Drive\, Hodgenville\, KY\, 42748\, United States
CATEGORIES:Adult,Adult Events,Everyone,Family,Youth Events
ORGANIZER;CN="LaRue Public Library":MAILTO:info@laruelibrary.org
END:VEVENT
BEGIN:VEVENT
DTSTART;VALUE=DATE:20240729
DTEND;VALUE=DATE:20240730
DTSTAMP:20260421T205206
CREATED:20240418T203741Z
LAST-MODIFIED:20240503T150234Z
UID:10001238-1722211200-1722297599@www.laruelibrary.org
SUMMARY:Play2Go
DESCRIPTION:Play2Go Exhibit is now open! Everyone is welcome! \nCome play and explore with us at ‘Science in Play2Go’ during open/operating hours here at LCPL! \n‘Kentucky Science Center’ developed ‘Science in Play2Go’ as a learning experience that makes science personal\, fun\, participatory\, and relevant.
URL:https://www.laruelibrary.org/event/play2go-3/2024-07-29/
LOCATION:LaRue County Public Library\, 215 Lincoln Drive\, Hodgenville\, KY\, 42748\, United States
CATEGORIES:Adult Events,Everyone,Youth Events
ORGANIZER;CN="LaRue Public Library":MAILTO:info@laruelibrary.org
END:VEVENT
BEGIN:VEVENT
DTSTART;TZID=America/Kentucky/Louisville:20240729T100000
DTEND;TZID=America/Kentucky/Louisville:20240729T100000
DTSTAMP:20260421T205206
CREATED:20240615T144651Z
LAST-MODIFIED:20240615T155430Z
UID:10001345-1722247200-1722247200@www.laruelibrary.org
SUMMARY:Stretch and Shine
DESCRIPTION:Join us for Stretch and Shine and start your day off right! Free low-impact exercise class beginning at 10:00am. Let’s get those muscles moving! This program is designed for adults.
URL:https://www.laruelibrary.org/event/stretch-and-shine-35/2024-07-29/
LOCATION:KY
CATEGORIES:Adult,Adult Events
ATTACH;FMTTYPE=image/png:https://www.laruelibrary.org/wp-content/uploads/2023/03/Stretch-Adult-Event-1.png
END:VEVENT
BEGIN:VEVENT
DTSTART;TZID=America/Kentucky/Louisville:20240729T150000
DTEND;TZID=America/Kentucky/Louisville:20240729T150000
DTSTAMP:20260421T205206
CREATED:20240620T192442Z
LAST-MODIFIED:20240620T192442Z
UID:10001365-1722265200-1722265200@www.laruelibrary.org
SUMMARY:Build-A-Book
DESCRIPTION:Come try your hand at building your own book to take home and use at our Build-A-Book Workshop on Monday\, July 29th at 3:00pm! \nMiddle School – Teen. Call to register.
URL:https://www.laruelibrary.org/event/build-a-book/
LOCATION:LaRue County Public Library\, 215 Lincoln Drive\, Hodgenville\, KY\, 42748\, United States
CATEGORIES:High School,Middle School,Youth Events
ORGANIZER;CN="LaRue Public Library":MAILTO:info@laruelibrary.org
END:VEVENT
BEGIN:VEVENT
DTSTART;TZID=America/Kentucky/Louisville:20240730T110000
DTEND;TZID=America/Kentucky/Louisville:20240730T110000
DTSTAMP:20260421T205206
CREATED:20240620T193932Z
LAST-MODIFIED:20240620T193932Z
UID:10001370-1722337200-1722337200@www.laruelibrary.org
SUMMARY:Story Time
DESCRIPTION:Join us for a fun and fantastic story this Tuesday at 11:00 AM! \nStory time is for children under the ages of 5. \nThis is a great opportunity to grow young readers. We make learning fun by introducing children to books\, love of reading\, and songs! We can’t wait to see you!
URL:https://www.laruelibrary.org/event/story-time-93/2024-07-30/
LOCATION:LaRue County Public Library\, 215 Lincoln Drive\, Hodgenville\, KY\, 42748\, United States
CATEGORIES:Age Under 5 Years Old,Youth Events
ATTACH;FMTTYPE=image/png:https://www.laruelibrary.org/wp-content/uploads/2023/10/NST.0-1.png
ORGANIZER;CN="LaRue Public Library":MAILTO:info@laruelibrary.org
END:VEVENT
BEGIN:VEVENT
DTSTART;TZID=America/Kentucky/Louisville:20240730T150000
DTEND;TZID=America/Kentucky/Louisville:20240730T150000
DTSTAMP:20260421T205206
CREATED:20240620T154110Z
LAST-MODIFIED:20240620T154110Z
UID:10001349-1722351600-1722351600@www.laruelibrary.org
SUMMARY:Butterfly Craft
DESCRIPTION:Join us on Tuesday\, July 30th at 3:00pm to make a beautiful summer butterfly craft! \nTeens & Adults. Class limit of 24. Call to sign up!
URL:https://www.laruelibrary.org/event/butterfly-craft/
LOCATION:LaRue County Public Library\, 215 Lincoln Drive\, Hodgenville\, KY\, 42748\, United States
CATEGORIES:Adult,Adult Events,High School,Youth Events
ORGANIZER;CN="LaRue Public Library":MAILTO:info@laruelibrary.org
END:VEVENT
BEGIN:VEVENT
DTSTART;TZID=America/Kentucky/Louisville:20240730T160000
DTEND;TZID=America/Kentucky/Louisville:20240730T160000
DTSTAMP:20260421T205206
CREATED:20240620T192944Z
LAST-MODIFIED:20240701T142221Z
UID:10001366-1722355200-1722355200@www.laruelibrary.org
SUMMARY:Teen Book Club
DESCRIPTION:Join us for our teen book club meeting at Vibe Coffee in downtown Hodgenville! We’ll get our copy of the first book and talk about how we want to continue book club during the school year! \nSee you on Tuesday\, July 30th at 4:00 PM at Vibe Coffee. \nThis program is for teens.
URL:https://www.laruelibrary.org/event/teen-book-club-4/
LOCATION:Vibe Coffee Hodgenville\, 118 N Lincoln Blvd\, Hodgenville\, KY\, 42748\, United States
CATEGORIES:High School,Youth Events
ATTACH;FMTTYPE=image/png:https://www.laruelibrary.org/wp-content/uploads/2024/06/Teen-BC.png
ORGANIZER;CN="LaRue Public Library":MAILTO:info@laruelibrary.org
END:VEVENT
BEGIN:VEVENT
DTSTART;TZID=America/Kentucky/Louisville:20240731T110000
DTEND;TZID=America/Kentucky/Louisville:20240731T110000
DTSTAMP:20260421T205206
CREATED:20240620T193234Z
LAST-MODIFIED:20240620T193234Z
UID:10001367-1722423600-1722423600@www.laruelibrary.org
SUMMARY:Friendship Bracelets
DESCRIPTION:Join us on Wednesday\, July 31st at 11:00am to sit down and make friendship bracelets! \nGrade School – Teen. No registration required!
URL:https://www.laruelibrary.org/event/friendship-bracelets/
LOCATION:LaRue County Public Library\, 215 Lincoln Drive\, Hodgenville\, KY\, 42748\, United States
CATEGORIES:Grade School,High School,Middle School,Youth Events
ORGANIZER;CN="LaRue Public Library":MAILTO:info@laruelibrary.org
END:VEVENT
BEGIN:VEVENT
DTSTART;TZID=America/Kentucky/Louisville:20240801T160000
DTEND;TZID=America/Kentucky/Louisville:20240801T160000
DTSTAMP:20260421T205206
CREATED:20240713T145708Z
LAST-MODIFIED:20240716T210526Z
UID:10001375-1722528000-1722528000@www.laruelibrary.org
SUMMARY:Friends of the Library
DESCRIPTION:Join us for a Friends of the Library meeting. Become a member and help us promote the LaRue County Public Library. Membership enables you to join your local branch chapter and become involved with many wonderful library activities throughout the year. Benefits include invitations to special Friends’ events\, Volunteer opportunities\, and advocacy opportunities. Hope to see you there!
URL:https://www.laruelibrary.org/event/friends-of-the-library-15/
LOCATION:LaRue County Public Library\, 215 Lincoln Drive\, Hodgenville\, KY\, 42748\, United States
CATEGORIES:Adult,Adult Events
ATTACH;FMTTYPE=image/png:https://www.laruelibrary.org/wp-content/uploads/2023/03/BecomeLibraryFriend.png
END:VEVENT
BEGIN:VEVENT
DTSTART;TZID=America/Kentucky/Louisville:20240802T110000
DTEND;TZID=America/Kentucky/Louisville:20240802T110000
DTSTAMP:20260421T205206
CREATED:20240716T213334Z
LAST-MODIFIED:20240716T213334Z
UID:10001389-1722596400-1722596400@www.laruelibrary.org
SUMMARY:Pre-K Sensory Bins
DESCRIPTION:Calling all kiddos\, ages 5 and under\, for a fun Friday at the library with sensory bins! This program does not require pre-registration. We hope to see you on Friday\, August 2nd at 11 AM!
URL:https://www.laruelibrary.org/event/pre-k-sensory-bins-3/
LOCATION:LaRue County Public Library\, 215 Lincoln Drive\, Hodgenville\, KY\, 42748\, United States
CATEGORIES:Age Under 5 Years Old
END:VEVENT
BEGIN:VEVENT
DTSTART;VALUE=DATE:20240805
DTEND;VALUE=DATE:20240806
DTSTAMP:20260421T205206
CREATED:20240418T203741Z
LAST-MODIFIED:20240503T150234Z
UID:10001239-1722816000-1722902399@www.laruelibrary.org
SUMMARY:Play2Go
DESCRIPTION:Play2Go Exhibit is now open! Everyone is welcome! \nCome play and explore with us at ‘Science in Play2Go’ during open/operating hours here at LCPL! \n‘Kentucky Science Center’ developed ‘Science in Play2Go’ as a learning experience that makes science personal\, fun\, participatory\, and relevant.
URL:https://www.laruelibrary.org/event/play2go-3/2024-08-05/
LOCATION:LaRue County Public Library\, 215 Lincoln Drive\, Hodgenville\, KY\, 42748\, United States
CATEGORIES:Adult Events,Everyone,Youth Events
ORGANIZER;CN="LaRue Public Library":MAILTO:info@laruelibrary.org
END:VEVENT
BEGIN:VEVENT
DTSTART;TZID=America/Kentucky/Louisville:20240805T100000
DTEND;TZID=America/Kentucky/Louisville:20240805T100000
DTSTAMP:20260421T205206
CREATED:20240713T150135Z
LAST-MODIFIED:20240713T150135Z
UID:10001376-1722852000-1722852000@www.laruelibrary.org
SUMMARY:Stretch and Shine
DESCRIPTION:Join us for Stretch and Shine and start your day off right! Free low-impact exercise class beginning at 10:00am. Let’s get those muscles moving! This program is designed for adults.
URL:https://www.laruelibrary.org/event/stretch-and-shine-36/2024-08-05/
LOCATION:KY
CATEGORIES:Adult,Adult Events
END:VEVENT
BEGIN:VEVENT
DTSTART;TZID=America/Kentucky/Louisville:20240805T110000
DTEND;TZID=America/Kentucky/Louisville:20240805T110000
DTSTAMP:20260421T205206
CREATED:20240717T155730Z
LAST-MODIFIED:20240717T155730Z
UID:10001400-1722855600-1722855600@www.laruelibrary.org
SUMMARY:Health Choices for Every Body
DESCRIPTION:Free series of classes for adults (at 11:00am during the Mondays held)\, focusing on cooking skills and stretching your food dollars\, all while making healthy choices! \nAt each class you’ll get to sample the recipes and take home a small kitchen gadget! \nYou must register for this program by calling the LaRue County Co-op Extension Service at 270-358-3401. The classes will be held here at the library.
URL:https://www.laruelibrary.org/event/health-choices-for-every-body/2024-08-05/
LOCATION:LaRue County Public Library\, 215 Lincoln Drive\, Hodgenville\, KY\, 42748\, United States
CATEGORIES:Adult,Adult Events
ATTACH;FMTTYPE=image/png:https://www.laruelibrary.org/wp-content/uploads/2024/07/Healthy.png
ORGANIZER;CN="LaRue County Co-Op Extension Service":MAILTO:larue.ext@uky.edu
END:VEVENT
BEGIN:VEVENT
DTSTART;TZID=America/Kentucky/Louisville:20240805T110000
DTEND;TZID=America/Kentucky/Louisville:20240805T110000
DTSTAMP:20260421T205206
CREATED:20240718T211711Z
LAST-MODIFIED:20240718T211711Z
UID:10001413-1722855600-1722855600@www.laruelibrary.org
SUMMARY:Healthy Choices
DESCRIPTION:Join us for a free series of classes for adults\, that focuses on cooking skills and stretching your food dollars\, all while making healthy choices! At each class\, you will sample some of our yummy recipes we offer and you will receive a small kitchen are limited. Sign up today – spaces are limited! Call 270-358-3401 or email susan.riggs@uky.edu! \nThis program begins at 11 AM and will be held on the following dates: August 5\, 12\, 19\, 26\, and September 9.
URL:https://www.laruelibrary.org/event/healthy-choices/2024-08-05/
LOCATION:KY
CATEGORIES:Adult,Adult Events
ATTACH;FMTTYPE=image/png:https://www.laruelibrary.org/wp-content/uploads/2024/07/Healthy.png
END:VEVENT
BEGIN:VEVENT
DTSTART;TZID=America/Kentucky/Louisville:20240806T100000
DTEND;TZID=America/Kentucky/Louisville:20240806T100000
DTSTAMP:20260421T205206
CREATED:20240716T220124Z
LAST-MODIFIED:20240716T220124Z
UID:10001390-1722938400-1722938400@www.laruelibrary.org
SUMMARY:Keep Stepping Forwad
DESCRIPTION:Keep Stepping Forward – Finding New Footing One Step at a Time \nJoin us the first Tuesday of each month for a support group for men and women whose spouses have passed away. This group will be led by Donna Coffey. Coffee and donuts will be provided. We look forward to sharing with you in community on Tuesday\, August 6th at 10 AM.
URL:https://www.laruelibrary.org/event/keep-stepping-forwad/
LOCATION:LaRue County Public Library\, 215 Lincoln Drive\, Hodgenville\, KY\, 42748\, United States
CATEGORIES:Adult,Adult Events
END:VEVENT
BEGIN:VEVENT
DTSTART;TZID=America/Kentucky/Louisville:20240806T110000
DTEND;TZID=America/Kentucky/Louisville:20240806T110000
DTSTAMP:20260421T205206
CREATED:20240713T150947Z
LAST-MODIFIED:20240713T151054Z
UID:10001380-1722942000-1722942000@www.laruelibrary.org
SUMMARY:Story Time
DESCRIPTION:Join us for a fun and fantastic story on Tuesday\, August 6th at 11 AM! \nStorytime is for children under the age of 5. \nThis is a great opportunity to grow young readers. We make learning fun by introducing children to books\, a love of reading\, and songs! We can’t wait to see you!
URL:https://www.laruelibrary.org/event/story-time-94/
LOCATION:LaRue County Public Library\, 215 Lincoln Drive\, Hodgenville\, KY\, 42748\, United States
CATEGORIES:Age Under 5 Years Old
ATTACH;FMTTYPE=image/png:https://www.laruelibrary.org/wp-content/uploads/2023/10/NST.0-1.png
END:VEVENT
BEGIN:VEVENT
DTSTART;TZID=America/Kentucky/Louisville:20240806T153000
DTEND;TZID=America/Kentucky/Louisville:20240806T153000
DTSTAMP:20260421T205206
CREATED:20240716T220606Z
LAST-MODIFIED:20240716T220606Z
UID:10001391-1722958200-1722958200@www.laruelibrary.org
SUMMARY:Timeless Skin Studio
DESCRIPTION:It’s National Cleanse Your Skin Week\, so join us on Tuesday\, August 6th at 3:30 for all the skincare tips and tricks. Kayleigh Ellen Hughes from Timeless Skin Studio\, LLC\, will share appropriate steps to care for your skin. Everyone is welcome to attend!
URL:https://www.laruelibrary.org/event/timeless-skin-studio/
LOCATION:LaRue County Public Library\, 215 Lincoln Drive\, Hodgenville\, KY\, 42748\, United States
CATEGORIES:Everyone
END:VEVENT
BEGIN:VEVENT
DTSTART;TZID=America/Kentucky/Louisville:20240808T170000
DTEND;TZID=America/Kentucky/Louisville:20240808T170000
DTSTAMP:20260421T205206
CREATED:20240718T212207Z
LAST-MODIFIED:20240718T212309Z
UID:10001418-1723136400-1723136400@www.laruelibrary.org
SUMMARY:Canning Class
DESCRIPTION:Interested in canning but unsure where to start? This basics of canning class is for you! Join us on Thursday\, August 8th at 5 PM. Everyone is welcome to attend. There will even be a giveaway!
URL:https://www.laruelibrary.org/event/canning-class/
LOCATION:KY
CATEGORIES:Everyone
END:VEVENT
BEGIN:VEVENT
DTSTART;TZID=America/Kentucky/Louisville:20240810T110000
DTEND;TZID=America/Kentucky/Louisville:20240810T110000
DTSTAMP:20260421T205206
CREATED:20240718T212549Z
LAST-MODIFIED:20240718T212559Z
UID:10001419-1723287600-1723287600@www.laruelibrary.org
SUMMARY:Lego Create: Free Play and Challenges
DESCRIPTION:Calling all kids elementary school through teens – Lego Create: Free Play and Challenges! Join us on Saturday\, August 10th at 11 AM.
URL:https://www.laruelibrary.org/event/lego-create-free-play-and-challenges/
LOCATION:LaRue County Public Library\, 215 Lincoln Drive\, Hodgenville\, KY\, 42748\, United States
CATEGORIES:Grade School,Middle School
END:VEVENT
BEGIN:VEVENT
DTSTART;VALUE=DATE:20240812
DTEND;VALUE=DATE:20240813
DTSTAMP:20260421T205206
CREATED:20240418T203741Z
LAST-MODIFIED:20240503T150234Z
UID:10001240-1723420800-1723507199@www.laruelibrary.org
SUMMARY:Play2Go
DESCRIPTION:Play2Go Exhibit is now open! Everyone is welcome! \nCome play and explore with us at ‘Science in Play2Go’ during open/operating hours here at LCPL! \n‘Kentucky Science Center’ developed ‘Science in Play2Go’ as a learning experience that makes science personal\, fun\, participatory\, and relevant.
URL:https://www.laruelibrary.org/event/play2go-3/2024-08-12/
LOCATION:LaRue County Public Library\, 215 Lincoln Drive\, Hodgenville\, KY\, 42748\, United States
CATEGORIES:Adult Events,Everyone,Youth Events
ORGANIZER;CN="LaRue Public Library":MAILTO:info@laruelibrary.org
END:VEVENT
BEGIN:VEVENT
DTSTART;TZID=America/Kentucky/Louisville:20240812T100000
DTEND;TZID=America/Kentucky/Louisville:20240812T100000
DTSTAMP:20260421T205206
CREATED:20240713T150135Z
LAST-MODIFIED:20240713T150135Z
UID:10001377-1723456800-1723456800@www.laruelibrary.org
SUMMARY:Stretch and Shine
DESCRIPTION:Join us for Stretch and Shine and start your day off right! Free low-impact exercise class beginning at 10:00am. Let’s get those muscles moving! This program is designed for adults.
URL:https://www.laruelibrary.org/event/stretch-and-shine-36/2024-08-12/
LOCATION:KY
CATEGORIES:Adult,Adult Events
END:VEVENT
BEGIN:VEVENT
DTSTART;TZID=America/Kentucky/Louisville:20240812T110000
DTEND;TZID=America/Kentucky/Louisville:20240812T110000
DTSTAMP:20260421T205206
CREATED:20240717T155730Z
LAST-MODIFIED:20240717T155730Z
UID:10001401-1723460400-1723460400@www.laruelibrary.org
SUMMARY:Health Choices for Every Body
DESCRIPTION:Free series of classes for adults (at 11:00am during the Mondays held)\, focusing on cooking skills and stretching your food dollars\, all while making healthy choices! \nAt each class you’ll get to sample the recipes and take home a small kitchen gadget! \nYou must register for this program by calling the LaRue County Co-op Extension Service at 270-358-3401. The classes will be held here at the library.
URL:https://www.laruelibrary.org/event/health-choices-for-every-body/2024-08-12/
LOCATION:LaRue County Public Library\, 215 Lincoln Drive\, Hodgenville\, KY\, 42748\, United States
CATEGORIES:Adult,Adult Events
ATTACH;FMTTYPE=image/png:https://www.laruelibrary.org/wp-content/uploads/2024/07/Healthy.png
ORGANIZER;CN="LaRue County Co-Op Extension Service":MAILTO:larue.ext@uky.edu
END:VEVENT
BEGIN:VEVENT
DTSTART;TZID=America/Kentucky/Louisville:20240812T110000
DTEND;TZID=America/Kentucky/Louisville:20240812T110000
DTSTAMP:20260421T205206
CREATED:20240718T211711Z
LAST-MODIFIED:20240718T211711Z
UID:10001414-1723460400-1723460400@www.laruelibrary.org
SUMMARY:Healthy Choices
DESCRIPTION:Join us for a free series of classes for adults\, that focuses on cooking skills and stretching your food dollars\, all while making healthy choices! At each class\, you will sample some of our yummy recipes we offer and you will receive a small kitchen are limited. Sign up today – spaces are limited! Call 270-358-3401 or email susan.riggs@uky.edu! \nThis program begins at 11 AM and will be held on the following dates: August 5\, 12\, 19\, 26\, and September 9.
URL:https://www.laruelibrary.org/event/healthy-choices/2024-08-12/
LOCATION:KY
CATEGORIES:Adult,Adult Events
ATTACH;FMTTYPE=image/png:https://www.laruelibrary.org/wp-content/uploads/2024/07/Healthy.png
END:VEVENT
BEGIN:VEVENT
DTSTART;TZID=America/Kentucky/Louisville:20240812T154500
DTEND;TZID=America/Kentucky/Louisville:20240812T154500
DTSTAMP:20260421T205206
CREATED:20240718T213325Z
LAST-MODIFIED:20240718T220533Z
UID:10001421-1723477500-1723477500@www.laruelibrary.org
SUMMARY:Record Mirrors
DESCRIPTION:We’ll be making decor your can put on the wall out of old records and one mirror! Middle school & teenagers\, sign up to join us on Monday\, August 12th at 3:45 PM! Call the library to register at 270-358-3851.
URL:https://www.laruelibrary.org/event/record-mirrors/
LOCATION:LaRue County Public Library\, 215 Lincoln Drive\, Hodgenville\, KY\, 42748\, United States
CATEGORIES:High School,Middle School
END:VEVENT
BEGIN:VEVENT
DTSTART;TZID=America/Kentucky/Louisville:20240813T103000
DTEND;TZID=America/Kentucky/Louisville:20240813T120000
DTSTAMP:20260421T205206
CREATED:20240713T151251Z
LAST-MODIFIED:20240713T151251Z
UID:10001382-1723545000-1723550400@www.laruelibrary.org
SUMMARY:Kynect
DESCRIPTION:What can Kynect do for you? Ginny Whitt will be set up in the lobby on Tuesday\, August 13th from 10:30 – 12:00.  \nYou might be surprised by what she can help with Snap benefits\, Medicaid\, and Kentucky Marketplace Insurance. Let her help you avoid those phone calls and red tape. \nThis program is designed for Adults.
URL:https://www.laruelibrary.org/event/kynect-21/
LOCATION:LaRue County Public Library\, 215 Lincoln Drive\, Hodgenville\, KY\, 42748\, United States
CATEGORIES:Adult,Adult Events
ATTACH;FMTTYPE=image/png:https://www.laruelibrary.org/wp-content/uploads/2023/08/kynect2.png
END:VEVENT
BEGIN:VEVENT
DTSTART;TZID=America/Kentucky/Louisville:20240813T110000
DTEND;TZID=America/Kentucky/Louisville:20240813T110000
DTSTAMP:20260421T205206
CREATED:20240713T151034Z
LAST-MODIFIED:20240713T151034Z
UID:10001381-1723546800-1723546800@www.laruelibrary.org
SUMMARY:Story Time
DESCRIPTION:Join us for a fun and fantastic story on Tuesday\, August 13th at 11 AM! \nStorytime is for children under the age of 5. \nThis is a great opportunity to grow young readers. We make learning fun by introducing children to books\, a love of reading\, and songs! We can’t wait to see you!
URL:https://www.laruelibrary.org/event/story-time-95/
LOCATION:LaRue County Public Library\, 215 Lincoln Drive\, Hodgenville\, KY\, 42748\, United States
CATEGORIES:Age Under 5 Years Old
ATTACH;FMTTYPE=image/png:https://www.laruelibrary.org/wp-content/uploads/2023/10/NST.0-1.png
END:VEVENT
END:VCALENDAR