BEGIN:VCALENDAR
VERSION:2.0
PRODID:-//LaRue County Public Library - ECPv6.15.20//NONSGML v1.0//EN
CALSCALE:GREGORIAN
METHOD:PUBLISH
X-ORIGINAL-URL:https://www.laruelibrary.org
X-WR-CALDESC:Events for LaRue County Public Library
REFRESH-INTERVAL;VALUE=DURATION:PT1H
X-Robots-Tag:noindex
X-PUBLISHED-TTL:PT1H
BEGIN:VTIMEZONE
TZID:America/Kentucky/Louisville
BEGIN:DAYLIGHT
TZOFFSETFROM:-0500
TZOFFSETTO:-0400
TZNAME:EDT
DTSTART:20230312T070000
END:DAYLIGHT
BEGIN:STANDARD
TZOFFSETFROM:-0400
TZOFFSETTO:-0500
TZNAME:EST
DTSTART:20231105T060000
END:STANDARD
BEGIN:DAYLIGHT
TZOFFSETFROM:-0500
TZOFFSETTO:-0400
TZNAME:EDT
DTSTART:20240310T070000
END:DAYLIGHT
BEGIN:STANDARD
TZOFFSETFROM:-0400
TZOFFSETTO:-0500
TZNAME:EST
DTSTART:20241103T060000
END:STANDARD
BEGIN:DAYLIGHT
TZOFFSETFROM:-0500
TZOFFSETTO:-0400
TZNAME:EDT
DTSTART:20250309T070000
END:DAYLIGHT
BEGIN:STANDARD
TZOFFSETFROM:-0400
TZOFFSETTO:-0500
TZNAME:EST
DTSTART:20251102T060000
END:STANDARD
END:VTIMEZONE
BEGIN:VEVENT
DTSTART;TZID=America/Kentucky/Louisville:20240708T100000
DTEND;TZID=America/Kentucky/Louisville:20240708T100000
DTSTAMP:20260421T144220
CREATED:20240615T144651Z
LAST-MODIFIED:20240615T155430Z
UID:10001332-1720432800-1720432800@www.laruelibrary.org
SUMMARY:Stretch and Shine
DESCRIPTION:Join us for Stretch and Shine and start your day off right! Free low-impact exercise class beginning at 10:00am. Let’s get those muscles moving! This program is designed for adults.
URL:https://www.laruelibrary.org/event/stretch-and-shine-35/2024-07-08/
LOCATION:KY
CATEGORIES:Adult,Adult Events
ATTACH;FMTTYPE=image/png:https://www.laruelibrary.org/wp-content/uploads/2023/03/Stretch-Adult-Event-1.png
END:VEVENT
BEGIN:VEVENT
DTSTART;TZID=America/Kentucky/Louisville:20240708T150000
DTEND;TZID=America/Kentucky/Louisville:20240708T150000
DTSTAMP:20260421T144220
CREATED:20240618T204001Z
LAST-MODIFIED:20240618T204001Z
UID:10001347-1720450800-1720450800@www.laruelibrary.org
SUMMARY:Watercolor Flowers with Melissa Newton
DESCRIPTION:Come learn how to make watercolor flowers with Crayola markers with local art teacher Melissa Newton. This class is available for children in elementary school through teens! We will begin creating on Monday\, July 8th at 3:00 PM! Call the library to register at 270-358-3851. 
URL:https://www.laruelibrary.org/event/watercolor-flowers-with-melissa-newton/
LOCATION:LaRue County Public Library\, 215 Lincoln Drive\, Hodgenville\, KY\, 42748\, United States
CATEGORIES:Grade School,High School,Middle School
ATTACH;FMTTYPE=image/jpeg:https://www.laruelibrary.org/wp-content/uploads/2024/06/Make-Watercolors-From-Markers-Hack-3A.jpg
END:VEVENT
BEGIN:VEVENT
DTSTART;TZID=America/Kentucky/Louisville:20240709T110000
DTEND;TZID=America/Kentucky/Louisville:20240709T110000
DTSTAMP:20260421T144220
CREATED:20240611T144317Z
LAST-MODIFIED:20240611T144317Z
UID:10001330-1720522800-1720522800@www.laruelibrary.org
SUMMARY:Once Upon an Orchestra
DESCRIPTION:Let the pages of “Where the Wild Things Are” come alive with a Louisville Orchestra ensemble on July 9th at 11:00AM EST. Join us at the Larue County Public Library for the captivating “Once Upon an Orchestra” series\, where live interactive storytelling meets the magic of music—an experience the whole family will enjoy. No need to RSVP for this free community event proudly presented as part of the LO’s Statewide ‘In Harmony Tour.’ \nA heartfelt thank you to the Kentucky General Assembly and the Tourism\, Arts\, and Heritage Cabinet for making these enriching performances possible!
URL:https://www.laruelibrary.org/event/once-upon-an-orchestra/
LOCATION:LaRue County Public Library\, 215 Lincoln Drive\, Hodgenville\, KY\, 42748\, United States
CATEGORIES:Adult,Adult Events,Age Under 5 Years Old,Ages 0 - 36 Months,Everyone,Family,Grade School,High School,Middle School,Youth Events
ORGANIZER;CN="LaRue Public Library":MAILTO:info@laruelibrary.org
END:VEVENT
BEGIN:VEVENT
DTSTART;TZID=America/Kentucky/Louisville:20240709T110000
DTEND;TZID=America/Kentucky/Louisville:20240709T110000
DTSTAMP:20260421T144220
CREATED:20240615T153620Z
LAST-MODIFIED:20240615T153620Z
UID:10001339-1720522800-1720522800@www.laruelibrary.org
SUMMARY:Where the Wild Things Are
DESCRIPTION:Join us for a live interactive storytelling of Where the Wild Things Are with the Louisville Orchestra Ensemble on Tuesday\, July 9th at 11 AM.
URL:https://www.laruelibrary.org/event/where-the-wild-things-are/
LOCATION:LaRue County Public Library\, 215 Lincoln Drive\, Hodgenville\, KY\, 42748\, United States
CATEGORIES:Everyone
END:VEVENT
BEGIN:VEVENT
DTSTART;TZID=America/Kentucky/Louisville:20240710T150000
DTEND;TZID=America/Kentucky/Louisville:20240710T150000
DTSTAMP:20260421T144220
CREATED:20240615T153813Z
LAST-MODIFIED:20240615T153813Z
UID:10001340-1720623600-1720623600@www.laruelibrary.org
SUMMARY:Soda Tab People
DESCRIPTION:Come customize your own figures made of soda tabs\, wire\, and beads of all kinds! Join us on Wednesday\, July 10th at 3 PM. This program\, for teens\, does not require registration.
URL:https://www.laruelibrary.org/event/soda-tab-people/
LOCATION:LaRue County Public Library\, 215 Lincoln Drive\, Hodgenville\, KY\, 42748\, United States
CATEGORIES:High School,Middle School
END:VEVENT
BEGIN:VEVENT
DTSTART;TZID=America/Kentucky/Louisville:20240713T100000
DTEND;TZID=America/Kentucky/Louisville:20240713T100000
DTSTAMP:20260421T144220
CREATED:20240615T154626Z
LAST-MODIFIED:20240624T182536Z
UID:10001341-1720864800-1720864800@www.laruelibrary.org
SUMMARY:Wool Processing Workshop
DESCRIPTION:Join Jacqueline McGinnity and learn how to process wool from start to finish. Join in and try or just sit down & watch. This is an open\, come & go event\, for ALL ages! We’ll see you on Saturday\, July 13th from 10 AM – 12 PM.
URL:https://www.laruelibrary.org/event/wool-processing-workshop/
LOCATION:LaRue County Public Library\, 215 Lincoln Drive\, Hodgenville\, KY\, 42748\, United States
CATEGORIES:High School,Middle School
END:VEVENT
BEGIN:VEVENT
DTSTART;VALUE=DATE:20240715
DTEND;VALUE=DATE:20240716
DTSTAMP:20260421T144220
CREATED:20240418T203741Z
LAST-MODIFIED:20240503T150234Z
UID:10001236-1721001600-1721087999@www.laruelibrary.org
SUMMARY:Play2Go
DESCRIPTION:Play2Go Exhibit is now open! Everyone is welcome! \nCome play and explore with us at ‘Science in Play2Go’ during open/operating hours here at LCPL! \n‘Kentucky Science Center’ developed ‘Science in Play2Go’ as a learning experience that makes science personal\, fun\, participatory\, and relevant.
URL:https://www.laruelibrary.org/event/play2go-3/2024-07-15/
LOCATION:LaRue County Public Library\, 215 Lincoln Drive\, Hodgenville\, KY\, 42748\, United States
CATEGORIES:Adult Events,Everyone,Youth Events
ORGANIZER;CN="LaRue Public Library":MAILTO:info@laruelibrary.org
END:VEVENT
BEGIN:VEVENT
DTSTART;TZID=America/Kentucky/Louisville:20240715T100000
DTEND;TZID=America/Kentucky/Louisville:20240715T100000
DTSTAMP:20260421T144220
CREATED:20240615T144651Z
LAST-MODIFIED:20240615T155430Z
UID:10001333-1721037600-1721037600@www.laruelibrary.org
SUMMARY:Stretch and Shine
DESCRIPTION:Join us for Stretch and Shine and start your day off right! Free low-impact exercise class beginning at 10:00am. Let’s get those muscles moving! This program is designed for adults.
URL:https://www.laruelibrary.org/event/stretch-and-shine-35/2024-07-15/
LOCATION:KY
CATEGORIES:Adult,Adult Events
ATTACH;FMTTYPE=image/png:https://www.laruelibrary.org/wp-content/uploads/2023/03/Stretch-Adult-Event-1.png
END:VEVENT
BEGIN:VEVENT
DTSTART;TZID=America/Kentucky/Louisville:20240715T140000
DTEND;TZID=America/Kentucky/Louisville:20240715T140000
DTSTAMP:20260421T144220
CREATED:20240620T165137Z
LAST-MODIFIED:20240620T165137Z
UID:10001358-1721052000-1721052000@www.laruelibrary.org
SUMMARY:LEGO Create
DESCRIPTION:Join us on Monday\, July 15th at 2:00pm for LEGO Create to do free play and challenges! \nGrade School through Teens. No sign up needed.
URL:https://www.laruelibrary.org/event/lego-create-2/
LOCATION:LaRue County Public Library\, 215 Lincoln Drive\, Hodgenville\, KY\, 42748\, United States
CATEGORIES:Grade School,High School,Middle School,Youth Events
ATTACH;FMTTYPE=image/png:https://www.laruelibrary.org/wp-content/uploads/2024/06/Lego-Create.png
ORGANIZER;CN="LaRue Public Library":MAILTO:info@laruelibrary.org
END:VEVENT
BEGIN:VEVENT
DTSTART;TZID=America/Kentucky/Louisville:20240716T110000
DTEND;TZID=America/Kentucky/Louisville:20240716T110000
DTSTAMP:20260421T144220
CREATED:20240620T193932Z
LAST-MODIFIED:20240620T193932Z
UID:10001368-1721127600-1721127600@www.laruelibrary.org
SUMMARY:Story Time
DESCRIPTION:Join us for a fun and fantastic story this Tuesday at 11:00 AM! \nStory time is for children under the ages of 5. \nThis is a great opportunity to grow young readers. We make learning fun by introducing children to books\, love of reading\, and songs! We can’t wait to see you!
URL:https://www.laruelibrary.org/event/story-time-93/2024-07-16/
LOCATION:LaRue County Public Library\, 215 Lincoln Drive\, Hodgenville\, KY\, 42748\, United States
CATEGORIES:Age Under 5 Years Old,Youth Events
ATTACH;FMTTYPE=image/png:https://www.laruelibrary.org/wp-content/uploads/2023/10/NST.0-1.png
ORGANIZER;CN="LaRue Public Library":MAILTO:info@laruelibrary.org
END:VEVENT
BEGIN:VEVENT
DTSTART;TZID=America/Kentucky/Louisville:20240716T150000
DTEND;TZID=America/Kentucky/Louisville:20240716T150000
DTSTAMP:20260421T144220
CREATED:20240620T175632Z
LAST-MODIFIED:20240620T175632Z
UID:10001362-1721142000-1721142000@www.laruelibrary.org
SUMMARY:Paper Chain Snakes
DESCRIPTION:Join us in celebrating World Snake Day on Tuesday\, July 16th at 3:00pm! \nWe’ll be outside if the weather is nice\, so bring your sunscreen and bug spray! \nGrade School – Teens. No sign up needed!
URL:https://www.laruelibrary.org/event/paper-chain-snakes/
LOCATION:LaRue County Public Library\, 215 Lincoln Drive\, Hodgenville\, KY\, 42748\, United States
CATEGORIES:Grade School,High School,Middle School,Youth Events
ORGANIZER;CN="LaRue Public Library":MAILTO:info@laruelibrary.org
END:VEVENT
BEGIN:VEVENT
DTSTART;TZID=America/Kentucky/Louisville:20240717T100000
DTEND;TZID=America/Kentucky/Louisville:20240717T100000
DTSTAMP:20260421T144220
CREATED:20240620T165643Z
LAST-MODIFIED:20240620T165643Z
UID:10001359-1721210400-1721210400@www.laruelibrary.org
SUMMARY:Melissa Newton Art Class
DESCRIPTION:Join us and Melissa Newton as you paint your own pottery on Wednesday\, July 17th at 10:00am! \n*If you attended the first pottery painting event\, you CANNOT sign up for this one. We want to allow other kids the opportunity to participate in pottery art!* \nCall to register!
URL:https://www.laruelibrary.org/event/melissa-newton-art-class-2/
LOCATION:LaRue County Public Library\, 215 Lincoln Drive\, Hodgenville\, KY\, 42748\, United States
CATEGORIES:Grade School,High School,Middle School,Youth Events
ORGANIZER;CN="LaRue Public Library":MAILTO:info@laruelibrary.org
END:VEVENT
BEGIN:VEVENT
DTSTART;TZID=America/Kentucky/Louisville:20240718T100000
DTEND;TZID=America/Kentucky/Louisville:20240718T100000
DTSTAMP:20260421T144220
CREATED:20240620T170035Z
LAST-MODIFIED:20240620T170035Z
UID:10001360-1721296800-1721296800@www.laruelibrary.org
SUMMARY:Safari Scavenger Hunt
DESCRIPTION:Grab you checklist\, your safari hat\, and head off into the wild library in search of animal friends on Thursday\, July 18th at 10:00am for a simple preschool-aged scavenger hunt! \nNo sign up needed.
URL:https://www.laruelibrary.org/event/safari-scavenger-hunt/
LOCATION:LaRue County Public Library\, 215 Lincoln Drive\, Hodgenville\, KY\, 42748\, United States
CATEGORIES:Age Under 5 Years Old,Youth Events
ORGANIZER;CN="LaRue Public Library":MAILTO:info@laruelibrary.org
END:VEVENT
BEGIN:VEVENT
DTSTART;TZID=America/Kentucky/Louisville:20240718T153000
DTEND;TZID=America/Kentucky/Louisville:20240718T153000
DTSTAMP:20260421T144220
CREATED:20240620T155723Z
LAST-MODIFIED:20240620T160335Z
UID:10001352-1721316600-1721316600@www.laruelibrary.org
SUMMARY:Book Club
DESCRIPTION:Come join us on Thursday\, July 18th at 3:30pm for Book Club! \nThis is an Adult program.
URL:https://www.laruelibrary.org/event/book-club-15/
LOCATION:LaRue County Public Library\, 215 Lincoln Drive\, Hodgenville\, KY\, 42748\, United States
CATEGORIES:Adult,Adult Events
ATTACH;FMTTYPE=image/jpeg:https://www.laruelibrary.org/wp-content/uploads/2023/07/bc2.jpg
ORGANIZER;CN="LaRue Public Library":MAILTO:info@laruelibrary.org
END:VEVENT
BEGIN:VEVENT
DTSTART;TZID=America/Kentucky/Louisville:20240718T163000
DTEND;TZID=America/Kentucky/Louisville:20240718T163000
DTSTAMP:20260421T144220
CREATED:20240620T194156Z
LAST-MODIFIED:20240620T194156Z
UID:10001371-1721320200-1721320200@www.laruelibrary.org
SUMMARY:Board Meeting
DESCRIPTION:LCPL Board Meeting. Thursday\, July 18th at 4:30 pm.
URL:https://www.laruelibrary.org/event/board-meeting-13/
LOCATION:LaRue County Public Library\, 215 Lincoln Drive\, Hodgenville\, KY\, 42748\, United States
CATEGORIES:Adult,Adult Events
ATTACH;FMTTYPE=image/jpeg:https://www.laruelibrary.org/wp-content/uploads/2023/07/brm2.jpg
ORGANIZER;CN="LaRue Public Library":MAILTO:info@laruelibrary.org
END:VEVENT
BEGIN:VEVENT
DTSTART;TZID=America/Kentucky/Louisville:20240718T170000
DTEND;TZID=America/Kentucky/Louisville:20240718T170000
DTSTAMP:20260421T144220
CREATED:20240620T162306Z
LAST-MODIFIED:20240620T162306Z
UID:10001355-1721322000-1721322000@www.laruelibrary.org
SUMMARY:Watercolor Class
DESCRIPTION:Join us on Thursday\, July 18th at 5:00pm as April Vines leads us through a watercolor painting class! \nTeens & Adults. Class limit of 20. Call to sign up.
URL:https://www.laruelibrary.org/event/watercolor-class/
LOCATION:LaRue County Public Library\, 215 Lincoln Drive\, Hodgenville\, KY\, 42748\, United States
CATEGORIES:Adult,Adult Events,High School,Youth Events
ORGANIZER;CN="LaRue Public Library":MAILTO:info@laruelibrary.org
END:VEVENT
BEGIN:VEVENT
DTSTART;TZID=America/Kentucky/Louisville:20240719T120000
DTEND;TZID=America/Kentucky/Louisville:20240719T120000
DTSTAMP:20260421T144220
CREATED:20240620T170444Z
LAST-MODIFIED:20240620T170444Z
UID:10001361-1721390400-1721390400@www.laruelibrary.org
SUMMARY:Parfaits
DESCRIPTION:Summer is hot\, but parfaits are not! Build your own parfait on Friday\, July 19th at 12:00pm! \nWe will have several different ingredients to add into a few different types of yogurt! \nGrade School – Teens. Class limit of 10. Call to register.
URL:https://www.laruelibrary.org/event/parfaits/
LOCATION:LaRue County Public Library\, 215 Lincoln Drive\, Hodgenville\, KY\, 42748\, United States
CATEGORIES:Grade School,High School,Middle School,Youth Events
ORGANIZER;CN="LaRue Public Library":MAILTO:info@laruelibrary.org
END:VEVENT
BEGIN:VEVENT
DTSTART;TZID=America/Kentucky/Louisville:20240719T150000
DTEND;TZID=America/Kentucky/Louisville:20240719T150000
DTSTAMP:20260421T144220
CREATED:20240620T164612Z
LAST-MODIFIED:20240620T164612Z
UID:10001357-1721401200-1721401200@www.laruelibrary.org
SUMMARY:Ribbon Roses
DESCRIPTION:Join us on Friday\, July 19th at 3:00pm to make beautiful ribbon roses! \nTeens & Adults. Class limit of 20. Call to sign up.
URL:https://www.laruelibrary.org/event/ribbon-roses/
LOCATION:LaRue County Public Library\, 215 Lincoln Drive\, Hodgenville\, KY\, 42748\, United States
CATEGORIES:Adult,Adult Events,High School,Youth Events
ORGANIZER;CN="LaRue Public Library":MAILTO:info@laruelibrary.org
END:VEVENT
BEGIN:VEVENT
DTSTART;VALUE=DATE:20240722
DTEND;VALUE=DATE:20240723
DTSTAMP:20260421T144220
CREATED:20240418T203741Z
LAST-MODIFIED:20240503T150234Z
UID:10001237-1721606400-1721692799@www.laruelibrary.org
SUMMARY:Play2Go
DESCRIPTION:Play2Go Exhibit is now open! Everyone is welcome! \nCome play and explore with us at ‘Science in Play2Go’ during open/operating hours here at LCPL! \n‘Kentucky Science Center’ developed ‘Science in Play2Go’ as a learning experience that makes science personal\, fun\, participatory\, and relevant.
URL:https://www.laruelibrary.org/event/play2go-3/2024-07-22/
LOCATION:LaRue County Public Library\, 215 Lincoln Drive\, Hodgenville\, KY\, 42748\, United States
CATEGORIES:Adult Events,Everyone,Youth Events
ORGANIZER;CN="LaRue Public Library":MAILTO:info@laruelibrary.org
END:VEVENT
BEGIN:VEVENT
DTSTART;TZID=America/Kentucky/Louisville:20240722T100000
DTEND;TZID=America/Kentucky/Louisville:20240722T100000
DTSTAMP:20260421T144220
CREATED:20240615T144651Z
LAST-MODIFIED:20240615T155430Z
UID:10001344-1721642400-1721642400@www.laruelibrary.org
SUMMARY:Stretch and Shine
DESCRIPTION:Join us for Stretch and Shine and start your day off right! Free low-impact exercise class beginning at 10:00am. Let’s get those muscles moving! This program is designed for adults.
URL:https://www.laruelibrary.org/event/stretch-and-shine-35/2024-07-22/
LOCATION:KY
CATEGORIES:Adult,Adult Events
ATTACH;FMTTYPE=image/png:https://www.laruelibrary.org/wp-content/uploads/2023/03/Stretch-Adult-Event-1.png
END:VEVENT
BEGIN:VEVENT
DTSTART;TZID=America/Kentucky/Louisville:20240722T143000
DTEND;TZID=America/Kentucky/Louisville:20240722T143000
DTSTAMP:20260421T144220
CREATED:20240620T175910Z
LAST-MODIFIED:20240620T175910Z
UID:10001363-1721658600-1721658600@www.laruelibrary.org
SUMMARY:Family Movie!
DESCRIPTION:Join us on Monday\, July 22nd @ 2:45pm for a snack and a fun family movie! \nEveryone welcome! No registration needed.
URL:https://www.laruelibrary.org/event/family-movie-3/
LOCATION:LaRue County Public Library\, 215 Lincoln Drive\, Hodgenville\, KY\, 42748\, United States
CATEGORIES:Family,Youth Events
ATTACH;FMTTYPE=image/png:https://www.laruelibrary.org/wp-content/uploads/2024/06/Family-Movie1.png
ORGANIZER;CN="LaRue Public Library":MAILTO:info@laruelibrary.org
END:VEVENT
BEGIN:VEVENT
DTSTART;TZID=America/Kentucky/Louisville:20240723T110000
DTEND;TZID=America/Kentucky/Louisville:20240723T110000
DTSTAMP:20260421T144220
CREATED:20240620T193932Z
LAST-MODIFIED:20240620T193932Z
UID:10001369-1721732400-1721732400@www.laruelibrary.org
SUMMARY:Story Time
DESCRIPTION:Join us for a fun and fantastic story this Tuesday at 11:00 AM! \nStory time is for children under the ages of 5. \nThis is a great opportunity to grow young readers. We make learning fun by introducing children to books\, love of reading\, and songs! We can’t wait to see you!
URL:https://www.laruelibrary.org/event/story-time-93/2024-07-23/
LOCATION:LaRue County Public Library\, 215 Lincoln Drive\, Hodgenville\, KY\, 42748\, United States
CATEGORIES:Age Under 5 Years Old,Youth Events
ATTACH;FMTTYPE=image/png:https://www.laruelibrary.org/wp-content/uploads/2023/10/NST.0-1.png
ORGANIZER;CN="LaRue Public Library":MAILTO:info@laruelibrary.org
END:VEVENT
BEGIN:VEVENT
DTSTART;TZID=America/Kentucky/Louisville:20240723T170000
DTEND;TZID=America/Kentucky/Louisville:20240723T170000
DTSTAMP:20260421T144220
CREATED:20240620T161844Z
LAST-MODIFIED:20240620T161844Z
UID:10001354-1721754000-1721754000@www.laruelibrary.org
SUMMARY:Native Reptiles & Amphibians
DESCRIPTION:Join us on Tuesday\, July 23rd at 5:00pm as Damon Barnes\, Knob Creek Naturalist\, teaches us about reptiles and amphibians native to Kentucky! \nYou will also get to meet some of Damon’s “pets”. \nEveryone welcome! No sign up needed.
URL:https://www.laruelibrary.org/event/native-reptiles-amphibians/
LOCATION:LaRue County Public Library\, 215 Lincoln Drive\, Hodgenville\, KY\, 42748\, United States
CATEGORIES:Adult,Adult Events,Everyone,Family,Youth Events
ORGANIZER;CN="LaRue Public Library":MAILTO:info@laruelibrary.org
END:VEVENT
BEGIN:VEVENT
DTSTART;TZID=America/Kentucky/Louisville:20240724T130000
DTEND;TZID=America/Kentucky/Louisville:20240724T130000
DTSTAMP:20260421T144220
CREATED:20240620T192024Z
LAST-MODIFIED:20240620T192024Z
UID:10001364-1721826000-1721826000@www.laruelibrary.org
SUMMARY:Screenprinting
DESCRIPTION:Learn how to make your own stencil and transfer your art onto a tote bag to take home on Wednesday\, July 24th @ 3:30pm. \n*The Teens will be using an exacto knife with cut-resistant gloves.* \nClass for Teens. Registration required.
URL:https://www.laruelibrary.org/event/screenprinting-2/
LOCATION:LaRue County Public Library\, 215 Lincoln Drive\, Hodgenville\, KY\, 42748\, United States
CATEGORIES:High School,Youth Events
ORGANIZER;CN="LaRue Public Library":MAILTO:info@laruelibrary.org
END:VEVENT
BEGIN:VEVENT
DTSTART;TZID=America/Kentucky/Louisville:20240725T100000
DTEND;TZID=America/Kentucky/Louisville:20240725T100000
DTSTAMP:20260421T144220
CREATED:20240620T162644Z
LAST-MODIFIED:20240620T162644Z
UID:10001356-1721901600-1721901600@www.laruelibrary.org
SUMMARY:Coffee for Veterans
DESCRIPTION:Join us on Thursday\, July 25th @ 10:00am in the LCPL community room for a very special program (with spouses/partners being welcome). \nIsmael John\, with the Kentucky Department of Veterans Affairs\, will be our special guest.
URL:https://www.laruelibrary.org/event/coffee-for-veterans-6/
LOCATION:LaRue County Public Library\, 215 Lincoln Drive\, Hodgenville\, KY\, 42748\, United States
CATEGORIES:Adult,Adult Events
ATTACH;FMTTYPE=image/png:https://www.laruelibrary.org/wp-content/uploads/2024/01/vetcoffee.png
ORGANIZER;CN="LaRue Public Library":MAILTO:info@laruelibrary.org
END:VEVENT
BEGIN:VEVENT
DTSTART;TZID=America/Kentucky/Louisville:20240725T120000
DTEND;TZID=America/Kentucky/Louisville:20240725T170000
DTSTAMP:20260421T144220
CREATED:20240620T160249Z
LAST-MODIFIED:20240620T160249Z
UID:10001353-1721908800-1721926800@www.laruelibrary.org
SUMMARY:Bloodmobile
DESCRIPTION:Come down to the Library on Thursday\, July 25th from 12:00pm-5:00pm to donate blood to the American Red Cross. \nHelp do your part! Schedule appointment now to save a life at redcross.org. \nYou will be entered for one of two $25 gift cards\, courtesy of the Friends of the Library! \nThis program is designed for Adults.
URL:https://www.laruelibrary.org/event/bloodmobile-8/
LOCATION:LaRue County Public Library\, 215 Lincoln Drive\, Hodgenville\, KY\, 42748\, United States
CATEGORIES:Adult,Adult Events,High School,Youth Events
ATTACH;FMTTYPE=image/png:https://www.laruelibrary.org/wp-content/uploads/2024/02/Blddrv.png
ORGANIZER;CN="LaRue Public Library":MAILTO:info@laruelibrary.org
END:VEVENT
BEGIN:VEVENT
DTSTART;TZID=America/Kentucky/Louisville:20240725T130000
DTEND;TZID=America/Kentucky/Louisville:20240725T143000
DTSTAMP:20260421T144220
CREATED:20240620T155012Z
LAST-MODIFIED:20240620T155012Z
UID:10001351-1721912400-1721917800@www.laruelibrary.org
SUMMARY:Kynect
DESCRIPTION:What can Kynect do for you? Ginny Whitt will set up in the lobby on Thursday\, July 25th from 1:00 PM – 2:30 PM. \nYou might be surprised by what she can help with Snap benefits\, Medicaid\, and Kentucky Marketplace Insurance. Let her help you avoid those phone calls and red tape. \nThis program is designed for Adults.
URL:https://www.laruelibrary.org/event/kynect-20/
LOCATION:LaRue County Public Library\, 215 Lincoln Drive\, Hodgenville\, KY\, 42748\, United States
CATEGORIES:Adult,Adult Events
ATTACH;FMTTYPE=image/png:https://www.laruelibrary.org/wp-content/uploads/2023/08/kynect2.png
ORGANIZER;CN="LaRue Public Library":MAILTO:info@laruelibrary.org
END:VEVENT
BEGIN:VEVENT
DTSTART;TZID=America/Kentucky/Louisville:20240726T150000
DTEND;TZID=America/Kentucky/Louisville:20240726T150000
DTSTAMP:20260421T144220
CREATED:20240620T154725Z
LAST-MODIFIED:20240620T154725Z
UID:10001350-1722006000-1722006000@www.laruelibrary.org
SUMMARY:Raptor Rehabilitation of Kentucky\, Inc.
DESCRIPTION:Join us on Friday\, July 26th at 3:00pm as Dave of RROKI shows us not just the wonderful raptors of Kentucky\, but also shares just what it is that the RROKI center does! \nHe will also be bringing his bald eagle for us to see up close and personal! \nEveryone welcome! No sign up needed.
URL:https://www.laruelibrary.org/event/raptor-rehabilitation-of-kentucky-inc/
LOCATION:LaRue County Public Library\, 215 Lincoln Drive\, Hodgenville\, KY\, 42748\, United States
CATEGORIES:Adult,Adult Events,Everyone,Family,Youth Events
ORGANIZER;CN="LaRue Public Library":MAILTO:info@laruelibrary.org
END:VEVENT
BEGIN:VEVENT
DTSTART;TZID=America/Kentucky/Louisville:20240727T100000
DTEND;TZID=America/Kentucky/Louisville:20240727T130000
DTSTAMP:20260421T144220
CREATED:20240620T194414Z
LAST-MODIFIED:20240627T135202Z
UID:10001372-1722074400-1722085200@www.laruelibrary.org
SUMMARY:Science Day with the Kentucky Science Center
DESCRIPTION:Enjoy a fun Science Day with our Kentucky Science Center on Saturday\, July 27th from 10:00am-1:00pm! \nBuild and launch a rocket\, watch a vortex cannon make smoke rings with a smoke gun\, and enjoy a few demonstrations from the KSC scientists! \nEverybody welcome! No registration needed!
URL:https://www.laruelibrary.org/event/science-day-with-the-kentucky-science-center/
LOCATION:LaRue County Public Library\, 215 Lincoln Drive\, Hodgenville\, KY\, 42748\, United States
CATEGORIES:Adult,Adult Events,Everyone,Family,Youth Events
ORGANIZER;CN="LaRue Public Library":MAILTO:info@laruelibrary.org
END:VEVENT
BEGIN:VEVENT
DTSTART;VALUE=DATE:20240729
DTEND;VALUE=DATE:20240730
DTSTAMP:20260421T144220
CREATED:20240418T203741Z
LAST-MODIFIED:20240503T150234Z
UID:10001238-1722211200-1722297599@www.laruelibrary.org
SUMMARY:Play2Go
DESCRIPTION:Play2Go Exhibit is now open! Everyone is welcome! \nCome play and explore with us at ‘Science in Play2Go’ during open/operating hours here at LCPL! \n‘Kentucky Science Center’ developed ‘Science in Play2Go’ as a learning experience that makes science personal\, fun\, participatory\, and relevant.
URL:https://www.laruelibrary.org/event/play2go-3/2024-07-29/
LOCATION:LaRue County Public Library\, 215 Lincoln Drive\, Hodgenville\, KY\, 42748\, United States
CATEGORIES:Adult Events,Everyone,Youth Events
ORGANIZER;CN="LaRue Public Library":MAILTO:info@laruelibrary.org
END:VEVENT
END:VCALENDAR