BEGIN:VCALENDAR
VERSION:2.0
PRODID:-//LaRue County Public Library - ECPv6.15.20//NONSGML v1.0//EN
CALSCALE:GREGORIAN
METHOD:PUBLISH
X-WR-CALNAME:LaRue County Public Library
X-ORIGINAL-URL:https://www.laruelibrary.org
X-WR-CALDESC:Events for LaRue County Public Library
REFRESH-INTERVAL;VALUE=DURATION:PT1H
X-Robots-Tag:noindex
X-PUBLISHED-TTL:PT1H
BEGIN:VTIMEZONE
TZID:America/Kentucky/Louisville
BEGIN:DAYLIGHT
TZOFFSETFROM:-0500
TZOFFSETTO:-0400
TZNAME:EDT
DTSTART:20230312T070000
END:DAYLIGHT
BEGIN:STANDARD
TZOFFSETFROM:-0400
TZOFFSETTO:-0500
TZNAME:EST
DTSTART:20231105T060000
END:STANDARD
BEGIN:DAYLIGHT
TZOFFSETFROM:-0500
TZOFFSETTO:-0400
TZNAME:EDT
DTSTART:20240310T070000
END:DAYLIGHT
BEGIN:STANDARD
TZOFFSETFROM:-0400
TZOFFSETTO:-0500
TZNAME:EST
DTSTART:20241103T060000
END:STANDARD
BEGIN:DAYLIGHT
TZOFFSETFROM:-0500
TZOFFSETTO:-0400
TZNAME:EDT
DTSTART:20250309T070000
END:DAYLIGHT
BEGIN:STANDARD
TZOFFSETFROM:-0400
TZOFFSETTO:-0500
TZNAME:EST
DTSTART:20251102T060000
END:STANDARD
END:VTIMEZONE
BEGIN:VEVENT
DTSTART;TZID=America/Kentucky/Louisville:20240905T160000
DTEND;TZID=America/Kentucky/Louisville:20240905T160000
DTSTAMP:20260422T041234
CREATED:20240817T150450Z
LAST-MODIFIED:20240817T150450Z
UID:10001433-1725552000-1725552000@www.laruelibrary.org
SUMMARY:Friends of the Library
DESCRIPTION:Join us for a Friends of the Library meeting. Become a member and help us promote the LaRue County Public Library. Membership enables you to join your local branch chapter and become involved with many wonderful library activities throughout the year. Benefits include invitations to special Friends’ events\, Volunteer opportunities\, and advocacy opportunities. Hope to see you there!
URL:https://www.laruelibrary.org/event/friends-of-the-library-16/
LOCATION:LaRue County Public Library\, 215 Lincoln Drive\, Hodgenville\, KY\, 42748\, United States
CATEGORIES:Adult,Adult Events
ATTACH;FMTTYPE=image/png:https://www.laruelibrary.org/wp-content/uploads/2023/03/BecomeLibraryFriend.png
END:VEVENT
BEGIN:VEVENT
DTSTART;TZID=America/Kentucky/Louisville:20240906T110000
DTEND;TZID=America/Kentucky/Louisville:20240906T110000
DTSTAMP:20260422T041234
CREATED:20240817T143226Z
LAST-MODIFIED:20240817T143226Z
UID:10001425-1725620400-1725620400@www.laruelibrary.org
SUMMARY:Pre-K Sensory Bins
DESCRIPTION:We’re falling into autumn with pre-k sensory bins. Children ages 5 and under\, join us on Friday\, September 6th at 11 AM. Pre-registration is not required.
URL:https://www.laruelibrary.org/event/pre-k-sensory-bins-4/
LOCATION:LaRue County Public Library\, 215 Lincoln Drive\, Hodgenville\, KY\, 42748\, United States
CATEGORIES:Age Under 5 Years Old
ATTACH;FMTTYPE=image/jpeg:https://www.laruelibrary.org/wp-content/uploads/2024/08/pexels-pixabay-235721-scaled.jpg
END:VEVENT
BEGIN:VEVENT
DTSTART;TZID=America/Kentucky/Louisville:20240906T153000
DTEND;TZID=America/Kentucky/Louisville:20240906T153000
DTSTAMP:20260422T041234
CREATED:20240817T150848Z
LAST-MODIFIED:20240817T150848Z
UID:10001434-1725636600-1725636600@www.laruelibrary.org
SUMMARY:Preparedness Workshop
DESCRIPTION:Do you know what to do in the event of a disaster? Join us on Friday\, September 6th at 3:30 for our program\, In the Face of Disaster: Disaster Readiness and Response\, with Marla Stillwell. Everyone is welcome to attend!
URL:https://www.laruelibrary.org/event/preparedness-workshop/
LOCATION:LaRue County Public Library\, 215 Lincoln Drive\, Hodgenville\, KY\, 42748\, United States
CATEGORIES:Everyone
END:VEVENT
BEGIN:VEVENT
DTSTART;TZID=America/Kentucky/Louisville:20240909T100000
DTEND;TZID=America/Kentucky/Louisville:20240909T100000
DTSTAMP:20260422T041234
CREATED:20240817T150946Z
LAST-MODIFIED:20240817T150946Z
UID:10001435-1725876000-1725876000@www.laruelibrary.org
SUMMARY:Stretch and Shine
DESCRIPTION:Join us for Stretch and Shine and start your day off right! Free\, low-impact exercise class beginning at 10:00 am. Let’s get those muscles moving! This program is designed for adults.
URL:https://www.laruelibrary.org/event/stretch-and-shine-37/
LOCATION:LaRue County Public Library\, 215 Lincoln Drive\, Hodgenville\, KY\, 42748\, United States
CATEGORIES:Adult,Adult Events
ATTACH;FMTTYPE=image/png:https://www.laruelibrary.org/wp-content/uploads/2023/03/Stretch-Adult-Event-1.png
END:VEVENT
BEGIN:VEVENT
DTSTART;TZID=America/Kentucky/Louisville:20240909T110000
DTEND;TZID=America/Kentucky/Louisville:20240909T110000
DTSTAMP:20260422T041234
CREATED:20240718T211711Z
LAST-MODIFIED:20240718T211711Z
UID:10001417-1725879600-1725879600@www.laruelibrary.org
SUMMARY:Healthy Choices
DESCRIPTION:Join us for a free series of classes for adults\, that focuses on cooking skills and stretching your food dollars\, all while making healthy choices! At each class\, you will sample some of our yummy recipes we offer and you will receive a small kitchen are limited. Sign up today – spaces are limited! Call 270-358-3401 or email susan.riggs@uky.edu! \nThis program begins at 11 AM and will be held on the following dates: August 5\, 12\, 19\, 26\, and September 9.
URL:https://www.laruelibrary.org/event/healthy-choices/2024-09-09/
LOCATION:KY
CATEGORIES:Adult,Adult Events
ATTACH;FMTTYPE=image/png:https://www.laruelibrary.org/wp-content/uploads/2024/07/Healthy.png
END:VEVENT
BEGIN:VEVENT
DTSTART;TZID=America/Kentucky/Louisville:20240909T140000
DTEND;TZID=America/Kentucky/Louisville:20240909T140000
DTSTAMP:20260422T041234
CREATED:20240817T151431Z
LAST-MODIFIED:20240817T151431Z
UID:10001436-1725890400-1725890400@www.laruelibrary.org
SUMMARY:Community Games
DESCRIPTION:Come and have some game day fun here at the library at 2:00 pm! \nBring your friends\, family\, and a board game (or choose one of ours) and enjoy!
URL:https://www.laruelibrary.org/event/community-games-32/2024-09-09/
LOCATION:LaRue County Public Library\, 215 Lincoln Drive\, Hodgenville\, KY\, 42748\, United States
CATEGORIES:Everyone
END:VEVENT
BEGIN:VEVENT
DTSTART;TZID=America/Kentucky/Louisville:20240910T110000
DTEND;TZID=America/Kentucky/Louisville:20240910T110000
DTSTAMP:20260422T041234
CREATED:20240820T154639Z
LAST-MODIFIED:20240820T154639Z
UID:10001460-1725966000-1725966000@www.laruelibrary.org
SUMMARY:Story Time
DESCRIPTION:Join us for a fun and fantastic story this Tuesday at 11:00 AM! \nStory time is for children under the ages of 5. \nThis is a great opportunity to grow young readers. We make learning fun by introducing children to books\, love of reading\, and songs! We can’t wait to see you!
URL:https://www.laruelibrary.org/event/story-time-101/2024-09-10/
LOCATION:LaRue County Public Library\, 215 Lincoln Drive\, Hodgenville\, KY\, 42748\, United States
CATEGORIES:Age Under 5 Years Old,Youth Events
ATTACH;FMTTYPE=image/png:https://www.laruelibrary.org/wp-content/uploads/2023/10/NST.0-1.png
ORGANIZER;CN="LaRue Public Library":MAILTO:info@laruelibrary.org
END:VEVENT
BEGIN:VEVENT
DTSTART;TZID=America/Kentucky/Louisville:20240910T160000
DTEND;TZID=America/Kentucky/Louisville:20240910T160000
DTSTAMP:20260422T041234
CREATED:20240817T151644Z
LAST-MODIFIED:20240817T151644Z
UID:10001437-1725984000-1725984000@www.laruelibrary.org
SUMMARY:Pumpkin Protein Balls
DESCRIPTION:Discover no-bake recipes for pumpkin protein balls. Grade school through teens are welcome to attend on Tuesday\, September 10th at 4 PM. Please call the library to register at 270-358-3851.
URL:https://www.laruelibrary.org/event/pumpkin-protein-balls/
LOCATION:LaRue County Public Library\, 215 Lincoln Drive\, Hodgenville\, KY\, 42748\, United States
CATEGORIES:Grade School,High School,Middle School
END:VEVENT
BEGIN:VEVENT
DTSTART;TZID=America/Kentucky/Louisville:20240910T173000
DTEND;TZID=America/Kentucky/Louisville:20240910T183000
DTSTAMP:20260422T041234
CREATED:20240817T145100Z
LAST-MODIFIED:20240820T145815Z
UID:10001430-1725989400-1725993000@www.laruelibrary.org
SUMMARY:American Sign Language Class
DESCRIPTION:Summer Atteberry\, certified teacher of the deaf/hard of hearing and Kentucky School for the Deaf Outreach Consultant\, will host a series of ASL classes on Tuesdays in September. The first class begins on Tuesday\, September 3rd from 5:30-6:30 and will continue each Tuesday through September 24th.  \nInterested teens and adults can call the library to register. Please ensure you can attend all four sessions when registering.
URL:https://www.laruelibrary.org/event/american-sign-language-class/2024-09-10/
LOCATION:LaRue County Public Library\, 215 Lincoln Drive\, Hodgenville\, KY\, 42748\, United States
CATEGORIES:Adult,Adult Events,High School,Middle School
ATTACH;FMTTYPE=image/jpeg:https://www.laruelibrary.org/wp-content/uploads/2024/08/asl.jpg
END:VEVENT
BEGIN:VEVENT
DTSTART;TZID=America/Kentucky/Louisville:20240912T133000
DTEND;TZID=America/Kentucky/Louisville:20240912T133000
DTSTAMP:20260422T041234
CREATED:20240820T154338Z
LAST-MODIFIED:20240820T154338Z
UID:10001457-1726147800-1726147800@www.laruelibrary.org
SUMMARY:Story Time
DESCRIPTION:Join us for a fun and fantastic story this Thursday at 1:30 PM! \nStory time is for children under the ages of 5. \nThis is a great opportunity to grow young readers. We make learning fun by introducing children to books\, love of reading\, and songs! We can’t wait to see you!
URL:https://www.laruelibrary.org/event/story-time-100/2024-09-12/
LOCATION:LaRue County Public Library\, 215 Lincoln Drive\, Hodgenville\, KY\, 42748\, United States
CATEGORIES:Age Under 5 Years Old,Youth Events
ATTACH;FMTTYPE=image/png:https://www.laruelibrary.org/wp-content/uploads/2023/10/NST.0-1.png
ORGANIZER;CN="LaRue Public Library":MAILTO:info@laruelibrary.org
END:VEVENT
BEGIN:VEVENT
DTSTART;TZID=America/Kentucky/Louisville:20240912T154500
DTEND;TZID=America/Kentucky/Louisville:20240912T154500
DTSTAMP:20260422T041234
CREATED:20240817T144146Z
LAST-MODIFIED:20240817T144146Z
UID:10001428-1726155900-1726155900@www.laruelibrary.org
SUMMARY:Melissa Newton Art Class
DESCRIPTION:Join us to make fall trees with acrylic paint on canvas with instructor Melissa Newton! Grade school through teens are welcome to attend on Thursday\, September 12th at 3:45 PM. To register\, please call the library at 270-358-3851.
URL:https://www.laruelibrary.org/event/melissa-newton-art-class-3/
LOCATION:LaRue County Public Library\, 215 Lincoln Drive\, Hodgenville\, KY\, 42748\, United States
CATEGORIES:Grade School,Middle School
ATTACH;FMTTYPE=image/webp:https://www.laruelibrary.org/wp-content/uploads/2024/08/il_fullxfull.3126064350_psxf-scaled.webp
END:VEVENT
BEGIN:VEVENT
DTSTART;TZID=America/Kentucky/Louisville:20240912T173000
DTEND;TZID=America/Kentucky/Louisville:20240912T173000
DTSTAMP:20260422T041234
CREATED:20240817T151912Z
LAST-MODIFIED:20240817T151912Z
UID:10001438-1726162200-1726162200@www.laruelibrary.org
SUMMARY:Court Appointed Special Advocates (CASA) Program
DESCRIPTION:Connect with CASA (Court Appointed Special Advocates for Children) for an informative session about becoming an advocate for abused and neglected children in our local court system. CASA will share the process for becoming a volunteer\, the training requirements\, and the responsibilities of a court-appointed advocate.
URL:https://www.laruelibrary.org/event/court-appointed-special-advocates-casa-program/
LOCATION:LaRue County Public Library\, 215 Lincoln Drive\, Hodgenville\, KY\, 42748\, United States
CATEGORIES:Everyone
ATTACH;FMTTYPE=image/png:https://www.laruelibrary.org/wp-content/uploads/2024/08/main_logo_retina2.png
END:VEVENT
BEGIN:VEVENT
DTSTART;TZID=America/Kentucky/Louisville:20240913T153000
DTEND;TZID=America/Kentucky/Louisville:20240913T153000
DTSTAMP:20260422T041234
CREATED:20240817T152133Z
LAST-MODIFIED:20240817T152133Z
UID:10001439-1726241400-1726241400@www.laruelibrary.org
SUMMARY:Benefits of Massage
DESCRIPTION:September is Self-Care Awareness Month! Come celebrate self-care month by learning about the importance of massage. Massage therapist Carrie-Kay Twyman with Just Jordan Massage Therapy will share information and demonstrate at the library on Friday\, September 13th at 3:30 PM! One lucky person will win a 30-minute massage!
URL:https://www.laruelibrary.org/event/benefits-of-massage/
LOCATION:LaRue County Public Library\, 215 Lincoln Drive\, Hodgenville\, KY\, 42748\, United States
CATEGORIES:Everyone
END:VEVENT
BEGIN:VEVENT
DTSTART;TZID=America/Kentucky/Louisville:20240916T100000
DTEND;TZID=America/Kentucky/Louisville:20240916T100000
DTSTAMP:20260422T041234
CREATED:20240817T152243Z
LAST-MODIFIED:20240817T152243Z
UID:10001440-1726480800-1726480800@www.laruelibrary.org
SUMMARY:Stretch and Shine
DESCRIPTION:Join us for Stretch and Shine and start your day off right! Free\, low-impact exercise class beginning at 10:00 am. Let’s get those muscles moving! This program is designed for adults.
URL:https://www.laruelibrary.org/event/stretch-and-shine-38/
LOCATION:LaRue County Public Library\, 215 Lincoln Drive\, Hodgenville\, KY\, 42748\, United States
CATEGORIES:Adult,Adult Events
ATTACH;FMTTYPE=image/png:https://www.laruelibrary.org/wp-content/uploads/2023/03/Stretch-Adult-Event-1.png
END:VEVENT
BEGIN:VEVENT
DTSTART;TZID=America/Kentucky/Louisville:20240916T100000
DTEND;TZID=America/Kentucky/Louisville:20240916T100000
DTSTAMP:20260422T041234
CREATED:20240820T144937Z
LAST-MODIFIED:20240820T144937Z
UID:10001441-1726480800-1726480800@www.laruelibrary.org
SUMMARY:Stretch and Shine
DESCRIPTION:Join us for Stretch and Shine and start your day off right! Free low-impact exercise class beginning at 10:00am. Let’s get those muscles moving! \nThis program is designed for adults.
URL:https://www.laruelibrary.org/event/stretch-and-shine-39/2024-09-16/
LOCATION:LaRue County Public Library\, 215 Lincoln Drive\, Hodgenville\, KY\, 42748\, United States
CATEGORIES:Adult,Adult Events
ATTACH;FMTTYPE=image/png:https://www.laruelibrary.org/wp-content/uploads/2023/03/Stretch-Adult-Event-1.png
ORGANIZER;CN="LaRue Public Library":MAILTO:info@laruelibrary.org
END:VEVENT
BEGIN:VEVENT
DTSTART;TZID=America/Kentucky/Louisville:20240916T140000
DTEND;TZID=America/Kentucky/Louisville:20240916T140000
DTSTAMP:20260422T041234
CREATED:20240820T145250Z
LAST-MODIFIED:20240820T145250Z
UID:10001444-1726495200-1726495200@www.laruelibrary.org
SUMMARY:Community Games
DESCRIPTION:Come and have some game day fun here at the library at 2:00pm! \nBring your friends\, family\, a board game (or choose one of ours) and enjoy!
URL:https://www.laruelibrary.org/event/community-games-33/2024-09-16/
LOCATION:LaRue County Public Library\, 215 Lincoln Drive\, Hodgenville\, KY\, 42748\, United States
CATEGORIES:Adult,Adult Events,Everyone,Family,Youth Events
ATTACH;FMTTYPE=image/jpeg:https://www.laruelibrary.org/wp-content/uploads/2023/07/bg2.jpg
ORGANIZER;CN="LaRue Public Library":MAILTO:info@laruelibrary.org
END:VEVENT
BEGIN:VEVENT
DTSTART;TZID=America/Kentucky/Louisville:20240917T110000
DTEND;TZID=America/Kentucky/Louisville:20240917T110000
DTSTAMP:20260422T041234
CREATED:20240820T154639Z
LAST-MODIFIED:20240820T154639Z
UID:10001461-1726570800-1726570800@www.laruelibrary.org
SUMMARY:Story Time
DESCRIPTION:Join us for a fun and fantastic story this Tuesday at 11:00 AM! \nStory time is for children under the ages of 5. \nThis is a great opportunity to grow young readers. We make learning fun by introducing children to books\, love of reading\, and songs! We can’t wait to see you!
URL:https://www.laruelibrary.org/event/story-time-101/2024-09-17/
LOCATION:LaRue County Public Library\, 215 Lincoln Drive\, Hodgenville\, KY\, 42748\, United States
CATEGORIES:Age Under 5 Years Old,Youth Events
ATTACH;FMTTYPE=image/png:https://www.laruelibrary.org/wp-content/uploads/2023/10/NST.0-1.png
ORGANIZER;CN="LaRue Public Library":MAILTO:info@laruelibrary.org
END:VEVENT
BEGIN:VEVENT
DTSTART;TZID=America/Kentucky/Louisville:20240917T150000
DTEND;TZID=America/Kentucky/Louisville:20240917T150000
DTSTAMP:20260422T041234
CREATED:20240917T214719Z
LAST-MODIFIED:20240917T214719Z
UID:10001482-1726585200-1726585200@www.laruelibrary.org
SUMMARY:Halloween Pavers
DESCRIPTION:We’re paving our way to Halloween with these paver decorations on Tuesday\, October 8th at 3 PM. This class\, which requires pre-registration\, is designed for teens and adults. To register\, call the library at 270-358-3851.
URL:https://www.laruelibrary.org/event/halloween-pavers/
LOCATION:KY
CATEGORIES:Adult,Adult Events,High School,Middle School
ATTACH;FMTTYPE=image/png:https://www.laruelibrary.org/wp-content/uploads/2024/09/Screenshot-2024-09-17-at-5.46.10 PM.png
END:VEVENT
BEGIN:VEVENT
DTSTART;TZID=America/Kentucky/Louisville:20240917T173000
DTEND;TZID=America/Kentucky/Louisville:20240917T173000
DTSTAMP:20260422T041234
CREATED:20240817T145100Z
LAST-MODIFIED:20240820T145815Z
UID:10001447-1726594200-1726594200@www.laruelibrary.org
SUMMARY:American Sign Language Class
DESCRIPTION:Summer Atteberry\, certified teacher of the deaf/hard of hearing and Kentucky School for the Deaf Outreach Consultant\, will host a series of ASL classes on Tuesdays in September. The first class begins on Tuesday\, September 3rd from 5:30-6:30 and will continue each Tuesday through September 24th.  \nInterested teens and adults can call the library to register. Please ensure you can attend all four sessions when registering.
URL:https://www.laruelibrary.org/event/american-sign-language-class/2024-09-17/
LOCATION:LaRue County Public Library\, 215 Lincoln Drive\, Hodgenville\, KY\, 42748\, United States
CATEGORIES:Adult,Adult Events,High School,Middle School
ATTACH;FMTTYPE=image/jpeg:https://www.laruelibrary.org/wp-content/uploads/2024/08/asl.jpg
END:VEVENT
BEGIN:VEVENT
DTSTART;TZID=America/Kentucky/Louisville:20240918T100000
DTEND;TZID=America/Kentucky/Louisville:20240918T100000
DTSTAMP:20260422T041234
CREATED:20240820T160931Z
LAST-MODIFIED:20240820T160931Z
UID:10001472-1726653600-1726653600@www.laruelibrary.org
SUMMARY:Safari Scavenger Hunt
DESCRIPTION:Grab you checklist\, your safari hat\, and head off into the wild library in search of animal friends on Wednesday\, September 18th at 10:00am for a simple preschool-aged scavenger hunt! \nNo sign up needed.
URL:https://www.laruelibrary.org/event/safari-scavenger-hunt-2/
LOCATION:LaRue County Public Library\, 215 Lincoln Drive\, Hodgenville\, KY\, 42748\, United States
CATEGORIES:Age Under 5 Years Old,Youth Events
ORGANIZER;CN="LaRue Public Library":MAILTO:info@laruelibrary.org
END:VEVENT
BEGIN:VEVENT
DTSTART;TZID=America/Kentucky/Louisville:20240918T150000
DTEND;TZID=America/Kentucky/Louisville:20240918T150000
DTSTAMP:20260422T041234
CREATED:20240820T150228Z
LAST-MODIFIED:20240820T150228Z
UID:10001448-1726671600-1726671600@www.laruelibrary.org
SUMMARY:Medicare Scams
DESCRIPTION:Join us on Wednesday\, September 18th @ 3:00pm as Mike Monaghan\, Medicare Workshop Host\, shares about the top 5 Medicare scams. \nEveryone is welcome!
URL:https://www.laruelibrary.org/event/medicare-scams/
LOCATION:LaRue County Public Library\, 215 Lincoln Drive\, Hodgenville\, KY\, 42748\, United States
CATEGORIES:Adult,Adult Events
ORGANIZER;CN="LaRue Public Library":MAILTO:info@laruelibrary.org
END:VEVENT
BEGIN:VEVENT
DTSTART;TZID=America/Kentucky/Louisville:20240919T133000
DTEND;TZID=America/Kentucky/Louisville:20240919T133000
DTSTAMP:20260422T041234
CREATED:20240820T154338Z
LAST-MODIFIED:20240820T154338Z
UID:10001458-1726752600-1726752600@www.laruelibrary.org
SUMMARY:Story Time
DESCRIPTION:Join us for a fun and fantastic story this Thursday at 1:30 PM! \nStory time is for children under the ages of 5. \nThis is a great opportunity to grow young readers. We make learning fun by introducing children to books\, love of reading\, and songs! We can’t wait to see you!
URL:https://www.laruelibrary.org/event/story-time-100/2024-09-19/
LOCATION:LaRue County Public Library\, 215 Lincoln Drive\, Hodgenville\, KY\, 42748\, United States
CATEGORIES:Age Under 5 Years Old,Youth Events
ATTACH;FMTTYPE=image/png:https://www.laruelibrary.org/wp-content/uploads/2023/10/NST.0-1.png
ORGANIZER;CN="LaRue Public Library":MAILTO:info@laruelibrary.org
END:VEVENT
BEGIN:VEVENT
DTSTART;TZID=America/Kentucky/Louisville:20240919T153000
DTEND;TZID=America/Kentucky/Louisville:20240919T153000
DTSTAMP:20260422T041234
CREATED:20240820T150507Z
LAST-MODIFIED:20240820T150507Z
UID:10001449-1726759800-1726759800@www.laruelibrary.org
SUMMARY:Book Club
DESCRIPTION:Come join us on Thursday\, September 19th at 3:30pm for Book Club! \nThis is an Adult program.
URL:https://www.laruelibrary.org/event/book-club-17/
LOCATION:LaRue County Public Library\, 215 Lincoln Drive\, Hodgenville\, KY\, 42748\, United States
CATEGORIES:Adult,Adult Events
ATTACH;FMTTYPE=image/jpeg:https://www.laruelibrary.org/wp-content/uploads/2023/07/bc2.jpg
ORGANIZER;CN="LaRue Public Library":MAILTO:info@laruelibrary.org
END:VEVENT
BEGIN:VEVENT
DTSTART;TZID=America/Kentucky/Louisville:20240919T163000
DTEND;TZID=America/Kentucky/Louisville:20240919T163000
DTSTAMP:20260422T041234
CREATED:20240820T161258Z
LAST-MODIFIED:20240820T161258Z
UID:10001473-1726763400-1726763400@www.laruelibrary.org
SUMMARY:Youth Yoga
DESCRIPTION:Everyone from Grade School-Teen is welcome to join us on Thursday\, September 19th @ 4:30pm for yoga! \nBringing your own mat and sign-up is not required!
URL:https://www.laruelibrary.org/event/youth-yoga/
LOCATION:LaRue County Public Library\, 215 Lincoln Drive\, Hodgenville\, KY\, 42748\, United States
CATEGORIES:Age Under 5 Years Old,Youth Events
ATTACH;FMTTYPE=image/png:https://www.laruelibrary.org/wp-content/uploads/2024/08/Youth-Yoga.png
ORGANIZER;CN="LaRue Public Library":MAILTO:info@laruelibrary.org
END:VEVENT
BEGIN:VEVENT
DTSTART;TZID=America/Kentucky/Louisville:20240919T163000
DTEND;TZID=America/Kentucky/Louisville:20240919T163000
DTSTAMP:20260422T041234
CREATED:20240911T143917Z
LAST-MODIFIED:20240911T143917Z
UID:10001476-1726763400-1726763400@www.laruelibrary.org
SUMMARY:Board Meeting
DESCRIPTION:LCPL Board Meeting on Thursday\, September 19th at 4:30. \nThis is for adults only. 
URL:https://www.laruelibrary.org/event/board-meeting-15/
LOCATION:LaRue County Public Library\, 215 Lincoln Drive\, Hodgenville\, KY\, 42748\, United States
CATEGORIES:Adult,Adult Events
ATTACH;FMTTYPE=image/jpeg:https://www.laruelibrary.org/wp-content/uploads/2023/07/brm2.jpg
ORGANIZER;CN="LaRue Public Library":MAILTO:info@laruelibrary.org
END:VEVENT
BEGIN:VEVENT
DTSTART;TZID=America/Kentucky/Louisville:20240919T173000
DTEND;TZID=America/Kentucky/Louisville:20240919T173000
DTSTAMP:20260422T041234
CREATED:20240820T150940Z
LAST-MODIFIED:20240820T150940Z
UID:10001451-1726767000-1726767000@www.laruelibrary.org
SUMMARY:Violinist Roni Lynn Milby
DESCRIPTION:Enjoy an evening of violin with local musician Roni Lynn Milby on Thursday\, September 19th @ 5:30pm! \nEveryone is welcome!
URL:https://www.laruelibrary.org/event/violinist-roni-lynn-milby/
LOCATION:LaRue County Public Library\, 215 Lincoln Drive\, Hodgenville\, KY\, 42748\, United States
CATEGORIES:Adult,Adult Events,Everyone,Family,Youth Events
ORGANIZER;CN="LaRue Public Library":MAILTO:info@laruelibrary.org
END:VEVENT
BEGIN:VEVENT
DTSTART;TZID=America/Kentucky/Louisville:20240920T150000
DTEND;TZID=America/Kentucky/Louisville:20240920T150000
DTSTAMP:20260422T041234
CREATED:20240820T152026Z
LAST-MODIFIED:20240820T152026Z
UID:10001454-1726844400-1726844400@www.laruelibrary.org
SUMMARY:Friendship Bracelets
DESCRIPTION:Join us on Friday\, September 20th @ 3:00pm to make friendship bracelets in celebration of Friendship Month! \nTeens & Adults. Class limit of 24. Call to register.
URL:https://www.laruelibrary.org/event/friendship-bracelets-2/
LOCATION:LaRue County Public Library\, 215 Lincoln Drive\, Hodgenville\, KY\, 42748\, United States
CATEGORIES:Adult,Adult Events,High School,Youth Events
ORGANIZER;CN="LaRue Public Library":MAILTO:info@laruelibrary.org
END:VEVENT
BEGIN:VEVENT
DTSTART;TZID=America/Kentucky/Louisville:20240920T150000
DTEND;TZID=America/Kentucky/Louisville:20240920T150000
DTSTAMP:20260422T041234
CREATED:20240820T161514Z
LAST-MODIFIED:20240820T161514Z
UID:10001474-1726844400-1726844400@www.laruelibrary.org
SUMMARY:Stained Glass Bookmarks
DESCRIPTION:Join us on Friday\, September 20th @ 3:00pm to make your own stained glass bookmark! \nTeens only. Registration is required.
URL:https://www.laruelibrary.org/event/stained-glass-bookmarks/
LOCATION:LaRue County Public Library\, 215 Lincoln Drive\, Hodgenville\, KY\, 42748\, United States
CATEGORIES:High School,Youth Events
ORGANIZER;CN="LaRue Public Library":MAILTO:info@laruelibrary.org
END:VEVENT
BEGIN:VEVENT
DTSTART;TZID=America/Kentucky/Louisville:20240923T100000
DTEND;TZID=America/Kentucky/Louisville:20240923T100000
DTSTAMP:20260422T041234
CREATED:20240820T144937Z
LAST-MODIFIED:20240820T144937Z
UID:10001442-1727085600-1727085600@www.laruelibrary.org
SUMMARY:Stretch and Shine
DESCRIPTION:Join us for Stretch and Shine and start your day off right! Free low-impact exercise class beginning at 10:00am. Let’s get those muscles moving! \nThis program is designed for adults.
URL:https://www.laruelibrary.org/event/stretch-and-shine-39/2024-09-23/
LOCATION:LaRue County Public Library\, 215 Lincoln Drive\, Hodgenville\, KY\, 42748\, United States
CATEGORIES:Adult,Adult Events
ATTACH;FMTTYPE=image/png:https://www.laruelibrary.org/wp-content/uploads/2023/03/Stretch-Adult-Event-1.png
ORGANIZER;CN="LaRue Public Library":MAILTO:info@laruelibrary.org
END:VEVENT
BEGIN:VEVENT
DTSTART;TZID=America/Kentucky/Louisville:20240923T140000
DTEND;TZID=America/Kentucky/Louisville:20240923T140000
DTSTAMP:20260422T041234
CREATED:20240820T145250Z
LAST-MODIFIED:20240820T145250Z
UID:10001445-1727100000-1727100000@www.laruelibrary.org
SUMMARY:Community Games
DESCRIPTION:Come and have some game day fun here at the library at 2:00pm! \nBring your friends\, family\, a board game (or choose one of ours) and enjoy!
URL:https://www.laruelibrary.org/event/community-games-33/2024-09-23/
LOCATION:LaRue County Public Library\, 215 Lincoln Drive\, Hodgenville\, KY\, 42748\, United States
CATEGORIES:Adult,Adult Events,Everyone,Family,Youth Events
ATTACH;FMTTYPE=image/jpeg:https://www.laruelibrary.org/wp-content/uploads/2023/07/bg2.jpg
ORGANIZER;CN="LaRue Public Library":MAILTO:info@laruelibrary.org
END:VEVENT
END:VCALENDAR