BEGIN:VCALENDAR
VERSION:2.0
PRODID:-//LaRue County Public Library - ECPv6.15.20//NONSGML v1.0//EN
CALSCALE:GREGORIAN
METHOD:PUBLISH
X-WR-CALNAME:LaRue County Public Library
X-ORIGINAL-URL:https://www.laruelibrary.org
X-WR-CALDESC:Events for LaRue County Public Library
REFRESH-INTERVAL;VALUE=DURATION:PT1H
X-Robots-Tag:noindex
X-PUBLISHED-TTL:PT1H
BEGIN:VTIMEZONE
TZID:America/Kentucky/Louisville
BEGIN:DAYLIGHT
TZOFFSETFROM:-0500
TZOFFSETTO:-0400
TZNAME:EDT
DTSTART:20230312T070000
END:DAYLIGHT
BEGIN:STANDARD
TZOFFSETFROM:-0400
TZOFFSETTO:-0500
TZNAME:EST
DTSTART:20231105T060000
END:STANDARD
BEGIN:DAYLIGHT
TZOFFSETFROM:-0500
TZOFFSETTO:-0400
TZNAME:EDT
DTSTART:20240310T070000
END:DAYLIGHT
BEGIN:STANDARD
TZOFFSETFROM:-0400
TZOFFSETTO:-0500
TZNAME:EST
DTSTART:20241103T060000
END:STANDARD
BEGIN:DAYLIGHT
TZOFFSETFROM:-0500
TZOFFSETTO:-0400
TZNAME:EDT
DTSTART:20250309T070000
END:DAYLIGHT
BEGIN:STANDARD
TZOFFSETFROM:-0400
TZOFFSETTO:-0500
TZNAME:EST
DTSTART:20251102T060000
END:STANDARD
END:VTIMEZONE
BEGIN:VEVENT
DTSTART;TZID=America/Kentucky/Louisville:20240924T160000
DTEND;TZID=America/Kentucky/Louisville:20240924T160000
DTSTAMP:20260422T100420
CREATED:20240820T160631Z
LAST-MODIFIED:20240820T160631Z
UID:10001471-1727193600-1727193600@www.laruelibrary.org
SUMMARY:Teen Book Club
DESCRIPTION:Join us for our teen book club meeting at Vibe Coffee in downtown Hodgenville! We’ll be talking about our first book\, how it’s going\, and about how we want to continue book club during the school year! \nSee you on Tuesday\, September 24th at 4:00 PM at Vibe Coffee. \nAll teens are welcome!
URL:https://www.laruelibrary.org/event/teen-book-club-7/
LOCATION:LaRue County Public Library\, 215 Lincoln Drive\, Hodgenville\, KY\, 42748\, United States
CATEGORIES:High School,Youth Events
ATTACH;FMTTYPE=image/png:https://www.laruelibrary.org/wp-content/uploads/2024/06/Teen-BC.png
ORGANIZER;CN="LaRue Public Library":MAILTO:info@laruelibrary.org
END:VEVENT
BEGIN:VEVENT
DTSTART;TZID=America/Kentucky/Louisville:20240924T173000
DTEND;TZID=America/Kentucky/Louisville:20240924T183000
DTSTAMP:20260422T100420
CREATED:20240817T145100Z
LAST-MODIFIED:20240820T145815Z
UID:10001431-1727199000-1727202600@www.laruelibrary.org
SUMMARY:American Sign Language Class
DESCRIPTION:Summer Atteberry\, certified teacher of the deaf/hard of hearing and Kentucky School for the Deaf Outreach Consultant\, will host a series of ASL classes on Tuesdays in September. The first class begins on Tuesday\, September 3rd from 5:30-6:30 and will continue each Tuesday through September 24th.  \nInterested teens and adults can call the library to register. Please ensure you can attend all four sessions when registering.
URL:https://www.laruelibrary.org/event/american-sign-language-class/2024-09-24/
LOCATION:LaRue County Public Library\, 215 Lincoln Drive\, Hodgenville\, KY\, 42748\, United States
CATEGORIES:Adult,Adult Events,High School,Middle School
ATTACH;FMTTYPE=image/jpeg:https://www.laruelibrary.org/wp-content/uploads/2024/08/asl.jpg
END:VEVENT
BEGIN:VEVENT
DTSTART;VALUE=DATE:20240926
DTEND;VALUE=DATE:20240927
DTSTAMP:20260422T100420
CREATED:20240820T155027Z
LAST-MODIFIED:20240820T155036Z
UID:10001463-1727308800-1727395199@www.laruelibrary.org
SUMMARY:Story Time Moved!
DESCRIPTION:We will be having a very special story time tomorrow Friday\, September 27th @ 9:30am–so no story time today!
URL:https://www.laruelibrary.org/event/story-time-moved/
LOCATION:LaRue County Public Library\, 215 Lincoln Drive\, Hodgenville\, KY\, 42748\, United States
CATEGORIES:Age Under 5 Years Old,Youth Events
ATTACH;FMTTYPE=image/png:https://www.laruelibrary.org/wp-content/uploads/2024/08/09.26.24-No-Story-Time.png
ORGANIZER;CN="LaRue Public Library":MAILTO:info@laruelibrary.org
END:VEVENT
BEGIN:VEVENT
DTSTART;TZID=America/Kentucky/Louisville:20240926T100000
DTEND;TZID=America/Kentucky/Louisville:20240926T100000
DTSTAMP:20260422T100420
CREATED:20240820T151509Z
LAST-MODIFIED:20240820T151509Z
UID:10001452-1727344800-1727344800@www.laruelibrary.org
SUMMARY:Coffee for Veterans
DESCRIPTION:Join us on Thursday\, September 26th @ 10:00am in the LCPL community room for a very special program (with spouses/partners being welcome). \nWe will have a special guest Chuck Swift (Founder/Chairman of Handicapped Veteran’s Association Incorporated\, dba HVA Social) speaking.
URL:https://www.laruelibrary.org/event/coffee-for-veterans-8/
LOCATION:LaRue County Public Library\, 215 Lincoln Drive\, Hodgenville\, KY\, 42748\, United States
CATEGORIES:Adult,Adult Events
ATTACH;FMTTYPE=image/png:https://www.laruelibrary.org/wp-content/uploads/2024/01/vetcoffee.png
ORGANIZER;CN="LaRue Public Library":MAILTO:info@laruelibrary.org
END:VEVENT
BEGIN:VEVENT
DTSTART;TZID=America/Kentucky/Louisville:20240926T120000
DTEND;TZID=America/Kentucky/Louisville:20240926T173000
DTSTAMP:20260422T100420
CREATED:20240820T151733Z
LAST-MODIFIED:20240820T151733Z
UID:10001453-1727352000-1727371800@www.laruelibrary.org
SUMMARY:Bloodmobile
DESCRIPTION:Come down to the Library on Thursday\, September 26th from 12:00pm-5:30pm to donate blood to the American Red Cross. \nHelp do your part! Schedule appointment now to save a life at redcross.org. \nYou will be entered for one of two $25 gift cards\, courtesy of the Friends of the Library! \nThis program is designed for Adults.
URL:https://www.laruelibrary.org/event/bloodmobile-9/
LOCATION:LaRue County Public Library\, 215 Lincoln Drive\, Hodgenville\, KY\, 42748\, United States
CATEGORIES:Adult,Adult Events
ATTACH;FMTTYPE=image/png:https://www.laruelibrary.org/wp-content/uploads/2024/02/Blddrv.png
ORGANIZER;CN="LaRue Public Library":MAILTO:info@laruelibrary.org
END:VEVENT
BEGIN:VEVENT
DTSTART;TZID=America/Kentucky/Louisville:20240927T093000
DTEND;TZID=America/Kentucky/Louisville:20240927T103000
DTSTAMP:20260422T100420
CREATED:20240820T160320Z
LAST-MODIFIED:20240926T143906Z
UID:10001464-1727429400-1727433000@www.laruelibrary.org
SUMMARY:Tiny Hawks Story Time
DESCRIPTION:Join us for a very special Tiny Hawks Story Time from 9:30-10:30am with assistance from Ellen Shelton! Each session\, children will receive a free educational take-home item/supplies (provided by the ALES Family Resource Center). \nThese story times/sessions will take place at LaRue County Public Library on Friday September 27th\, October 25th\, November 22nd\, January 31st\, February 28th\, March 28th\, and April 25th. These story times/sessions are geared toward preschool age children (2-5 years old) and their caregiver(s). \nSign-up is NOT required. \nFor more info\, contact: \nTaylor Metcalf; LCPL Children’s Librarian @ 358-3851 \nEllen Shelton; ALES FRC Coordinator @ 358-7130
URL:https://www.laruelibrary.org/event/tiny-hawks-story-time-with-ellen-shelton/2024-09-27/
LOCATION:LaRue County Public Library\, 215 Lincoln Drive\, Hodgenville\, KY\, 42748\, United States
CATEGORIES:Age Under 5 Years Old,Youth Events
ATTACH;FMTTYPE=image/png:https://www.laruelibrary.org/wp-content/uploads/2024/08/Tiny-Hawks.png
ORGANIZER;CN="LaRue Public Library":MAILTO:info@laruelibrary.org
END:VEVENT
BEGIN:VEVENT
DTSTART;TZID=America/Kentucky/Louisville:20240927T150000
DTEND;TZID=America/Kentucky/Louisville:20240927T150000
DTSTAMP:20260422T100420
CREATED:20240820T152314Z
LAST-MODIFIED:20240820T152314Z
UID:10001455-1727449200-1727449200@www.laruelibrary.org
SUMMARY:Ghost Craft
DESCRIPTION:Join us on Friday\, September 27th @ 3:00pm to make a not-so-scary ghost craft! \nTeens & Adults. Class limit of 24. Call to register.
URL:https://www.laruelibrary.org/event/ghost-craft/
LOCATION:LaRue County Public Library\, 215 Lincoln Drive\, Hodgenville\, KY\, 42748\, United States
CATEGORIES:Adult,Adult Events,High School,Youth Events
ATTACH;FMTTYPE=image/png:https://www.laruelibrary.org/wp-content/uploads/2024/08/Ghost-Craft.png
ORGANIZER;CN="LaRue Public Library":MAILTO:info@laruelibrary.org
END:VEVENT
BEGIN:VEVENT
DTSTART;TZID=America/Kentucky/Louisville:20240930T100000
DTEND;TZID=America/Kentucky/Louisville:20240930T100000
DTSTAMP:20260422T100420
CREATED:20240820T144937Z
LAST-MODIFIED:20240820T144937Z
UID:10001443-1727690400-1727690400@www.laruelibrary.org
SUMMARY:Stretch and Shine
DESCRIPTION:Join us for Stretch and Shine and start your day off right! Free low-impact exercise class beginning at 10:00am. Let’s get those muscles moving! \nThis program is designed for adults.
URL:https://www.laruelibrary.org/event/stretch-and-shine-39/2024-09-30/
LOCATION:LaRue County Public Library\, 215 Lincoln Drive\, Hodgenville\, KY\, 42748\, United States
CATEGORIES:Adult,Adult Events
ATTACH;FMTTYPE=image/png:https://www.laruelibrary.org/wp-content/uploads/2023/03/Stretch-Adult-Event-1.png
ORGANIZER;CN="LaRue Public Library":MAILTO:info@laruelibrary.org
END:VEVENT
BEGIN:VEVENT
DTSTART;TZID=America/Kentucky/Louisville:20240930T140000
DTEND;TZID=America/Kentucky/Louisville:20240930T140000
DTSTAMP:20260422T100420
CREATED:20240820T145250Z
LAST-MODIFIED:20240820T145250Z
UID:10001446-1727704800-1727704800@www.laruelibrary.org
SUMMARY:Community Games
DESCRIPTION:Come and have some game day fun here at the library at 2:00pm! \nBring your friends\, family\, a board game (or choose one of ours) and enjoy!
URL:https://www.laruelibrary.org/event/community-games-33/2024-09-30/
LOCATION:LaRue County Public Library\, 215 Lincoln Drive\, Hodgenville\, KY\, 42748\, United States
CATEGORIES:Adult,Adult Events,Everyone,Family,Youth Events
ATTACH;FMTTYPE=image/jpeg:https://www.laruelibrary.org/wp-content/uploads/2023/07/bg2.jpg
ORGANIZER;CN="LaRue Public Library":MAILTO:info@laruelibrary.org
END:VEVENT
BEGIN:VEVENT
DTSTART;TZID=America/Kentucky/Louisville:20240930T153000
DTEND;TZID=America/Kentucky/Louisville:20240930T153000
DTSTAMP:20260422T100420
CREATED:20240820T153721Z
LAST-MODIFIED:20240820T153721Z
UID:10001456-1727710200-1727710200@www.laruelibrary.org
SUMMARY:Portrait Painting
DESCRIPTION:An event for the whole family! Try your hand at painting a portrait\, of yourself or someone else!\, on Monday\, September 30th @ 3:35pm! \nFamily event. No sign up needed.
URL:https://www.laruelibrary.org/event/portrait-painting/
LOCATION:LaRue County Public Library\, 215 Lincoln Drive\, Hodgenville\, KY\, 42748\, United States
CATEGORIES:Family,Youth Events
ORGANIZER;CN="LaRue Public Library":MAILTO:info@laruelibrary.org
END:VEVENT
BEGIN:VEVENT
DTSTART;TZID=America/Kentucky/Louisville:20241001T100000
DTEND;TZID=America/Kentucky/Louisville:20241001T100000
DTSTAMP:20260422T100420
CREATED:20240917T212915Z
LAST-MODIFIED:20240917T212933Z
UID:10001478-1727776800-1727776800@www.laruelibrary.org
SUMMARY:Keep Stepping Forward
DESCRIPTION:Keep Stepping Forward – Finding New Footing One Step at a Time \nJoin us the first Tuesday of each month for a support group for men and women whose spouses have passed away. This group will be led by Donna Coffey. Coffee and donuts will be provided. We look forward to sharing with you in community on Tuesday\, October 1st at 10 am.
URL:https://www.laruelibrary.org/event/keep-stepping-forward/
LOCATION:LaRue County Public Library\, 215 Lincoln Drive\, Hodgenville\, KY\, 42748\, United States
CATEGORIES:Adult,Adult Events
ATTACH;FMTTYPE=image/jpeg:https://www.laruelibrary.org/wp-content/uploads/2024/09/istockphoto-1272497530-612x612-1.jpg
END:VEVENT
BEGIN:VEVENT
DTSTART;TZID=America/Kentucky/Louisville:20241001T110000
DTEND;TZID=America/Kentucky/Louisville:20241001T110000
DTSTAMP:20260422T100420
CREATED:20240920T185319Z
LAST-MODIFIED:20240920T185319Z
UID:10001485-1727780400-1727780400@www.laruelibrary.org
SUMMARY:Story Time
DESCRIPTION:Join us for a fun and fantastic story and a craft this Tuesday at 11:00 AM! \nStory time is for children under the ages of 5. \nThis is a great opportunity to grow young readers. We make learning fun by introducing children to books\, love of reading\, and songs! We can’t wait to see you!
URL:https://www.laruelibrary.org/event/story-time-102/2024-10-01/
LOCATION:LaRue County Public Library\, 215 Lincoln Drive\, Hodgenville\, KY\, 42748\, United States
CATEGORIES:Age Under 5 Years Old,Youth Events
ATTACH;FMTTYPE=image/png:https://www.laruelibrary.org/wp-content/uploads/2023/10/NST.0-1.png
ORGANIZER;CN="LaRue Public Library":MAILTO:info@laruelibrary.org
END:VEVENT
BEGIN:VEVENT
DTSTART;TZID=America/Kentucky/Louisville:20241001T110000
DTEND;TZID=America/Kentucky/Louisville:20241001T110000
DTSTAMP:20260422T100420
CREATED:20240928T163458Z
LAST-MODIFIED:20240928T163458Z
UID:10001525-1727780400-1727780400@www.laruelibrary.org
SUMMARY:Story Time
DESCRIPTION:Join us for a fun and fantastic story and a craft this Tuesday at 11:00 AM! \nStory time is for children under the ages of 5. \nThis is a great opportunity to grow young readers. We make learning fun by introducing children to books\, love of reading\, and songs! We can’t wait to see you!
URL:https://www.laruelibrary.org/event/story-time-104/2024-10-01/
LOCATION:LaRue County Public Library\, 215 Lincoln Drive\, Hodgenville\, KY\, 42748\, United States
CATEGORIES:Age Under 5 Years Old
ATTACH;FMTTYPE=image/png:https://www.laruelibrary.org/wp-content/uploads/2023/10/NST.0-1.png
END:VEVENT
BEGIN:VEVENT
DTSTART;TZID=America/Kentucky/Louisville:20241001T150000
DTEND;TZID=America/Kentucky/Louisville:20241001T150000
DTSTAMP:20260422T100420
CREATED:20240928T163751Z
LAST-MODIFIED:20240928T163751Z
UID:10001528-1727794800-1727794800@www.laruelibrary.org
SUMMARY:Halloween T-Shirts
DESCRIPTION:It’s no trick! We’re getting ready for Halloween with bleached t-shirts! Interested teens and adults must bring their own dark-colored t-shirt. In case of rain\, this program will be rescheduled. Registration is required\, so please call the library to register\, as spaces are limited.
URL:https://www.laruelibrary.org/event/halloween-t-shirts/
LOCATION:LaRue County Public Library\, 215 Lincoln Drive\, Hodgenville\, KY\, 42748\, United States
CATEGORIES:Adult,Adult Events,High School,Middle School
ATTACH;FMTTYPE=image/png:https://www.laruelibrary.org/wp-content/uploads/2024/09/Screenshot-2024-09-28-at-12.37.19 PM.png
END:VEVENT
BEGIN:VEVENT
DTSTART;TZID=America/Kentucky/Louisville:20241002T101500
DTEND;TZID=America/Kentucky/Louisville:20241002T101500
DTSTAMP:20260422T100420
CREATED:20240928T164340Z
LAST-MODIFIED:20240928T164340Z
UID:10001529-1727864100-1727864100@www.laruelibrary.org
SUMMARY:Homeschool Program at Hinton's Orchard
DESCRIPTION:Homeschool families are invited to our monthly homeschool program with an outing to Hinton’s Orchard. Join us on Wednesday\, October 2nd at 10:15 AM at Hinton’s Orchard\, 8631 Campbellsville Road\, Hodgenville\, Ky 42748. No sign-up is required. Feel free to bring lunch afterward!
URL:https://www.laruelibrary.org/event/homeschool-program-at-hintons-orchard/
LOCATION:Hinton’s Orchard\, 8631 Campbellsville Road\, Hodgenville\, KY\, 42748\, United States
CATEGORIES:Family
ATTACH;FMTTYPE=image/png:https://www.laruelibrary.org/wp-content/uploads/2024/09/Screenshot-2024-09-28-at-12.42.09 PM.png
END:VEVENT
BEGIN:VEVENT
DTSTART;TZID=America/Kentucky/Louisville:20241003T133000
DTEND;TZID=America/Kentucky/Louisville:20241003T133000
DTSTAMP:20260422T100420
CREATED:20240920T185648Z
LAST-MODIFIED:20240920T185648Z
UID:10001490-1727962200-1727962200@www.laruelibrary.org
SUMMARY:Story Time
DESCRIPTION:Join us for a fun and fantastic story and a craft this Thursday at 1:30 PM! \nStory time is for children under the ages of 5. \nThis is a great opportunity to grow young readers. We make learning fun by introducing children to books\, love of reading\, and songs! We can’t wait to see you!
URL:https://www.laruelibrary.org/event/story-time-103/2024-10-03/
LOCATION:LaRue County Public Library\, 215 Lincoln Drive\, Hodgenville\, KY\, 42748\, United States
CATEGORIES:Age Under 5 Years Old,Youth Events
ATTACH;FMTTYPE=image/png:https://www.laruelibrary.org/wp-content/uploads/2023/10/NST.0-1.png
ORGANIZER;CN="LaRue Public Library":MAILTO:info@laruelibrary.org
END:VEVENT
BEGIN:VEVENT
DTSTART;TZID=America/Kentucky/Louisville:20241003T160000
DTEND;TZID=America/Kentucky/Louisville:20241003T160000
DTSTAMP:20260422T100420
CREATED:20240917T213323Z
LAST-MODIFIED:20240917T213323Z
UID:10001479-1727971200-1727971200@www.laruelibrary.org
SUMMARY:Friends of the Library
DESCRIPTION:Join us for a Friends of the Library meeting. Become a member and help us promote the LaRue County Public Library. Membership enables you to join your local branch chapter and become involved with many wonderful library activities throughout the year. Benefits include invitations to special Friends’ events\, Volunteer opportunities\, and advocacy opportunities. Hope to see you there!
URL:https://www.laruelibrary.org/event/friends-of-the-library-17/
LOCATION:LaRue County Public Library\, 215 Lincoln Drive\, Hodgenville\, KY\, 42748\, United States
CATEGORIES:Adult,Adult Events
ATTACH;FMTTYPE=image/png:https://www.laruelibrary.org/wp-content/uploads/2023/03/BecomeLibraryFriend.png
END:VEVENT
BEGIN:VEVENT
DTSTART;TZID=America/Kentucky/Louisville:20241003T173000
DTEND;TZID=America/Kentucky/Louisville:20241003T173000
DTSTAMP:20260422T100420
CREATED:20240917T214022Z
LAST-MODIFIED:20240917T214022Z
UID:10001480-1727976600-1727976600@www.laruelibrary.org
SUMMARY:One Lane Bridge
DESCRIPTION:Enjoy local bluegrass group One Lane Bridge at the library on Thursday\, October 3rd at 5:30 PM. The Friends of the Library will be set up in the lobby. Take an opportunity to renew your Friends’ membership or sign up to become a Friend of the Library. This event is open to everyone!
URL:https://www.laruelibrary.org/event/one-lane-bridge/
LOCATION:LaRue County Public Library\, 215 Lincoln Drive\, Hodgenville\, KY\, 42748\, United States
CATEGORIES:Everyone
ATTACH;FMTTYPE=image/png:https://www.laruelibrary.org/wp-content/uploads/2024/09/Screenshot-2024-09-17-at-5.38.52 PM.png
END:VEVENT
BEGIN:VEVENT
DTSTART;TZID=America/Kentucky/Louisville:20241004T144500
DTEND;TZID=America/Kentucky/Louisville:20241004T144500
DTSTAMP:20260422T100420
CREATED:20240928T164617Z
LAST-MODIFIED:20240928T164617Z
UID:10001530-1728053100-1728053100@www.laruelibrary.org
SUMMARY:Scary Story Writing
DESCRIPTION:‘Tis the season for scary stories! Students in elementary school and teens are invited to join us for scary story writing on Friday\, October 4th at 2:45 PM! No registration is required.
URL:https://www.laruelibrary.org/event/scary-story-writing/
LOCATION:LaRue County Public Library\, 215 Lincoln Drive\, Hodgenville\, KY\, 42748\, United States
CATEGORIES:Grade School,High School,Middle School
ATTACH;FMTTYPE=image/png:https://www.laruelibrary.org/wp-content/uploads/2024/09/10.04.24.png
END:VEVENT
BEGIN:VEVENT
DTSTART;VALUE=DATE:20241005
DTEND;VALUE=DATE:20241006
DTSTAMP:20260422T100420
CREATED:20241004T184406Z
LAST-MODIFIED:20241004T184406Z
UID:10001531-1728086400-1728172799@www.laruelibrary.org
SUMMARY:Closed for Lincoln Days
DESCRIPTION:LCPL will be closed on Saturday\, October 5th for Lincoln Days.
URL:https://www.laruelibrary.org/event/closed-for-lincoln-days/
LOCATION:LaRue County Public Library\, 215 Lincoln Drive\, Hodgenville\, KY\, 42748\, United States
ORGANIZER;CN="LaRue Public Library":MAILTO:info@laruelibrary.org
END:VEVENT
BEGIN:VEVENT
DTSTART;TZID=America/Kentucky/Louisville:20241007T100000
DTEND;TZID=America/Kentucky/Louisville:20241007T100000
DTSTAMP:20260422T100420
CREATED:20240917T212717Z
LAST-MODIFIED:20240917T213132Z
UID:10001477-1728295200-1728295200@www.laruelibrary.org
SUMMARY:Stretch and Shine
DESCRIPTION:Join us for Stretch and Shine and start your day off right! Free low-impact exercise class beginning at 10:00 am. Let’s get those muscles moving! \nThis program is designed for adults.
URL:https://www.laruelibrary.org/event/stretch-and-shine-40/2024-10-07/
LOCATION:LaRue County Public Library\, 215 Lincoln Drive\, Hodgenville\, KY\, 42748\, United States
CATEGORIES:Adult,Adult Events
END:VEVENT
BEGIN:VEVENT
DTSTART;TZID=America/Kentucky/Louisville:20241007T100000
DTEND;TZID=America/Kentucky/Louisville:20241007T100000
DTSTAMP:20260422T100420
CREATED:20240920T190724Z
LAST-MODIFIED:20240920T190724Z
UID:10001497-1728295200-1728295200@www.laruelibrary.org
SUMMARY:Stretch and Shine
DESCRIPTION:Join us for Stretch and Shine and start your day off right! \nFree low-impact exercise class beginning at 10:00am. Let’s get those muscles moving! \nThis program is designed for adults.
URL:https://www.laruelibrary.org/event/stretch-and-shine-41/2024-10-07/
LOCATION:LaRue County Public Library\, 215 Lincoln Drive\, Hodgenville\, KY\, 42748\, United States
CATEGORIES:Adult,Adult Events
ATTACH;FMTTYPE=image/png:https://www.laruelibrary.org/wp-content/uploads/2023/03/Stretch-Adult-Event-1.png
ORGANIZER;CN="LaRue Public Library":MAILTO:info@laruelibrary.org
END:VEVENT
BEGIN:VEVENT
DTSTART;TZID=America/Kentucky/Louisville:20241007T140000
DTEND;TZID=America/Kentucky/Louisville:20241007T140000
DTSTAMP:20260422T100420
CREATED:20240917T214242Z
LAST-MODIFIED:20240917T214325Z
UID:10001481-1728309600-1728309600@www.laruelibrary.org
SUMMARY:Community Games
DESCRIPTION:Come and have some game day fun here at the library at 2:00pm! \nBring your friends\, family\, a board game (or choose one of ours) and enjoy!
URL:https://www.laruelibrary.org/event/community-games-34/2024-10-07/
LOCATION:LaRue County Public Library\, 215 Lincoln Drive\, Hodgenville\, KY\, 42748\, United States
CATEGORIES:Everyone
END:VEVENT
BEGIN:VEVENT
DTSTART;TZID=America/Kentucky/Louisville:20241007T140000
DTEND;TZID=America/Kentucky/Louisville:20241007T140000
DTSTAMP:20260422T100420
CREATED:20240920T190354Z
LAST-MODIFIED:20240920T190354Z
UID:10001493-1728309600-1728309600@www.laruelibrary.org
SUMMARY:Community Games
DESCRIPTION:Come and have some game day fun here at the library at 2:00pm! \nBring your friends\, family\, a board game (or choose one of ours) and enjoy!
URL:https://www.laruelibrary.org/event/community-games-35/2024-10-07/
LOCATION:LaRue County Public Library\, 215 Lincoln Drive\, Hodgenville\, KY\, 42748\, United States
CATEGORIES:Adult,Adult Events,Everyone,Family,Youth Events
ATTACH;FMTTYPE=image/jpeg:https://www.laruelibrary.org/wp-content/uploads/2023/07/bg2.jpg
ORGANIZER;CN="LaRue Public Library":MAILTO:info@laruelibrary.org
END:VEVENT
BEGIN:VEVENT
DTSTART;TZID=America/Kentucky/Louisville:20241008T110000
DTEND;TZID=America/Kentucky/Louisville:20241008T110000
DTSTAMP:20260422T100420
CREATED:20240920T185319Z
LAST-MODIFIED:20240920T185319Z
UID:10001486-1728385200-1728385200@www.laruelibrary.org
SUMMARY:Story Time
DESCRIPTION:Join us for a fun and fantastic story and a craft this Tuesday at 11:00 AM! \nStory time is for children under the ages of 5. \nThis is a great opportunity to grow young readers. We make learning fun by introducing children to books\, love of reading\, and songs! We can’t wait to see you!
URL:https://www.laruelibrary.org/event/story-time-102/2024-10-08/
LOCATION:LaRue County Public Library\, 215 Lincoln Drive\, Hodgenville\, KY\, 42748\, United States
CATEGORIES:Age Under 5 Years Old,Youth Events
ATTACH;FMTTYPE=image/png:https://www.laruelibrary.org/wp-content/uploads/2023/10/NST.0-1.png
ORGANIZER;CN="LaRue Public Library":MAILTO:info@laruelibrary.org
END:VEVENT
BEGIN:VEVENT
DTSTART;TZID=America/Kentucky/Louisville:20241008T110000
DTEND;TZID=America/Kentucky/Louisville:20241008T110000
DTSTAMP:20260422T100420
CREATED:20240928T163458Z
LAST-MODIFIED:20240928T163458Z
UID:10001526-1728385200-1728385200@www.laruelibrary.org
SUMMARY:Story Time
DESCRIPTION:Join us for a fun and fantastic story and a craft this Tuesday at 11:00 AM! \nStory time is for children under the ages of 5. \nThis is a great opportunity to grow young readers. We make learning fun by introducing children to books\, love of reading\, and songs! We can’t wait to see you!
URL:https://www.laruelibrary.org/event/story-time-104/2024-10-08/
LOCATION:LaRue County Public Library\, 215 Lincoln Drive\, Hodgenville\, KY\, 42748\, United States
CATEGORIES:Age Under 5 Years Old
ATTACH;FMTTYPE=image/png:https://www.laruelibrary.org/wp-content/uploads/2023/10/NST.0-1.png
END:VEVENT
BEGIN:VEVENT
DTSTART;TZID=America/Kentucky/Louisville:20241010T133000
DTEND;TZID=America/Kentucky/Louisville:20241010T133000
DTSTAMP:20260422T100420
CREATED:20240920T185648Z
LAST-MODIFIED:20240920T185648Z
UID:10001491-1728567000-1728567000@www.laruelibrary.org
SUMMARY:Story Time
DESCRIPTION:Join us for a fun and fantastic story and a craft this Thursday at 1:30 PM! \nStory time is for children under the ages of 5. \nThis is a great opportunity to grow young readers. We make learning fun by introducing children to books\, love of reading\, and songs! We can’t wait to see you!
URL:https://www.laruelibrary.org/event/story-time-103/2024-10-10/
LOCATION:LaRue County Public Library\, 215 Lincoln Drive\, Hodgenville\, KY\, 42748\, United States
CATEGORIES:Age Under 5 Years Old,Youth Events
ATTACH;FMTTYPE=image/png:https://www.laruelibrary.org/wp-content/uploads/2023/10/NST.0-1.png
ORGANIZER;CN="LaRue Public Library":MAILTO:info@laruelibrary.org
END:VEVENT
BEGIN:VEVENT
DTSTART;TZID=America/Kentucky/Louisville:20241010T170000
DTEND;TZID=America/Kentucky/Louisville:20241010T170000
DTSTAMP:20260422T100420
CREATED:20240917T221049Z
LAST-MODIFIED:20240917T221049Z
UID:10001483-1728579600-1728579600@www.laruelibrary.org
SUMMARY:Fall Trays
DESCRIPTION:We’ll be making door hangers with charger plates. The attached photo is not the finished product but gives an idea of where we’ll be starting. To attend\, sign up by calling the library at 270-358-3851. This program is designed for adults.
URL:https://www.laruelibrary.org/event/fall-trays/
LOCATION:LaRue County Public Library\, 215 Lincoln Drive\, Hodgenville\, KY\, 42748\, United States
CATEGORIES:Adult,Adult Events
ATTACH;FMTTYPE=image/png:https://www.laruelibrary.org/wp-content/uploads/2024/09/Screenshot-2024-09-17-at-6.10.27 PM.png
END:VEVENT
BEGIN:VEVENT
DTSTART;TZID=America/Kentucky/Louisville:20241011T150000
DTEND;TZID=America/Kentucky/Louisville:20241011T150000
DTSTAMP:20260422T100420
CREATED:20240917T221441Z
LAST-MODIFIED:20240917T221441Z
UID:10001484-1728658800-1728658800@www.laruelibrary.org
SUMMARY:Burlap Flowers
DESCRIPTION:Learn how to create burlap flowers\, that make a great addition to your fall decor\, a gift\, and more! Adults & teens interested in attending should call the library to register. We’ll see you crafters on Friday\, October 11th at 3 PM.
URL:https://www.laruelibrary.org/event/burlap-flowers/
LOCATION:LaRue County Public Library\, 215 Lincoln Drive\, Hodgenville\, KY\, 42748\, United States
CATEGORIES:Adult,Adult Events,High School,Middle School
ATTACH;FMTTYPE=image/png:https://www.laruelibrary.org/wp-content/uploads/2024/09/Screenshot-2024-09-17-at-6.11.21 PM.png
END:VEVENT
BEGIN:VEVENT
DTSTART;TZID=America/Kentucky/Louisville:20241014T100000
DTEND;TZID=America/Kentucky/Louisville:20241014T100000
DTSTAMP:20260422T100420
CREATED:20240920T190724Z
LAST-MODIFIED:20240920T190724Z
UID:10001498-1728900000-1728900000@www.laruelibrary.org
SUMMARY:Stretch and Shine
DESCRIPTION:Join us for Stretch and Shine and start your day off right! \nFree low-impact exercise class beginning at 10:00am. Let’s get those muscles moving! \nThis program is designed for adults.
URL:https://www.laruelibrary.org/event/stretch-and-shine-41/2024-10-14/
LOCATION:LaRue County Public Library\, 215 Lincoln Drive\, Hodgenville\, KY\, 42748\, United States
CATEGORIES:Adult,Adult Events
ATTACH;FMTTYPE=image/png:https://www.laruelibrary.org/wp-content/uploads/2023/03/Stretch-Adult-Event-1.png
ORGANIZER;CN="LaRue Public Library":MAILTO:info@laruelibrary.org
END:VEVENT
END:VCALENDAR