BEGIN:VCALENDAR
VERSION:2.0
PRODID:-//LaRue County Public Library - ECPv6.15.20//NONSGML v1.0//EN
CALSCALE:GREGORIAN
METHOD:PUBLISH
X-WR-CALNAME:LaRue County Public Library
X-ORIGINAL-URL:https://www.laruelibrary.org
X-WR-CALDESC:Events for LaRue County Public Library
REFRESH-INTERVAL;VALUE=DURATION:PT1H
X-Robots-Tag:noindex
X-PUBLISHED-TTL:PT1H
BEGIN:VTIMEZONE
TZID:America/Kentucky/Louisville
BEGIN:DAYLIGHT
TZOFFSETFROM:-0500
TZOFFSETTO:-0400
TZNAME:EDT
DTSTART:20230312T070000
END:DAYLIGHT
BEGIN:STANDARD
TZOFFSETFROM:-0400
TZOFFSETTO:-0500
TZNAME:EST
DTSTART:20231105T060000
END:STANDARD
BEGIN:DAYLIGHT
TZOFFSETFROM:-0500
TZOFFSETTO:-0400
TZNAME:EDT
DTSTART:20240310T070000
END:DAYLIGHT
BEGIN:STANDARD
TZOFFSETFROM:-0400
TZOFFSETTO:-0500
TZNAME:EST
DTSTART:20241103T060000
END:STANDARD
BEGIN:DAYLIGHT
TZOFFSETFROM:-0500
TZOFFSETTO:-0400
TZNAME:EDT
DTSTART:20250309T070000
END:DAYLIGHT
BEGIN:STANDARD
TZOFFSETFROM:-0400
TZOFFSETTO:-0500
TZNAME:EST
DTSTART:20251102T060000
END:STANDARD
END:VTIMEZONE
BEGIN:VEVENT
DTSTART;TZID=America/Kentucky/Louisville:20241007T140000
DTEND;TZID=America/Kentucky/Louisville:20241007T140000
DTSTAMP:20260422T141211
CREATED:20240920T190354Z
LAST-MODIFIED:20240920T190354Z
UID:10001493-1728309600-1728309600@www.laruelibrary.org
SUMMARY:Community Games
DESCRIPTION:Come and have some game day fun here at the library at 2:00pm! \nBring your friends\, family\, a board game (or choose one of ours) and enjoy!
URL:https://www.laruelibrary.org/event/community-games-35/2024-10-07/
LOCATION:LaRue County Public Library\, 215 Lincoln Drive\, Hodgenville\, KY\, 42748\, United States
CATEGORIES:Adult,Adult Events,Everyone,Family,Youth Events
ATTACH;FMTTYPE=image/jpeg:https://www.laruelibrary.org/wp-content/uploads/2023/07/bg2.jpg
ORGANIZER;CN="LaRue Public Library":MAILTO:info@laruelibrary.org
END:VEVENT
BEGIN:VEVENT
DTSTART;TZID=America/Kentucky/Louisville:20241008T110000
DTEND;TZID=America/Kentucky/Louisville:20241008T110000
DTSTAMP:20260422T141211
CREATED:20240920T185319Z
LAST-MODIFIED:20240920T185319Z
UID:10001486-1728385200-1728385200@www.laruelibrary.org
SUMMARY:Story Time
DESCRIPTION:Join us for a fun and fantastic story and a craft this Tuesday at 11:00 AM! \nStory time is for children under the ages of 5. \nThis is a great opportunity to grow young readers. We make learning fun by introducing children to books\, love of reading\, and songs! We can’t wait to see you!
URL:https://www.laruelibrary.org/event/story-time-102/2024-10-08/
LOCATION:LaRue County Public Library\, 215 Lincoln Drive\, Hodgenville\, KY\, 42748\, United States
CATEGORIES:Age Under 5 Years Old,Youth Events
ATTACH;FMTTYPE=image/png:https://www.laruelibrary.org/wp-content/uploads/2023/10/NST.0-1.png
ORGANIZER;CN="LaRue Public Library":MAILTO:info@laruelibrary.org
END:VEVENT
BEGIN:VEVENT
DTSTART;TZID=America/Kentucky/Louisville:20241008T110000
DTEND;TZID=America/Kentucky/Louisville:20241008T110000
DTSTAMP:20260422T141211
CREATED:20240928T163458Z
LAST-MODIFIED:20240928T163458Z
UID:10001526-1728385200-1728385200@www.laruelibrary.org
SUMMARY:Story Time
DESCRIPTION:Join us for a fun and fantastic story and a craft this Tuesday at 11:00 AM! \nStory time is for children under the ages of 5. \nThis is a great opportunity to grow young readers. We make learning fun by introducing children to books\, love of reading\, and songs! We can’t wait to see you!
URL:https://www.laruelibrary.org/event/story-time-104/2024-10-08/
LOCATION:LaRue County Public Library\, 215 Lincoln Drive\, Hodgenville\, KY\, 42748\, United States
CATEGORIES:Age Under 5 Years Old
ATTACH;FMTTYPE=image/png:https://www.laruelibrary.org/wp-content/uploads/2023/10/NST.0-1.png
END:VEVENT
BEGIN:VEVENT
DTSTART;TZID=America/Kentucky/Louisville:20241010T133000
DTEND;TZID=America/Kentucky/Louisville:20241010T133000
DTSTAMP:20260422T141211
CREATED:20240920T185648Z
LAST-MODIFIED:20240920T185648Z
UID:10001491-1728567000-1728567000@www.laruelibrary.org
SUMMARY:Story Time
DESCRIPTION:Join us for a fun and fantastic story and a craft this Thursday at 1:30 PM! \nStory time is for children under the ages of 5. \nThis is a great opportunity to grow young readers. We make learning fun by introducing children to books\, love of reading\, and songs! We can’t wait to see you!
URL:https://www.laruelibrary.org/event/story-time-103/2024-10-10/
LOCATION:LaRue County Public Library\, 215 Lincoln Drive\, Hodgenville\, KY\, 42748\, United States
CATEGORIES:Age Under 5 Years Old,Youth Events
ATTACH;FMTTYPE=image/png:https://www.laruelibrary.org/wp-content/uploads/2023/10/NST.0-1.png
ORGANIZER;CN="LaRue Public Library":MAILTO:info@laruelibrary.org
END:VEVENT
BEGIN:VEVENT
DTSTART;TZID=America/Kentucky/Louisville:20241010T170000
DTEND;TZID=America/Kentucky/Louisville:20241010T170000
DTSTAMP:20260422T141211
CREATED:20240917T221049Z
LAST-MODIFIED:20240917T221049Z
UID:10001483-1728579600-1728579600@www.laruelibrary.org
SUMMARY:Fall Trays
DESCRIPTION:We’ll be making door hangers with charger plates. The attached photo is not the finished product but gives an idea of where we’ll be starting. To attend\, sign up by calling the library at 270-358-3851. This program is designed for adults.
URL:https://www.laruelibrary.org/event/fall-trays/
LOCATION:LaRue County Public Library\, 215 Lincoln Drive\, Hodgenville\, KY\, 42748\, United States
CATEGORIES:Adult,Adult Events
ATTACH;FMTTYPE=image/png:https://www.laruelibrary.org/wp-content/uploads/2024/09/Screenshot-2024-09-17-at-6.10.27 PM.png
END:VEVENT
BEGIN:VEVENT
DTSTART;TZID=America/Kentucky/Louisville:20241011T150000
DTEND;TZID=America/Kentucky/Louisville:20241011T150000
DTSTAMP:20260422T141211
CREATED:20240917T221441Z
LAST-MODIFIED:20240917T221441Z
UID:10001484-1728658800-1728658800@www.laruelibrary.org
SUMMARY:Burlap Flowers
DESCRIPTION:Learn how to create burlap flowers\, that make a great addition to your fall decor\, a gift\, and more! Adults & teens interested in attending should call the library to register. We’ll see you crafters on Friday\, October 11th at 3 PM.
URL:https://www.laruelibrary.org/event/burlap-flowers/
LOCATION:LaRue County Public Library\, 215 Lincoln Drive\, Hodgenville\, KY\, 42748\, United States
CATEGORIES:Adult,Adult Events,High School,Middle School
ATTACH;FMTTYPE=image/png:https://www.laruelibrary.org/wp-content/uploads/2024/09/Screenshot-2024-09-17-at-6.11.21 PM.png
END:VEVENT
BEGIN:VEVENT
DTSTART;TZID=America/Kentucky/Louisville:20241014T100000
DTEND;TZID=America/Kentucky/Louisville:20241014T100000
DTSTAMP:20260422T141211
CREATED:20240920T190724Z
LAST-MODIFIED:20240920T190724Z
UID:10001498-1728900000-1728900000@www.laruelibrary.org
SUMMARY:Stretch and Shine
DESCRIPTION:Join us for Stretch and Shine and start your day off right! \nFree low-impact exercise class beginning at 10:00am. Let’s get those muscles moving! \nThis program is designed for adults.
URL:https://www.laruelibrary.org/event/stretch-and-shine-41/2024-10-14/
LOCATION:LaRue County Public Library\, 215 Lincoln Drive\, Hodgenville\, KY\, 42748\, United States
CATEGORIES:Adult,Adult Events
ATTACH;FMTTYPE=image/png:https://www.laruelibrary.org/wp-content/uploads/2023/03/Stretch-Adult-Event-1.png
ORGANIZER;CN="LaRue Public Library":MAILTO:info@laruelibrary.org
END:VEVENT
BEGIN:VEVENT
DTSTART;TZID=America/Kentucky/Louisville:20241014T140000
DTEND;TZID=America/Kentucky/Louisville:20241014T140000
DTSTAMP:20260422T141211
CREATED:20240920T190354Z
LAST-MODIFIED:20240920T190354Z
UID:10001494-1728914400-1728914400@www.laruelibrary.org
SUMMARY:Community Games
DESCRIPTION:Come and have some game day fun here at the library at 2:00pm! \nBring your friends\, family\, a board game (or choose one of ours) and enjoy!
URL:https://www.laruelibrary.org/event/community-games-35/2024-10-14/
LOCATION:LaRue County Public Library\, 215 Lincoln Drive\, Hodgenville\, KY\, 42748\, United States
CATEGORIES:Adult,Adult Events,Everyone,Family,Youth Events
ATTACH;FMTTYPE=image/jpeg:https://www.laruelibrary.org/wp-content/uploads/2023/07/bg2.jpg
ORGANIZER;CN="LaRue Public Library":MAILTO:info@laruelibrary.org
END:VEVENT
BEGIN:VEVENT
DTSTART;TZID=America/Kentucky/Louisville:20241015T100000
DTEND;TZID=America/Kentucky/Louisville:20241015T100000
DTSTAMP:20260422T141211
CREATED:20240923T134822Z
LAST-MODIFIED:20240923T134822Z
UID:10001517-1728986400-1728986400@www.laruelibrary.org
SUMMARY:BINGOcize
DESCRIPTION:To those aged 60+\, join us on Tuesday October 15th at 10:00am for a health promotion program combining Bingo! with inclusive exercises for all! \nClass limit of 16. Adults 60+. Call to register.
URL:https://www.laruelibrary.org/event/bingocize/
LOCATION:LaRue County Public Library\, 215 Lincoln Drive\, Hodgenville\, KY\, 42748\, United States
CATEGORIES:Adult,Adult Events
ATTACH;FMTTYPE=image/jpeg:https://www.laruelibrary.org/wp-content/uploads/2024/09/ssug.jpg
ORGANIZER;CN="LaRue Public Library":MAILTO:info@laruelibrary.org
END:VEVENT
BEGIN:VEVENT
DTSTART;TZID=America/Kentucky/Louisville:20241015T110000
DTEND;TZID=America/Kentucky/Louisville:20241015T110000
DTSTAMP:20260422T141211
CREATED:20240920T185319Z
LAST-MODIFIED:20240920T185319Z
UID:10001487-1728990000-1728990000@www.laruelibrary.org
SUMMARY:Story Time
DESCRIPTION:Join us for a fun and fantastic story and a craft this Tuesday at 11:00 AM! \nStory time is for children under the ages of 5. \nThis is a great opportunity to grow young readers. We make learning fun by introducing children to books\, love of reading\, and songs! We can’t wait to see you!
URL:https://www.laruelibrary.org/event/story-time-102/2024-10-15/
LOCATION:LaRue County Public Library\, 215 Lincoln Drive\, Hodgenville\, KY\, 42748\, United States
CATEGORIES:Age Under 5 Years Old,Youth Events
ATTACH;FMTTYPE=image/png:https://www.laruelibrary.org/wp-content/uploads/2023/10/NST.0-1.png
ORGANIZER;CN="LaRue Public Library":MAILTO:info@laruelibrary.org
END:VEVENT
BEGIN:VEVENT
DTSTART;TZID=America/Kentucky/Louisville:20241015T110000
DTEND;TZID=America/Kentucky/Louisville:20241015T110000
DTSTAMP:20260422T141211
CREATED:20240928T163458Z
LAST-MODIFIED:20240928T163458Z
UID:10001527-1728990000-1728990000@www.laruelibrary.org
SUMMARY:Story Time
DESCRIPTION:Join us for a fun and fantastic story and a craft this Tuesday at 11:00 AM! \nStory time is for children under the ages of 5. \nThis is a great opportunity to grow young readers. We make learning fun by introducing children to books\, love of reading\, and songs! We can’t wait to see you!
URL:https://www.laruelibrary.org/event/story-time-104/2024-10-15/
LOCATION:LaRue County Public Library\, 215 Lincoln Drive\, Hodgenville\, KY\, 42748\, United States
CATEGORIES:Age Under 5 Years Old
ATTACH;FMTTYPE=image/png:https://www.laruelibrary.org/wp-content/uploads/2023/10/NST.0-1.png
END:VEVENT
BEGIN:VEVENT
DTSTART;TZID=America/Kentucky/Louisville:20241015T143000
DTEND;TZID=America/Kentucky/Louisville:20241015T163000
DTSTAMP:20260422T141211
CREATED:20240923T135241Z
LAST-MODIFIED:20240923T135241Z
UID:10001518-1729002600-1729009800@www.laruelibrary.org
SUMMARY:CASA Table
DESCRIPTION:CASA of the Heartland will be here Tuesday\, October 15th from 2:30pm-4:00pm to answer any questions that you may have about being a court appointed advocate!
URL:https://www.laruelibrary.org/event/casa-table/
LOCATION:LaRue County Public Library\, 215 Lincoln Drive\, Hodgenville\, KY\, 42748\, United States
CATEGORIES:Adult,Adult Events
ATTACH;FMTTYPE=image/jpeg:https://www.laruelibrary.org/wp-content/uploads/2024/09/assug.jpg
ORGANIZER;CN="LaRue Public Library":MAILTO:info@laruelibrary.org
END:VEVENT
BEGIN:VEVENT
DTSTART;TZID=America/Kentucky/Louisville:20241015T150000
DTEND;TZID=America/Kentucky/Louisville:20241015T150000
DTSTAMP:20260422T141211
CREATED:20240920T191639Z
LAST-MODIFIED:20240920T191639Z
UID:10001502-1729004400-1729004400@www.laruelibrary.org
SUMMARY:Branch Art
DESCRIPTION:Join us on Tuesday\, October 15th at 3:00pm for this craft! (The finished project will look similar to what is pictured.) \nClass limit of 18. Call to register. Teens & Adults.
URL:https://www.laruelibrary.org/event/branch-art/
LOCATION:LaRue County Public Library\, 215 Lincoln Drive\, Hodgenville\, KY\, 42748\, United States
CATEGORIES:Adult,Adult Events,High School,Youth Events
ATTACH;FMTTYPE=image/png:https://www.laruelibrary.org/wp-content/uploads/2024/09/Branch-Art.png
ORGANIZER;CN="LaRue Public Library":MAILTO:info@laruelibrary.org
END:VEVENT
BEGIN:VEVENT
DTSTART;TZID=America/Kentucky/Louisville:20241015T153000
DTEND;TZID=America/Kentucky/Louisville:20241015T153000
DTSTAMP:20260422T141211
CREATED:20240923T135726Z
LAST-MODIFIED:20240923T135726Z
UID:10001519-1729006200-1729006200@www.laruelibrary.org
SUMMARY:Pumpkin Carving
DESCRIPTION:Join us on Tuesday\, October 15th at 3:45pm to carve pumpkins! \nGrade School – Teens. Call to register.
URL:https://www.laruelibrary.org/event/pumpkin-carving/
LOCATION:LaRue County Public Library\, 215 Lincoln Drive\, Hodgenville\, KY\, 42748\, United States
CATEGORIES:Grade School,High School,Middle School,Youth Events
ATTACH;FMTTYPE=image/png:https://www.laruelibrary.org/wp-content/uploads/2024/09/Pumpkin-Carving.png
ORGANIZER;CN="LaRue Public Library":MAILTO:info@laruelibrary.org
END:VEVENT
BEGIN:VEVENT
DTSTART;TZID=America/Kentucky/Louisville:20241016T140000
DTEND;TZID=America/Kentucky/Louisville:20241016T140000
DTSTAMP:20260422T141211
CREATED:20240923T140038Z
LAST-MODIFIED:20240923T140038Z
UID:10001520-1729087200-1729087200@www.laruelibrary.org
SUMMARY:Baby Craft: Footprint Apples
DESCRIPTION:Join us on Wednesday\, October 16th at 2:00pm to make footprint apples! \nThis is a sweet and delightfully autumn-themed craft for all the cute babies out there to do! \nNo registration needed.
URL:https://www.laruelibrary.org/event/baby-craft-footprint-apples/
LOCATION:LaRue County Public Library\, 215 Lincoln Drive\, Hodgenville\, KY\, 42748\, United States
CATEGORIES:Ages 0 - 36 Months,Youth Events
ATTACH;FMTTYPE=image/png:https://www.laruelibrary.org/wp-content/uploads/2024/09/Apple-Feet.png
ORGANIZER;CN="LaRue Public Library":MAILTO:info@laruelibrary.org
END:VEVENT
BEGIN:VEVENT
DTSTART;TZID=America/Kentucky/Louisville:20241017T133000
DTEND;TZID=America/Kentucky/Louisville:20241017T133000
DTSTAMP:20260422T141211
CREATED:20240920T185648Z
LAST-MODIFIED:20240920T185648Z
UID:10001492-1729171800-1729171800@www.laruelibrary.org
SUMMARY:Story Time
DESCRIPTION:Join us for a fun and fantastic story and a craft this Thursday at 1:30 PM! \nStory time is for children under the ages of 5. \nThis is a great opportunity to grow young readers. We make learning fun by introducing children to books\, love of reading\, and songs! We can’t wait to see you!
URL:https://www.laruelibrary.org/event/story-time-103/2024-10-17/
LOCATION:LaRue County Public Library\, 215 Lincoln Drive\, Hodgenville\, KY\, 42748\, United States
CATEGORIES:Age Under 5 Years Old,Youth Events
ATTACH;FMTTYPE=image/png:https://www.laruelibrary.org/wp-content/uploads/2023/10/NST.0-1.png
ORGANIZER;CN="LaRue Public Library":MAILTO:info@laruelibrary.org
END:VEVENT
BEGIN:VEVENT
DTSTART;TZID=America/Kentucky/Louisville:20241017T153000
DTEND;TZID=America/Kentucky/Louisville:20241017T153000
DTSTAMP:20260422T141211
CREATED:20240920T191936Z
LAST-MODIFIED:20240920T191936Z
UID:10001503-1729179000-1729179000@www.laruelibrary.org
SUMMARY:Book Club
DESCRIPTION:Come join us on Thursday\, October 17th at 3:30pm for Book Club! \nThis is an Adult program.
URL:https://www.laruelibrary.org/event/book-club-18/
LOCATION:LaRue County Public Library\, 215 Lincoln Drive\, Hodgenville\, KY\, 42748\, United States
CATEGORIES:Adult,Adult Events
ATTACH;FMTTYPE=image/jpeg:https://www.laruelibrary.org/wp-content/uploads/2023/07/bc2.jpg
ORGANIZER;CN="LaRue Public Library":MAILTO:info@laruelibrary.org
END:VEVENT
BEGIN:VEVENT
DTSTART;TZID=America/Kentucky/Louisville:20241017T163000
DTEND;TZID=America/Kentucky/Louisville:20241017T163000
DTSTAMP:20260422T141211
CREATED:20240920T192606Z
LAST-MODIFIED:20240920T192606Z
UID:10001504-1729182600-1729182600@www.laruelibrary.org
SUMMARY:Board Meeting
DESCRIPTION:LCPL Board Meeting on Thursday\, October 17th at 4:30pm. \nThis is for adults only. 
URL:https://www.laruelibrary.org/event/board-meeting-16/
LOCATION:LaRue County Public Library\, 215 Lincoln Drive\, Hodgenville\, KY\, 42748\, United States
CATEGORIES:Adult,Adult Events
ATTACH;FMTTYPE=image/jpeg:https://www.laruelibrary.org/wp-content/uploads/2023/07/brm2.jpg
ORGANIZER;CN="LaRue Public Library":MAILTO:info@laruelibrary.org
END:VEVENT
BEGIN:VEVENT
DTSTART;TZID=America/Kentucky/Louisville:20241017T173000
DTEND;TZID=America/Kentucky/Louisville:20241017T173000
DTSTAMP:20260422T141211
CREATED:20240920T193047Z
LAST-MODIFIED:20240920T193047Z
UID:10001505-1729186200-1729186200@www.laruelibrary.org
SUMMARY:Cooking Wild LaRue
DESCRIPTION:On Thursday\, October 17th at 5:30pm\, join Adam Thomas and Susan Riggs (from the LaRue County Extension Office) to learn about wildlife management strategies along with preparing and cooking venison. \nYou’ll get to sample Slow Cooker Venison Enchiladas and receive other recipes for you to try at home! \nEveryone is welcome!
URL:https://www.laruelibrary.org/event/cooking-wild-larue/
LOCATION:LaRue County Public Library\, 215 Lincoln Drive\, Hodgenville\, KY\, 42748\, United States
CATEGORIES:Adult,Adult Events,Everyone,Family,Youth Events
ATTACH;FMTTYPE=image/png:https://www.laruelibrary.org/wp-content/uploads/2024/09/Cooking-Wild.png
ORGANIZER;CN="LaRue Public Library":MAILTO:info@laruelibrary.org
END:VEVENT
BEGIN:VEVENT
DTSTART;TZID=America/Kentucky/Louisville:20241018T143000
DTEND;TZID=America/Kentucky/Louisville:20241018T143000
DTSTAMP:20260422T141211
CREATED:20240920T200321Z
LAST-MODIFIED:20240920T200321Z
UID:10001506-1729261800-1729261800@www.laruelibrary.org
SUMMARY:Introduction to AI
DESCRIPTION:Join us on Friday\, October 18th at 2:30pm as Andrew Barnes teaches us what there is to know about AI! \nThis is a program that can help address any questions or concerns you have about this leap in technology! \nNo sign-up needed. Teens and Adults.
URL:https://www.laruelibrary.org/event/introduction-to-ai/
LOCATION:LaRue County Public Library\, 215 Lincoln Drive\, Hodgenville\, KY\, 42748\, United States
CATEGORIES:Adult,Adult Events,High School,Youth Events
ATTACH;FMTTYPE=image/png:https://www.laruelibrary.org/wp-content/uploads/2024/09/AI.png
ORGANIZER;CN="LaRue Public Library":MAILTO:info@laruelibrary.org
END:VEVENT
BEGIN:VEVENT
DTSTART;TZID=America/Kentucky/Louisville:20241018T143000
DTEND;TZID=America/Kentucky/Louisville:20241018T143000
DTSTAMP:20260422T141211
CREATED:20240923T140443Z
LAST-MODIFIED:20240923T140443Z
UID:10001521-1729261800-1729261800@www.laruelibrary.org
SUMMARY:Family Movie
DESCRIPTION:Join us on Friday\, October 18th @ 2:45pm for a snack and a fun family movie! \nEveryone welcome! No registration needed.
URL:https://www.laruelibrary.org/event/family-movie-4/
LOCATION:LaRue County Public Library\, 215 Lincoln Drive\, Hodgenville\, KY\, 42748\, United States
CATEGORIES:Family,Youth Events
ATTACH;FMTTYPE=image/png:https://www.laruelibrary.org/wp-content/uploads/2024/06/Family-Movie1.png
ORGANIZER;CN="LaRue Public Library":MAILTO:info@laruelibrary.org
END:VEVENT
BEGIN:VEVENT
DTSTART;TZID=America/Kentucky/Louisville:20241021T100000
DTEND;TZID=America/Kentucky/Louisville:20241021T100000
DTSTAMP:20260422T141211
CREATED:20240920T190724Z
LAST-MODIFIED:20240920T190724Z
UID:10001499-1729504800-1729504800@www.laruelibrary.org
SUMMARY:Stretch and Shine
DESCRIPTION:Join us for Stretch and Shine and start your day off right! \nFree low-impact exercise class beginning at 10:00am. Let’s get those muscles moving! \nThis program is designed for adults.
URL:https://www.laruelibrary.org/event/stretch-and-shine-41/2024-10-21/
LOCATION:LaRue County Public Library\, 215 Lincoln Drive\, Hodgenville\, KY\, 42748\, United States
CATEGORIES:Adult,Adult Events
ATTACH;FMTTYPE=image/png:https://www.laruelibrary.org/wp-content/uploads/2023/03/Stretch-Adult-Event-1.png
ORGANIZER;CN="LaRue Public Library":MAILTO:info@laruelibrary.org
END:VEVENT
BEGIN:VEVENT
DTSTART;TZID=America/Kentucky/Louisville:20241021T140000
DTEND;TZID=America/Kentucky/Louisville:20241021T140000
DTSTAMP:20260422T141211
CREATED:20240920T190354Z
LAST-MODIFIED:20240920T190354Z
UID:10001495-1729519200-1729519200@www.laruelibrary.org
SUMMARY:Community Games
DESCRIPTION:Come and have some game day fun here at the library at 2:00pm! \nBring your friends\, family\, a board game (or choose one of ours) and enjoy!
URL:https://www.laruelibrary.org/event/community-games-35/2024-10-21/
LOCATION:LaRue County Public Library\, 215 Lincoln Drive\, Hodgenville\, KY\, 42748\, United States
CATEGORIES:Adult,Adult Events,Everyone,Family,Youth Events
ATTACH;FMTTYPE=image/jpeg:https://www.laruelibrary.org/wp-content/uploads/2023/07/bg2.jpg
ORGANIZER;CN="LaRue Public Library":MAILTO:info@laruelibrary.org
END:VEVENT
BEGIN:VEVENT
DTSTART;TZID=America/Kentucky/Louisville:20241021T153000
DTEND;TZID=America/Kentucky/Louisville:20241021T153000
DTSTAMP:20260422T141211
CREATED:20240920T191236Z
LAST-MODIFIED:20240920T191236Z
UID:10001501-1729524600-1729524600@www.laruelibrary.org
SUMMARY:Spiderweb Craft
DESCRIPTION:Join us on Monday\, October 21st @ 3:30pm for a simple craft for ages Grade School – Teen!
URL:https://www.laruelibrary.org/event/spiderweb-craft/
LOCATION:LaRue County Public Library\, 215 Lincoln Drive\, Hodgenville\, KY\, 42748\, United States
CATEGORIES:Grade School,High School,Middle School,Youth Events
ATTACH;FMTTYPE=image/png:https://www.laruelibrary.org/wp-content/uploads/2024/09/Spider-Web.png
ORGANIZER;CN="LaRue Public Library":MAILTO:info@laruelibrary.org
END:VEVENT
BEGIN:VEVENT
DTSTART;TZID=America/Kentucky/Louisville:20241022T110000
DTEND;TZID=America/Kentucky/Louisville:20241022T110000
DTSTAMP:20260422T141211
CREATED:20240920T185319Z
LAST-MODIFIED:20240920T185319Z
UID:10001488-1729594800-1729594800@www.laruelibrary.org
SUMMARY:Story Time
DESCRIPTION:Join us for a fun and fantastic story and a craft this Tuesday at 11:00 AM! \nStory time is for children under the ages of 5. \nThis is a great opportunity to grow young readers. We make learning fun by introducing children to books\, love of reading\, and songs! We can’t wait to see you!
URL:https://www.laruelibrary.org/event/story-time-102/2024-10-22/
LOCATION:LaRue County Public Library\, 215 Lincoln Drive\, Hodgenville\, KY\, 42748\, United States
CATEGORIES:Age Under 5 Years Old,Youth Events
ATTACH;FMTTYPE=image/png:https://www.laruelibrary.org/wp-content/uploads/2023/10/NST.0-1.png
ORGANIZER;CN="LaRue Public Library":MAILTO:info@laruelibrary.org
END:VEVENT
BEGIN:VEVENT
DTSTART;TZID=America/Kentucky/Louisville:20241022T130000
DTEND;TZID=America/Kentucky/Louisville:20241022T143000
DTSTAMP:20260422T141211
CREATED:20240920T200905Z
LAST-MODIFIED:20240920T200905Z
UID:10001508-1729602000-1729607400@www.laruelibrary.org
SUMMARY:Kynect
DESCRIPTION:What can Kynect do for you? Ginny Whitt will be set up in the lobby on Tuesday\, October 22nd from 1:00-2:30pm.  \nYou might be surprised by what she can help with Snap benefits\, Medicaid\, and Kentucky Marketplace Insurance. Let her help you avoid those phone calls and red tape. \nThis program is designed for Adults.
URL:https://www.laruelibrary.org/event/kynect-22/
LOCATION:LaRue County Public Library\, 215 Lincoln Drive\, Hodgenville\, KY\, 42748\, United States
CATEGORIES:Adult,Adult Events
ATTACH;FMTTYPE=image/png:https://www.laruelibrary.org/wp-content/uploads/2023/08/kynect2.png
ORGANIZER;CN="LaRue Public Library":MAILTO:info@laruelibrary.org
END:VEVENT
BEGIN:VEVENT
DTSTART;TZID=America/Kentucky/Louisville:20241022T150000
DTEND;TZID=America/Kentucky/Louisville:20241022T150000
DTSTAMP:20260422T141211
CREATED:20240920T200602Z
LAST-MODIFIED:20240920T200602Z
UID:10001507-1729609200-1729609200@www.laruelibrary.org
SUMMARY:Book Page Wreaths
DESCRIPTION:Join us on Tuesday\, October 22nd at 3:00pm to make fall-themed book page wreaths! \nCall to register. Class limit of 24. Teens and Adults.
URL:https://www.laruelibrary.org/event/book-page-wreaths/
LOCATION:LaRue County Public Library\, 215 Lincoln Drive\, Hodgenville\, KY\, 42748\, United States
CATEGORIES:Adult,Adult Events,High School,Youth Events
ATTACH;FMTTYPE=image/png:https://www.laruelibrary.org/wp-content/uploads/2024/09/Book-Page-Wreaths.png
ORGANIZER;CN="LaRue Public Library":MAILTO:info@laruelibrary.org
END:VEVENT
BEGIN:VEVENT
DTSTART;TZID=America/Kentucky/Louisville:20241022T160000
DTEND;TZID=America/Kentucky/Louisville:20241022T160000
DTSTAMP:20260422T141211
CREATED:20240923T140650Z
LAST-MODIFIED:20240923T140650Z
UID:10001522-1729612800-1729612800@www.laruelibrary.org
SUMMARY:Teen Book Club
DESCRIPTION:Join us for our teen book club meeting at Vibe Coffee in downtown Hodgenville! We’ll get our copy of the first book and talk about how we want to continue book club during the school year! \nSee you on Tuesday\, October 22nd at 4:00 PM at Vibe Coffee. \nThis program is for teens.
URL:https://www.laruelibrary.org/event/teen-book-club-8/
LOCATION:Vibe Coffee Hodgenville\, 118 N Lincoln Blvd\, Hodgenville\, KY\, 42748\, United States
CATEGORIES:High School,Youth Events
ATTACH;FMTTYPE=image/png:https://www.laruelibrary.org/wp-content/uploads/2024/06/Teen-BC.png
ORGANIZER;CN="LaRue Public Library":MAILTO:info@laruelibrary.org
END:VEVENT
BEGIN:VEVENT
DTSTART;TZID=America/Kentucky/Louisville:20241023T180000
DTEND;TZID=America/Kentucky/Louisville:20241023T180000
DTSTAMP:20260422T141211
CREATED:20240920T201528Z
LAST-MODIFIED:20240923T150139Z
UID:10001509-1729706400-1729706400@www.laruelibrary.org
SUMMARY:Offsite Book Club
DESCRIPTION:We will be meeting at Top Hat Tavern for Adult Book Club on Wednesday\, October 23rd at 6:00pm! \nOur first time\, we’ll be discussing what type of books that you like to read. \nAdults only.
URL:https://www.laruelibrary.org/event/offsite-book-club/
LOCATION:Top Hat Tavern\, 23 Lincoln Square\, Hodgenville\, KY\, 42748\, United States
CATEGORIES:Adult,Adult Events
ATTACH;FMTTYPE=image/png:https://www.laruelibrary.org/wp-content/uploads/2024/09/Offsite-Book-Club.png
ORGANIZER;CN="LaRue Public Library":MAILTO:info@laruelibrary.org
END:VEVENT
BEGIN:VEVENT
DTSTART;TZID=America/Kentucky/Louisville:20241024T100000
DTEND;TZID=America/Kentucky/Louisville:20241024T100000
DTSTAMP:20260422T141211
CREATED:20240920T202612Z
LAST-MODIFIED:20240920T202612Z
UID:10001511-1729764000-1729764000@www.laruelibrary.org
SUMMARY:Coffee for Veterans
DESCRIPTION:Join us on Thursday\, October 24th @ 10:00am in the LCPL community room for a very special program (with spouses/partners being welcome). \nWe will have a special guest speaking.
URL:https://www.laruelibrary.org/event/coffee-for-veterans-9/
LOCATION:LaRue County Public Library\, 215 Lincoln Drive\, Hodgenville\, KY\, 42748\, United States
CATEGORIES:Adult,Adult Events
ATTACH;FMTTYPE=image/png:https://www.laruelibrary.org/wp-content/uploads/2024/01/vetcoffee.png
ORGANIZER;CN="LaRue Public Library":MAILTO:info@laruelibrary.org
END:VEVENT
END:VCALENDAR