BEGIN:VCALENDAR
VERSION:2.0
PRODID:-//LaRue County Public Library - ECPv6.15.20//NONSGML v1.0//EN
CALSCALE:GREGORIAN
METHOD:PUBLISH
X-WR-CALNAME:LaRue County Public Library
X-ORIGINAL-URL:https://www.laruelibrary.org
X-WR-CALDESC:Events for LaRue County Public Library
REFRESH-INTERVAL;VALUE=DURATION:PT1H
X-Robots-Tag:noindex
X-PUBLISHED-TTL:PT1H
BEGIN:VTIMEZONE
TZID:America/Kentucky/Louisville
BEGIN:DAYLIGHT
TZOFFSETFROM:-0500
TZOFFSETTO:-0400
TZNAME:EDT
DTSTART:20250309T070000
END:DAYLIGHT
BEGIN:STANDARD
TZOFFSETFROM:-0400
TZOFFSETTO:-0500
TZNAME:EST
DTSTART:20251102T060000
END:STANDARD
BEGIN:DAYLIGHT
TZOFFSETFROM:-0500
TZOFFSETTO:-0400
TZNAME:EDT
DTSTART:20260308T070000
END:DAYLIGHT
BEGIN:STANDARD
TZOFFSETFROM:-0400
TZOFFSETTO:-0500
TZNAME:EST
DTSTART:20261101T060000
END:STANDARD
BEGIN:DAYLIGHT
TZOFFSETFROM:-0500
TZOFFSETTO:-0400
TZNAME:EDT
DTSTART:20270314T070000
END:DAYLIGHT
BEGIN:STANDARD
TZOFFSETFROM:-0400
TZOFFSETTO:-0500
TZNAME:EST
DTSTART:20271107T060000
END:STANDARD
END:VTIMEZONE
BEGIN:VEVENT
DTSTART;TZID=America/Kentucky/Louisville:20260402T143000
DTEND;TZID=America/Kentucky/Louisville:20260402T163000
DTSTAMP:20260426T000559
CREATED:20260317T212214Z
LAST-MODIFIED:20260317T212214Z
UID:10003363-1775140200-1775147400@www.laruelibrary.org
SUMMARY:Tech Bytes
DESCRIPTION:Have a question about your phone\, email\, website\, or other technology use? Come in for one-on-one assistance with our tech services librarian\, Tschakha! Please be sure to bring your own device.
URL:https://www.laruelibrary.org/event/tech-bytes-3/
LOCATION:LaRue County Public Library\, 215 Lincoln Drive\, Hodgenville\, KY\, 42748\, United States
CATEGORIES:Adult,Adult Events
ATTACH;FMTTYPE=image/png:https://www.laruelibrary.org/wp-content/uploads/2026/03/Screenshot-2026-03-17-at-5.21.58-PM.png
END:VEVENT
BEGIN:VEVENT
DTSTART;TZID=America/Kentucky/Louisville:20260402T133000
DTEND;TZID=America/Kentucky/Louisville:20260402T133000
DTSTAMP:20260426T000559
CREATED:20260316T201946Z
LAST-MODIFIED:20260316T201946Z
UID:10003352-1775136600-1775136600@www.laruelibrary.org
SUMMARY:Story Time
DESCRIPTION:Join us for a fun and fantastic story and a craft on Tuesday at 11:00 AM and on Thursday at 1:30 PM! \nStory time is for children under the ages of 5. \nThis is a great opportunity to grow young readers. We make learning fun by introducing children to books\, love of reading\, and songs! We can’t wait to see you!
URL:https://www.laruelibrary.org/event/story-time-132/2026-04-02/
LOCATION:LaRue County Public Library\, 215 Lincoln Drive\, Hodgenville\, KY\, 42748\, United States
CATEGORIES:Age Under 5 Years Old,Youth Events
ATTACH;FMTTYPE=image/png:https://www.laruelibrary.org/wp-content/uploads/2026/03/maternityST.png
ORGANIZER;CN="LaRue Public Library":MAILTO:info@laruelibrary.org
END:VEVENT
BEGIN:VEVENT
DTSTART;TZID=America/Kentucky/Louisville:20260331T150000
DTEND;TZID=America/Kentucky/Louisville:20260331T150000
DTSTAMP:20260426T000559
CREATED:20260219T195851Z
LAST-MODIFIED:20260219T195851Z
UID:10003053-1774969200-1774969200@www.laruelibrary.org
SUMMARY:Can Bunnies
DESCRIPTION:Join us on Tuesday\, March 31st at 3:00pm to make bunny cans! \nBring a clean 14.5oz can WITHOUT the label. \nTeens and Adults. Call to register.
URL:https://www.laruelibrary.org/event/can-bunnies/
LOCATION:LaRue County Public Library\, 215 Lincoln Drive\, Hodgenville\, KY\, 42748\, United States
CATEGORIES:Adult,Adult Events,High School,Youth Events
ATTACH;FMTTYPE=image/png:https://www.laruelibrary.org/wp-content/uploads/2026/02/cans31.png
ORGANIZER;CN="LaRue Public Library":MAILTO:info@laruelibrary.org
END:VEVENT
BEGIN:VEVENT
DTSTART;TZID=America/Kentucky/Louisville:20260331T110000
DTEND;TZID=America/Kentucky/Louisville:20260331T110000
DTSTAMP:20260426T000559
CREATED:20260219T215251Z
LAST-MODIFIED:20260219T215251Z
UID:10003063-1774954800-1774954800@www.laruelibrary.org
SUMMARY:Story Time
DESCRIPTION:Join us for a fun and fantastic story and a craft on Tuesday at 11:00 AM and on Thursday at 1:30 PM! \nStory time is for children under the ages of 5. \nThis is a great opportunity to grow young readers. We make learning fun by introducing children to books\, love of reading\, and songs! We can’t wait to see you!
URL:https://www.laruelibrary.org/event/story-time-131/2026-03-31/
LOCATION:LaRue County Public Library\, 215 Lincoln Drive\, Hodgenville\, KY\, 42748\, United States
CATEGORIES:Age Under 5 Years Old,Youth Events
ATTACH;FMTTYPE=image/png:https://www.laruelibrary.org/wp-content/uploads/2023/10/NST.0-1.png
ORGANIZER;CN="LaRue Public Library":MAILTO:info@laruelibrary.org
END:VEVENT
BEGIN:VEVENT
DTSTART;TZID=America/Kentucky/Louisville:20260330T140000
DTEND;TZID=America/Kentucky/Louisville:20260330T140000
DTSTAMP:20260426T000559
CREATED:20260112T150059Z
LAST-MODIFIED:20260112T150059Z
UID:10002969-1774879200-1774879200@www.laruelibrary.org
SUMMARY:Community Games
DESCRIPTION:Come and have some game day fun here at the library at 2:00 pm! Bring your friends\, family\, a board game (or choose one of ours)\, and enjoy! We’ll see you on Monday at 2 PM in the Community Room at the library.
URL:https://www.laruelibrary.org/event/community-games-52/2026-03-30/
LOCATION:LaRue County Public Library\, 215 Lincoln Drive\, Hodgenville\, KY\, 42748\, United States
CATEGORIES:Adult,Adult Events,Everyone,Family,Youth Events
ATTACH;FMTTYPE=image/jpeg:https://www.laruelibrary.org/wp-content/uploads/2025/01/game.jpeg
ORGANIZER;CN="LaRue Public Library":MAILTO:info@laruelibrary.org
END:VEVENT
BEGIN:VEVENT
DTSTART;TZID=America/Kentucky/Louisville:20260330T100000
DTEND;TZID=America/Kentucky/Louisville:20260330T100000
DTSTAMP:20260426T000559
CREATED:20260221T151547Z
LAST-MODIFIED:20260221T151547Z
UID:10003073-1774864800-1774864800@www.laruelibrary.org
SUMMARY:Stretch and Shine
DESCRIPTION:Ease into your week with Stretch and Shine\, a low-impact program focused on stretching and simple\, relaxing movements. Designed for adults of all mobility levels\, this session supports flexibility\, balance\, and a sense of calm. Join us at the library every Monday at 10 AM. No special equipment needed—just wear comfortable clothes and enjoy some time to move and unwind.
URL:https://www.laruelibrary.org/event/stretch-and-shine-59/2026-03-30/
LOCATION:LaRue County Public Library\, 215 Lincoln Drive\, Hodgenville\, KY\, 42748\, United States
CATEGORIES:Adult,Adult Events
ATTACH;FMTTYPE=image/png:https://www.laruelibrary.org/wp-content/uploads/2023/03/Stretch-Adult-Event-1.png
END:VEVENT
BEGIN:VEVENT
DTSTART;TZID=America/Kentucky/Louisville:20260330T100000
DTEND;TZID=America/Kentucky/Louisville:20260330T100000
DTSTAMP:20260426T000559
CREATED:20260112T145648Z
LAST-MODIFIED:20260112T145648Z
UID:10002918-1774864800-1774864800@www.laruelibrary.org
SUMMARY:Stretch and Shine
DESCRIPTION:Ease into your week with Stretch and Shine\, a low-impact program focused on stretching and simple\, relaxing movements. Designed for adults of all mobility levels\, this session supports flexibility\, balance\, and a sense of calm. Join us at the library every Monday at 10 AM. No special equipment needed—just wear comfortable clothes and enjoy some time to move and unwind.
URL:https://www.laruelibrary.org/event/stretch-and-shine-58/2026-03-30/
LOCATION:LaRue County Public Library\, 215 Lincoln Drive\, Hodgenville\, KY\, 42748\, United States
CATEGORIES:Adult,Adult Events
ATTACH;FMTTYPE=image/png:https://www.laruelibrary.org/wp-content/uploads/2023/03/Stretch-Adult-Event-1.png
ORGANIZER;CN="LaRue Public Library":MAILTO:info@laruelibrary.org
END:VEVENT
BEGIN:VEVENT
DTSTART;TZID=America/Kentucky/Louisville:20260327T150000
DTEND;TZID=America/Kentucky/Louisville:20260327T150000
DTSTAMP:20260426T000559
CREATED:20260219T195629Z
LAST-MODIFIED:20260219T195629Z
UID:10003052-1774623600-1774623600@www.laruelibrary.org
SUMMARY:Book Page Chickens
DESCRIPTION:Join us on Friday\, March 27th at 3:00pm to make book page chickens! \nTeens and Adults. Call to register.
URL:https://www.laruelibrary.org/event/book-page-chickens/
LOCATION:LaRue County Public Library\, 215 Lincoln Drive\, Hodgenville\, KY\, 42748\, United States
CATEGORIES:Adult,Adult Events,High School,Youth Events
ATTACH;FMTTYPE=image/png:https://www.laruelibrary.org/wp-content/uploads/2026/02/chickens27.png
ORGANIZER;CN="LaRue Public Library":MAILTO:info@laruelibrary.org
END:VEVENT
BEGIN:VEVENT
DTSTART;TZID=America/Kentucky/Louisville:20260327T093000
DTEND;TZID=America/Kentucky/Louisville:20260327T093000
DTSTAMP:20260426T000559
CREATED:20250916T201451Z
LAST-MODIFIED:20250916T201451Z
UID:10002277-1774603800-1774603800@www.laruelibrary.org
SUMMARY:Tiny Hawks Story Time
DESCRIPTION:Join us for a very special Tiny Hawks Story Time at 9:30am with assistance from Ellen Shelton! Each session\, children will receive a free educational take-home item/supplies (provided by the ALES Family Resource Center). \nThese story times/sessions will take place at LaRue County Public Library on Friday September 26th\, Friday October 24th\, November 21st\, January 30th\, February 27th\, March 27th\, and April 24th These story times/sessions are geared toward preschool age children (2-5 years old) and their caregiver(s). \nSign-up is NOT required. \nFor more info\, contact: \nTaylor Metcalf; LCPL Children’s Librarian @ 358-3851 \nEllen Shelton; ALES FRC Coordinator @ 358-7130
URL:https://www.laruelibrary.org/event/tiny-hawks-story-time-2/2026-03-27/
LOCATION:LaRue County Public Library\, 215 Lincoln Drive\, Hodgenville\, KY\, 42748\, United States
CATEGORIES:Age Under 5 Years Old,Youth Events
ATTACH;FMTTYPE=image/png:https://www.laruelibrary.org/wp-content/uploads/2025/08/tiny.png
ORGANIZER;CN="LaRue Public Library":MAILTO:info@laruelibrary.org
END:VEVENT
BEGIN:VEVENT
DTSTART;TZID=America/Kentucky/Louisville:20260326T170000
DTEND;TZID=America/Kentucky/Louisville:20260326T170000
DTSTAMP:20260426T000559
CREATED:20260219T195403Z
LAST-MODIFIED:20260219T195403Z
UID:10003051-1774544400-1774544400@www.laruelibrary.org
SUMMARY:Page to Plate
DESCRIPTION:Check out a cookbook and choose a recipe to make\, share\, and speak about on Thursday\, March 26th at 5:00pm! \nChoose an soup for March! \nTeens and Adults. Call to register.
URL:https://www.laruelibrary.org/event/page-to-plate-3/
LOCATION:LaRue County Public Library\, 215 Lincoln Drive\, Hodgenville\, KY\, 42748\, United States
CATEGORIES:Adult,Adult Events,High School,Youth Events
ATTACH;FMTTYPE=image/png:https://www.laruelibrary.org/wp-content/uploads/2026/02/page26.png
ORGANIZER;CN="LaRue Public Library":MAILTO:info@laruelibrary.org
END:VEVENT
BEGIN:VEVENT
DTSTART;TZID=America/Kentucky/Louisville:20260326T153000
DTEND;TZID=America/Kentucky/Louisville:20260326T153000
DTSTAMP:20260426T000559
CREATED:20260220T165916Z
LAST-MODIFIED:20260220T165916Z
UID:10003068-1774539000-1774539000@www.laruelibrary.org
SUMMARY:Make Your Own Holiday!
DESCRIPTION:Join us on Thursday\, March 26th at 3:30pm to make your own holiday! \nThis is a Family activity
URL:https://www.laruelibrary.org/event/make-your-own-holiday/
LOCATION:LaRue County Public Library\, 215 Lincoln Drive\, Hodgenville\, KY\, 42748\, United States
CATEGORIES:Family,Youth Events
ATTACH;FMTTYPE=image/png:https://www.laruelibrary.org/wp-content/uploads/2026/02/make26.png
ORGANIZER;CN="LaRue Public Library":MAILTO:info@laruelibrary.org
END:VEVENT
BEGIN:VEVENT
DTSTART;TZID=America/Kentucky/Louisville:20260326T150000
DTEND;TZID=America/Kentucky/Louisville:20260326T170000
DTSTAMP:20260426T000559
CREATED:20260219T195221Z
LAST-MODIFIED:20260219T195221Z
UID:10003050-1774537200-1774544400@www.laruelibrary.org
SUMMARY:KY Career Center
DESCRIPTION:Job search assistance (best resume practices\, personal branding\, leveling up job search strategies\, etc) on Thursday\, March 26th from 3:00-5:00pm \nContact claudette@laruelibrary.org for more information
URL:https://www.laruelibrary.org/event/ky-career-center-4/
LOCATION:LaRue County Public Library\, 215 Lincoln Drive\, Hodgenville\, KY\, 42748\, United States
CATEGORIES:Adult,Adult Events
ATTACH;FMTTYPE=image/png:https://www.laruelibrary.org/wp-content/uploads/2026/02/job26.png
ORGANIZER;CN="LaRue Public Library":MAILTO:info@laruelibrary.org
END:VEVENT
BEGIN:VEVENT
DTSTART;TZID=America/Kentucky/Louisville:20260326T100000
DTEND;TZID=America/Kentucky/Louisville:20260326T100000
DTSTAMP:20260426T000559
CREATED:20260219T195037Z
LAST-MODIFIED:20260219T195037Z
UID:10003049-1774519200-1774519200@www.laruelibrary.org
SUMMARY:Coffee for Veterans
DESCRIPTION:Join us on Thursday\, March 26th at 10:00AM for Coffee for Veterans – spouses and partners are welcome.
URL:https://www.laruelibrary.org/event/coffee-for-veterans-24/
LOCATION:LaRue County Public Library\, 215 Lincoln Drive\, Hodgenville\, KY\, 42748\, United States
CATEGORIES:Adult,Adult Events
ATTACH;FMTTYPE=image/png:https://www.laruelibrary.org/wp-content/uploads/2026/02/coffee26.png
ORGANIZER;CN="LaRue Public Library":MAILTO:info@laruelibrary.org
END:VEVENT
BEGIN:VEVENT
DTSTART;VALUE=DATE:20260326
DTEND;VALUE=DATE:20260327
DTSTAMP:20260426T000559
CREATED:20260219T212441Z
LAST-MODIFIED:20260219T212441Z
UID:10003055-1774483200-1774569599@www.laruelibrary.org
SUMMARY:Story Time Moved!
DESCRIPTION:We will be having a very special story time tomorrow Friday\, March 27th @ 9:30am––so no story time today!
URL:https://www.laruelibrary.org/event/story-time-moved-7/
LOCATION:LaRue County Public Library\, 215 Lincoln Drive\, Hodgenville\, KY\, 42748\, United States
CATEGORIES:Age Under 5 Years Old,Youth Events
ATTACH;FMTTYPE=image/png:https://www.laruelibrary.org/wp-content/uploads/2025/12/nostory29.png
ORGANIZER;CN="LaRue Public Library":MAILTO:info@laruelibrary.org
END:VEVENT
BEGIN:VEVENT
DTSTART;TZID=America/Kentucky/Louisville:20260325T180000
DTEND;TZID=America/Kentucky/Louisville:20260325T180000
DTSTAMP:20260426T000559
CREATED:20260219T185913Z
LAST-MODIFIED:20260219T185913Z
UID:10003047-1774461600-1774461600@www.laruelibrary.org
SUMMARY:Adult Book Club: Off-Site
DESCRIPTION:We will be meeting at Top Hat Tavern for Adult Book Club on Wednesday\, March 25th at 6:00pm! \nAdults only.
URL:https://www.laruelibrary.org/event/adult-book-club-off-site-4/
LOCATION:LaRue County Public Library\, 215 Lincoln Drive\, Hodgenville\, KY\, 42748\, United States
CATEGORIES:Adult,Adult Events
ATTACH;FMTTYPE=image/png:https://www.laruelibrary.org/wp-content/uploads/2024/09/Offsite-Book-Club.png
ORGANIZER;CN="LaRue Public Library":MAILTO:info@laruelibrary.org
END:VEVENT
BEGIN:VEVENT
DTSTART;TZID=America/Kentucky/Louisville:20260325T103000
DTEND;TZID=America/Kentucky/Louisville:20260325T123000
DTSTAMP:20260426T000559
CREATED:20260219T194906Z
LAST-MODIFIED:20260219T194906Z
UID:10003048-1774434600-1774441800@www.laruelibrary.org
SUMMARY:Baby Sprinkle
DESCRIPTION:Join us on Wednesday\, March 25th from 10:30am – 12:30pm for Baby Sprinkle! \nThis is a KY MOMS MATR led class on making healthy choices and prevention education for all women that are pregnant or up to 60 days postpartum. \nEarn FREE baby items and gift cards! \nPlease RSVP by texting 270-401-1706 \nFor any questions\, please call or text the above number OR email cferguson@communicare.org
URL:https://www.laruelibrary.org/event/baby-sprinkle/
LOCATION:LaRue County Public Library\, 215 Lincoln Drive\, Hodgenville\, KY\, 42748\, United States
CATEGORIES:Adult,Adult Events
ATTACH;FMTTYPE=image/png:https://www.laruelibrary.org/wp-content/uploads/2026/02/baby25.0.png
ORGANIZER;CN="LaRue Public Library":MAILTO:info@laruelibrary.org
END:VEVENT
BEGIN:VEVENT
DTSTART;TZID=America/Kentucky/Louisville:20260324T173000
DTEND;TZID=America/Kentucky/Louisville:20260324T173000
DTSTAMP:20260426T000559
CREATED:20260219T185616Z
LAST-MODIFIED:20260219T185616Z
UID:10003046-1774373400-1774373400@www.laruelibrary.org
SUMMARY:Master Gardener
DESCRIPTION:Join us on Tuesday\, March 24th @ 5:30pm where Laura Howard will speak about the growing and care of annual and perennial flowers. \nEveryone welcome!
URL:https://www.laruelibrary.org/event/master-gardener-2/
LOCATION:LaRue County Public Library\, 215 Lincoln Drive\, Hodgenville\, KY\, 42748\, United States
CATEGORIES:Adult,Adult Events,Everyone,Family,Youth Events
ATTACH;FMTTYPE=image/png:https://www.laruelibrary.org/wp-content/uploads/2026/02/gardener24.png
ORGANIZER;CN="LaRue Public Library":MAILTO:info@laruelibrary.org
END:VEVENT
BEGIN:VEVENT
DTSTART;TZID=America/Kentucky/Louisville:20260324T160000
DTEND;TZID=America/Kentucky/Louisville:20260324T160000
DTSTAMP:20260426T000559
CREATED:20260220T165703Z
LAST-MODIFIED:20260220T165703Z
UID:10003067-1774368000-1774368000@www.laruelibrary.org
SUMMARY:Scratch Art
DESCRIPTION:Join us on Tuesday\, March 24th at 4:00pm to make Scratch Art! \nMiddle School – 18
URL:https://www.laruelibrary.org/event/scratch-art/
LOCATION:LaRue County Public Library\, 215 Lincoln Drive\, Hodgenville\, KY\, 42748\, United States
CATEGORIES:High School,Middle School,Youth Events
ATTACH;FMTTYPE=image/png:https://www.laruelibrary.org/wp-content/uploads/2026/02/scratch24.png
ORGANIZER;CN="LaRue Public Library":MAILTO:info@laruelibrary.org
END:VEVENT
BEGIN:VEVENT
DTSTART;TZID=America/Kentucky/Louisville:20260324T150000
DTEND;TZID=America/Kentucky/Louisville:20260324T150000
DTSTAMP:20260426T000559
CREATED:20260219T185203Z
LAST-MODIFIED:20260219T185647Z
UID:10003045-1774364400-1774364400@www.laruelibrary.org
SUMMARY:Macrame
DESCRIPTION:Join us on Tuesday\, March 24th at 3:00pm as Jan leads a macrame making class! \nCall to register. Teens and Adults.
URL:https://www.laruelibrary.org/event/macrame-2/
LOCATION:LaRue County Public Library\, 215 Lincoln Drive\, Hodgenville\, KY\, 42748\, United States
CATEGORIES:Adult,Adult Events,High School,Youth Events
ATTACH;FMTTYPE=image/png:https://www.laruelibrary.org/wp-content/uploads/2026/02/macrame24.png
ORGANIZER;CN="LaRue Public Library":MAILTO:info@laruelibrary.org
END:VEVENT
BEGIN:VEVENT
DTSTART;TZID=America/Kentucky/Louisville:20260324T110000
DTEND;TZID=America/Kentucky/Louisville:20260324T110000
DTSTAMP:20260426T000559
CREATED:20260219T215251Z
LAST-MODIFIED:20260219T215251Z
UID:10003062-1774350000-1774350000@www.laruelibrary.org
SUMMARY:Story Time
DESCRIPTION:Join us for a fun and fantastic story and a craft on Tuesday at 11:00 AM and on Thursday at 1:30 PM! \nStory time is for children under the ages of 5. \nThis is a great opportunity to grow young readers. We make learning fun by introducing children to books\, love of reading\, and songs! We can’t wait to see you!
URL:https://www.laruelibrary.org/event/story-time-131/2026-03-24/
LOCATION:LaRue County Public Library\, 215 Lincoln Drive\, Hodgenville\, KY\, 42748\, United States
CATEGORIES:Age Under 5 Years Old,Youth Events
ATTACH;FMTTYPE=image/png:https://www.laruelibrary.org/wp-content/uploads/2023/10/NST.0-1.png
ORGANIZER;CN="LaRue Public Library":MAILTO:info@laruelibrary.org
END:VEVENT
BEGIN:VEVENT
DTSTART;TZID=America/Kentucky/Louisville:20260323T140000
DTEND;TZID=America/Kentucky/Louisville:20260323T140000
DTSTAMP:20260426T000559
CREATED:20260112T150059Z
LAST-MODIFIED:20260112T150059Z
UID:10002968-1774274400-1774274400@www.laruelibrary.org
SUMMARY:Community Games
DESCRIPTION:Come and have some game day fun here at the library at 2:00 pm! Bring your friends\, family\, a board game (or choose one of ours)\, and enjoy! We’ll see you on Monday at 2 PM in the Community Room at the library.
URL:https://www.laruelibrary.org/event/community-games-52/2026-03-23/
LOCATION:LaRue County Public Library\, 215 Lincoln Drive\, Hodgenville\, KY\, 42748\, United States
CATEGORIES:Adult,Adult Events,Everyone,Family,Youth Events
ATTACH;FMTTYPE=image/jpeg:https://www.laruelibrary.org/wp-content/uploads/2025/01/game.jpeg
ORGANIZER;CN="LaRue Public Library":MAILTO:info@laruelibrary.org
END:VEVENT
BEGIN:VEVENT
DTSTART;TZID=America/Kentucky/Louisville:20260323T100000
DTEND;TZID=America/Kentucky/Louisville:20260323T100000
DTSTAMP:20260426T000559
CREATED:20260221T151547Z
LAST-MODIFIED:20260221T151547Z
UID:10003072-1774260000-1774260000@www.laruelibrary.org
SUMMARY:Stretch and Shine
DESCRIPTION:Ease into your week with Stretch and Shine\, a low-impact program focused on stretching and simple\, relaxing movements. Designed for adults of all mobility levels\, this session supports flexibility\, balance\, and a sense of calm. Join us at the library every Monday at 10 AM. No special equipment needed—just wear comfortable clothes and enjoy some time to move and unwind.
URL:https://www.laruelibrary.org/event/stretch-and-shine-59/2026-03-23/
LOCATION:LaRue County Public Library\, 215 Lincoln Drive\, Hodgenville\, KY\, 42748\, United States
CATEGORIES:Adult,Adult Events
ATTACH;FMTTYPE=image/png:https://www.laruelibrary.org/wp-content/uploads/2023/03/Stretch-Adult-Event-1.png
END:VEVENT
BEGIN:VEVENT
DTSTART;TZID=America/Kentucky/Louisville:20260323T100000
DTEND;TZID=America/Kentucky/Louisville:20260323T100000
DTSTAMP:20260426T000559
CREATED:20260112T145648Z
LAST-MODIFIED:20260112T145648Z
UID:10002917-1774260000-1774260000@www.laruelibrary.org
SUMMARY:Stretch and Shine
DESCRIPTION:Ease into your week with Stretch and Shine\, a low-impact program focused on stretching and simple\, relaxing movements. Designed for adults of all mobility levels\, this session supports flexibility\, balance\, and a sense of calm. Join us at the library every Monday at 10 AM. No special equipment needed—just wear comfortable clothes and enjoy some time to move and unwind.
URL:https://www.laruelibrary.org/event/stretch-and-shine-58/2026-03-23/
LOCATION:LaRue County Public Library\, 215 Lincoln Drive\, Hodgenville\, KY\, 42748\, United States
CATEGORIES:Adult,Adult Events
ATTACH;FMTTYPE=image/png:https://www.laruelibrary.org/wp-content/uploads/2023/03/Stretch-Adult-Event-1.png
ORGANIZER;CN="LaRue Public Library":MAILTO:info@laruelibrary.org
END:VEVENT
BEGIN:VEVENT
DTSTART;TZID=America/Kentucky/Louisville:20260320T150000
DTEND;TZID=America/Kentucky/Louisville:20260320T150000
DTSTAMP:20260426T000559
CREATED:20260219T184939Z
LAST-MODIFIED:20260219T184939Z
UID:10003044-1774018800-1774018800@www.laruelibrary.org
SUMMARY:Barn Quilt Square Paintings
DESCRIPTION:Join us on Friday\, March 20th at 3:00pm to make barn quilt square paintings! \nTeens and Adults. Call to register.
URL:https://www.laruelibrary.org/event/barn-quilt-square-paintings/
LOCATION:LaRue County Public Library\, 215 Lincoln Drive\, Hodgenville\, KY\, 42748\, United States
CATEGORIES:Adult,Adult Events,High School,Youth Events
ATTACH;FMTTYPE=image/png:https://www.laruelibrary.org/wp-content/uploads/2026/02/barn20.png
ORGANIZER;CN="LaRue Public Library":MAILTO:info@laruelibrary.org
END:VEVENT
BEGIN:VEVENT
DTSTART;TZID=America/Kentucky/Louisville:20260319T170000
DTEND;TZID=America/Kentucky/Louisville:20260319T170000
DTSTAMP:20260426T000559
CREATED:20260219T220020Z
LAST-MODIFIED:20260219T220020Z
UID:10003066-1773939600-1773939600@www.laruelibrary.org
SUMMARY:Read with Seniors
DESCRIPTION:Join us on Thursday\, March 19th at 5:00pm to read to the seniors at Sunrise Manor! \nYou can choose a book we provide or bring your favorite! \nEveryone is welcome to participate and we will meet at Sunrise!
URL:https://www.laruelibrary.org/event/read-with-seniors/
LOCATION:Sunrise Manor Nursing Home\, 717 North Lincoln Boulevard\, Hodgenville\, KY\, 42748\, United States
CATEGORIES:Adult,Adult Events,Everyone,Family,Youth Events
ATTACH;FMTTYPE=image/png:https://www.laruelibrary.org/wp-content/uploads/2026/02/reading19.png
ORGANIZER;CN="LaRue Public Library":MAILTO:info@laruelibrary.org
END:VEVENT
BEGIN:VEVENT
DTSTART;TZID=America/Kentucky/Louisville:20260319T163000
DTEND;TZID=America/Kentucky/Louisville:20260319T163000
DTSTAMP:20260426T000559
CREATED:20260219T184356Z
LAST-MODIFIED:20260219T184356Z
UID:10003043-1773937800-1773937800@www.laruelibrary.org
SUMMARY:Board Meeting
DESCRIPTION:LCPL Board Meeting on Thursday\, March 19th at 4:30pm. \nThis is for adults only.
URL:https://www.laruelibrary.org/event/board-meeting-30/
LOCATION:LaRue County Public Library\, 215 Lincoln Drive\, Hodgenville\, KY\, 42748\, United States
CATEGORIES:Adult,Adult Events
ATTACH;FMTTYPE=image/jpeg:https://www.laruelibrary.org/wp-content/uploads/2023/07/brm2.jpg
ORGANIZER;CN="LaRue Public Library":MAILTO:info@laruelibrary.org
END:VEVENT
BEGIN:VEVENT
DTSTART;TZID=America/Kentucky/Louisville:20260319T153000
DTEND;TZID=America/Kentucky/Louisville:20260319T153000
DTSTAMP:20260426T000559
CREATED:20260219T184030Z
LAST-MODIFIED:20260219T184030Z
UID:10003042-1773934200-1773934200@www.laruelibrary.org
SUMMARY:Book Club
DESCRIPTION:Come join us on Thursday\, March 19th at 3:30pm for Book Club! \nThis is an Adult program.
URL:https://www.laruelibrary.org/event/book-club-34/
LOCATION:LaRue County Public Library\, 215 Lincoln Drive\, Hodgenville\, KY\, 42748\, United States
CATEGORIES:Adult,Adult Events
ATTACH;FMTTYPE=image/jpeg:https://www.laruelibrary.org/wp-content/uploads/2023/07/bc2.jpg
ORGANIZER;CN="LaRue Public Library":MAILTO:info@laruelibrary.org
END:VEVENT
BEGIN:VEVENT
DTSTART;TZID=America/Kentucky/Louisville:20260319T133000
DTEND;TZID=America/Kentucky/Louisville:20260319T133000
DTSTAMP:20260426T000559
CREATED:20260219T215251Z
LAST-MODIFIED:20260219T215251Z
UID:10003061-1773927000-1773927000@www.laruelibrary.org
SUMMARY:Story Time
DESCRIPTION:Join us for a fun and fantastic story and a craft on Tuesday at 11:00 AM and on Thursday at 1:30 PM! \nStory time is for children under the ages of 5. \nThis is a great opportunity to grow young readers. We make learning fun by introducing children to books\, love of reading\, and songs! We can’t wait to see you!
URL:https://www.laruelibrary.org/event/story-time-131/2026-03-19/
LOCATION:LaRue County Public Library\, 215 Lincoln Drive\, Hodgenville\, KY\, 42748\, United States
CATEGORIES:Age Under 5 Years Old,Youth Events
ATTACH;FMTTYPE=image/png:https://www.laruelibrary.org/wp-content/uploads/2023/10/NST.0-1.png
ORGANIZER;CN="LaRue Public Library":MAILTO:info@laruelibrary.org
END:VEVENT
BEGIN:VEVENT
DTSTART;TZID=America/Kentucky/Louisville:20260319T123000
DTEND;TZID=America/Kentucky/Louisville:20260319T170000
DTSTAMP:20260426T000559
CREATED:20260219T183853Z
LAST-MODIFIED:20260219T183853Z
UID:10003041-1773923400-1773939600@www.laruelibrary.org
SUMMARY:Bloodmobile
DESCRIPTION:Come down to the Library on Thursday\, March 19th from 12:30pm-5:00pm to donate blood to the American Red Cross. \nHelp do your part! Schedule appointment now to save a life at redcross.org. \nThis program is designed for Teens & Adults.
URL:https://www.laruelibrary.org/event/bloodmobile-17/
LOCATION:LaRue County Public Library\, 215 Lincoln Drive\, Hodgenville\, KY\, 42748\, United States
CATEGORIES:Adult,Adult Events,High School,Youth Events
ATTACH;FMTTYPE=image/png:https://www.laruelibrary.org/wp-content/uploads/2026/02/blood19.png
ORGANIZER;CN="LaRue Public Library":MAILTO:info@laruelibrary.org
END:VEVENT
BEGIN:VEVENT
DTSTART;TZID=America/Kentucky/Louisville:20260319T100000
DTEND;TZID=America/Kentucky/Louisville:20260319T100000
DTSTAMP:20260426T000559
CREATED:20260219T215716Z
LAST-MODIFIED:20260219T215716Z
UID:10003065-1773914400-1773914400@www.laruelibrary.org
SUMMARY:Circle of Love
DESCRIPTION:Join us on Thursday\, March 19th at 10:00am for Circle of Love! \nThis is a program for babies and mothers.
URL:https://www.laruelibrary.org/event/circle-of-love-4/
LOCATION:LaRue County Public Library\, 215 Lincoln Drive\, Hodgenville\, KY\, 42748\, United States
CATEGORIES:Ages 0 - 36 Months,Youth Events
ATTACH;FMTTYPE=image/png:https://www.laruelibrary.org/wp-content/uploads/2026/02/circle19.png
ORGANIZER;CN="LaRue Public Library":MAILTO:info@laruelibrary.org
END:VEVENT
END:VCALENDAR