BEGIN:VCALENDAR
VERSION:2.0
PRODID:-//LaRue County Public Library - ECPv6.15.20//NONSGML v1.0//EN
CALSCALE:GREGORIAN
METHOD:PUBLISH
X-ORIGINAL-URL:https://www.laruelibrary.org
X-WR-CALDESC:Events for LaRue County Public Library
REFRESH-INTERVAL;VALUE=DURATION:PT1H
X-Robots-Tag:noindex
X-PUBLISHED-TTL:PT1H
BEGIN:VTIMEZONE
TZID:America/Kentucky/Louisville
BEGIN:DAYLIGHT
TZOFFSETFROM:-0500
TZOFFSETTO:-0400
TZNAME:EDT
DTSTART:20230312T070000
END:DAYLIGHT
BEGIN:STANDARD
TZOFFSETFROM:-0400
TZOFFSETTO:-0500
TZNAME:EST
DTSTART:20231105T060000
END:STANDARD
BEGIN:DAYLIGHT
TZOFFSETFROM:-0500
TZOFFSETTO:-0400
TZNAME:EDT
DTSTART:20240310T070000
END:DAYLIGHT
BEGIN:STANDARD
TZOFFSETFROM:-0400
TZOFFSETTO:-0500
TZNAME:EST
DTSTART:20241103T060000
END:STANDARD
BEGIN:DAYLIGHT
TZOFFSETFROM:-0500
TZOFFSETTO:-0400
TZNAME:EDT
DTSTART:20250309T070000
END:DAYLIGHT
BEGIN:STANDARD
TZOFFSETFROM:-0400
TZOFFSETTO:-0500
TZNAME:EST
DTSTART:20251102T060000
END:STANDARD
END:VTIMEZONE
BEGIN:VEVENT
DTSTART;TZID=America/Kentucky/Louisville:20241024T153000
DTEND;TZID=America/Kentucky/Louisville:20241024T153000
DTSTAMP:20260422T185808
CREATED:20240923T141603Z
LAST-MODIFIED:20240923T141603Z
UID:10001523-1729783800-1729783800@www.laruelibrary.org
SUMMARY:Halloween Treasure Hunt
DESCRIPTION:Join us on Thursday\, October 24th at 3:35pm for our Halloween treasure hunt! \nThis fun\, and delightfully challenging\, event is for ages Grade School through Teen. \nNo registration needed.
URL:https://www.laruelibrary.org/event/halloween-treasure-hunt/
LOCATION:LaRue County Public Library\, 215 Lincoln Drive\, Hodgenville\, KY\, 42748\, United States
CATEGORIES:Grade School,High School,Middle School,Youth Events
ATTACH;FMTTYPE=image/png:https://www.laruelibrary.org/wp-content/uploads/2024/09/Halloween-Treasure.png
ORGANIZER;CN="LaRue Public Library":MAILTO:info@laruelibrary.org
END:VEVENT
BEGIN:VEVENT
DTSTART;TZID=America/Kentucky/Louisville:20241024T170000
DTEND;TZID=America/Kentucky/Louisville:20241024T170000
DTSTAMP:20260422T185808
CREATED:20240920T202419Z
LAST-MODIFIED:20240920T202419Z
UID:10001510-1729789200-1729789200@www.laruelibrary.org
SUMMARY:Local Author: Bob Ernst
DESCRIPTION:You are invited to a poetry reading by local author\, Bob Ernst\, on Thursday\, October 24th at 5:00pm. \nIf you have one of his books\, please be sure to bring it to be signed! If you do not have one of his books\, Bob will have some here for purchase! \nEveryone welcome
URL:https://www.laruelibrary.org/event/local-author-bob-ernst/
LOCATION:LaRue County Public Library\, 215 Lincoln Drive\, Hodgenville\, KY\, 42748\, United States
CATEGORIES:Adult,Adult Events,Everyone,Family,Youth Events
ATTACH;FMTTYPE=image/png:https://www.laruelibrary.org/wp-content/uploads/2024/09/Local-Author.png
ORGANIZER;CN="LaRue Public Library":MAILTO:info@laruelibrary.org
END:VEVENT
BEGIN:VEVENT
DTSTART;TZID=America/Kentucky/Louisville:20241025T093000
DTEND;TZID=America/Kentucky/Louisville:20241025T103000
DTSTAMP:20260422T185808
CREATED:20240820T160320Z
LAST-MODIFIED:20240926T143906Z
UID:10001465-1729848600-1729852200@www.laruelibrary.org
SUMMARY:Tiny Hawks Story Time
DESCRIPTION:Join us for a very special Tiny Hawks Story Time from 9:30-10:30am with assistance from Ellen Shelton! Each session\, children will receive a free educational take-home item/supplies (provided by the ALES Family Resource Center). \nThese story times/sessions will take place at LaRue County Public Library on Friday September 27th\, October 25th\, November 22nd\, January 31st\, February 28th\, March 28th\, and April 25th. These story times/sessions are geared toward preschool age children (2-5 years old) and their caregiver(s). \nSign-up is NOT required. \nFor more info\, contact: \nTaylor Metcalf; LCPL Children’s Librarian @ 358-3851 \nEllen Shelton; ALES FRC Coordinator @ 358-7130
URL:https://www.laruelibrary.org/event/tiny-hawks-story-time-with-ellen-shelton/2024-10-25/
LOCATION:LaRue County Public Library\, 215 Lincoln Drive\, Hodgenville\, KY\, 42748\, United States
CATEGORIES:Age Under 5 Years Old,Youth Events
ATTACH;FMTTYPE=image/png:https://www.laruelibrary.org/wp-content/uploads/2024/08/Tiny-Hawks.png
ORGANIZER;CN="LaRue Public Library":MAILTO:info@laruelibrary.org
END:VEVENT
BEGIN:VEVENT
DTSTART;TZID=America/Kentucky/Louisville:20241025T150000
DTEND;TZID=America/Kentucky/Louisville:20241025T150000
DTSTAMP:20260422T185808
CREATED:20240920T202923Z
LAST-MODIFIED:20240920T202923Z
UID:10001512-1729868400-1729868400@www.laruelibrary.org
SUMMARY:Ribbon Roses
DESCRIPTION:Join us on Friday\, October 25th at 3:00pm to make beautiful ribbon roses! \nClass limit of 20. Call to register. Teens and Adults.
URL:https://www.laruelibrary.org/event/ribbon-roses-2/
LOCATION:LaRue County Public Library\, 215 Lincoln Drive\, Hodgenville\, KY\, 42748\, United States
CATEGORIES:Adult,Adult Events,High School,Youth Events
ATTACH;FMTTYPE=image/png:https://www.laruelibrary.org/wp-content/uploads/2024/09/Ribbon-Rose.png
ORGANIZER;CN="LaRue Public Library":MAILTO:info@laruelibrary.org
END:VEVENT
BEGIN:VEVENT
DTSTART;TZID=America/Kentucky/Louisville:20241028T100000
DTEND;TZID=America/Kentucky/Louisville:20241028T100000
DTSTAMP:20260422T185808
CREATED:20240920T190724Z
LAST-MODIFIED:20240920T190724Z
UID:10001500-1730109600-1730109600@www.laruelibrary.org
SUMMARY:Stretch and Shine
DESCRIPTION:Join us for Stretch and Shine and start your day off right! \nFree low-impact exercise class beginning at 10:00am. Let’s get those muscles moving! \nThis program is designed for adults.
URL:https://www.laruelibrary.org/event/stretch-and-shine-41/2024-10-28/
LOCATION:LaRue County Public Library\, 215 Lincoln Drive\, Hodgenville\, KY\, 42748\, United States
CATEGORIES:Adult,Adult Events
ATTACH;FMTTYPE=image/png:https://www.laruelibrary.org/wp-content/uploads/2023/03/Stretch-Adult-Event-1.png
ORGANIZER;CN="LaRue Public Library":MAILTO:info@laruelibrary.org
END:VEVENT
BEGIN:VEVENT
DTSTART;TZID=America/Kentucky/Louisville:20241028T140000
DTEND;TZID=America/Kentucky/Louisville:20241028T140000
DTSTAMP:20260422T185808
CREATED:20240920T190354Z
LAST-MODIFIED:20240920T190354Z
UID:10001496-1730124000-1730124000@www.laruelibrary.org
SUMMARY:Community Games
DESCRIPTION:Come and have some game day fun here at the library at 2:00pm! \nBring your friends\, family\, a board game (or choose one of ours) and enjoy!
URL:https://www.laruelibrary.org/event/community-games-35/2024-10-28/
LOCATION:LaRue County Public Library\, 215 Lincoln Drive\, Hodgenville\, KY\, 42748\, United States
CATEGORIES:Adult,Adult Events,Everyone,Family,Youth Events
ATTACH;FMTTYPE=image/jpeg:https://www.laruelibrary.org/wp-content/uploads/2023/07/bg2.jpg
ORGANIZER;CN="LaRue Public Library":MAILTO:info@laruelibrary.org
END:VEVENT
BEGIN:VEVENT
DTSTART;TZID=America/Kentucky/Louisville:20241029T110000
DTEND;TZID=America/Kentucky/Louisville:20241029T110000
DTSTAMP:20260422T185808
CREATED:20240920T185319Z
LAST-MODIFIED:20240920T185319Z
UID:10001489-1730199600-1730199600@www.laruelibrary.org
SUMMARY:Story Time
DESCRIPTION:Join us for a fun and fantastic story and a craft this Tuesday at 11:00 AM! \nStory time is for children under the ages of 5. \nThis is a great opportunity to grow young readers. We make learning fun by introducing children to books\, love of reading\, and songs! We can’t wait to see you!
URL:https://www.laruelibrary.org/event/story-time-102/2024-10-29/
LOCATION:LaRue County Public Library\, 215 Lincoln Drive\, Hodgenville\, KY\, 42748\, United States
CATEGORIES:Age Under 5 Years Old,Youth Events
ATTACH;FMTTYPE=image/png:https://www.laruelibrary.org/wp-content/uploads/2023/10/NST.0-1.png
ORGANIZER;CN="LaRue Public Library":MAILTO:info@laruelibrary.org
END:VEVENT
BEGIN:VEVENT
DTSTART;TZID=America/Kentucky/Louisville:20241029T150000
DTEND;TZID=America/Kentucky/Louisville:20241029T150000
DTSTAMP:20260422T185808
CREATED:20240920T203158Z
LAST-MODIFIED:20240920T203158Z
UID:10001513-1730214000-1730214000@www.laruelibrary.org
SUMMARY:Rag Garland
DESCRIPTION:Join us on Tuesday\, October 29th at 3:00pm to make fall-themed rag garlands! \nCall to register. Class limit of 24. Teens and Adults.
URL:https://www.laruelibrary.org/event/rag-garland/
LOCATION:LaRue County Public Library\, 215 Lincoln Drive\, Hodgenville\, KY\, 42748\, United States
CATEGORIES:Adult,Adult Events,High School,Youth Events
ATTACH;FMTTYPE=image/png:https://www.laruelibrary.org/wp-content/uploads/2024/09/Rag-Garland.png
ORGANIZER;CN="LaRue Public Library":MAILTO:info@laruelibrary.org
END:VEVENT
BEGIN:VEVENT
DTSTART;TZID=America/Kentucky/Louisville:20241029T170000
DTEND;TZID=America/Kentucky/Louisville:20241029T170000
DTSTAMP:20260422T185808
CREATED:20240923T142117Z
LAST-MODIFIED:20240923T142117Z
UID:10001524-1730221200-1730221200@www.laruelibrary.org
SUMMARY:Halloween Costume Contest
DESCRIPTION:Join us on Tuesday\, October 29th at 5:00pm for our Halloween Costume Contest! \nCome and show off your costume and try for first place! \nEveryone will leave with a prize! \nFamily event. Ages 0-18. No registration needed.
URL:https://www.laruelibrary.org/event/halloween-costume-contest/
LOCATION:LaRue County Public Library\, 215 Lincoln Drive\, Hodgenville\, KY\, 42748\, United States
CATEGORIES:Family,Youth Events
ATTACH;FMTTYPE=image/png:https://www.laruelibrary.org/wp-content/uploads/2024/09/Halloween-Costume.png
ORGANIZER;CN="LaRue Public Library":MAILTO:info@laruelibrary.org
END:VEVENT
BEGIN:VEVENT
DTSTART;TZID=America/Kentucky/Louisville:20241029T173000
DTEND;TZID=America/Kentucky/Louisville:20241029T173000
DTSTAMP:20260422T185808
CREATED:20240920T203437Z
LAST-MODIFIED:20241029T202326Z
UID:10001514-1730223000-1730223000@www.laruelibrary.org
SUMMARY:CANCELLED: Roundstone Native Seed LLC
DESCRIPTION:This program has been cancelled. We hope to reschedule it in the near future.
URL:https://www.laruelibrary.org/event/roundstone-native-seed-llc/
LOCATION:LaRue County Public Library\, 215 Lincoln Drive\, Hodgenville\, KY\, 42748\, United States
CATEGORIES:Adult,Adult Events,Everyone,Family,Youth Events
ATTACH;FMTTYPE=image/png:https://www.laruelibrary.org/wp-content/uploads/2024/09/Roundstone.png
ORGANIZER;CN="LaRue Public Library":MAILTO:info@laruelibrary.org
END:VEVENT
BEGIN:VEVENT
DTSTART;TZID=America/Kentucky/Louisville:20241030T150000
DTEND;TZID=America/Kentucky/Louisville:20241030T150000
DTSTAMP:20260422T185808
CREATED:20240920T203742Z
LAST-MODIFIED:20240920T203742Z
UID:10001515-1730300400-1730300400@www.laruelibrary.org
SUMMARY:Halloween Bunco
DESCRIPTION:Join us on Wednesday\, October 30th at 3:00pm for Halloween Bunco! \nBe sure to wear your costume\, because we’ll be having a costume contest! \nBring your favorite snack to share! \nEvent limit of 24. Call to register. Teens and Adults.
URL:https://www.laruelibrary.org/event/halloween-bunco/
LOCATION:LaRue County Public Library\, 215 Lincoln Drive\, Hodgenville\, KY\, 42748\, United States
CATEGORIES:Adult,Adult Events,High School,Youth Events
ATTACH;FMTTYPE=image/png:https://www.laruelibrary.org/wp-content/uploads/2024/09/Bunco.png
ORGANIZER;CN="LaRue Public Library":MAILTO:info@laruelibrary.org
END:VEVENT
BEGIN:VEVENT
DTSTART;VALUE=DATE:20241031
DTEND;VALUE=DATE:20241101
DTSTAMP:20260422T185808
CREATED:20240920T204055Z
LAST-MODIFIED:20240920T204055Z
UID:10001516-1730332800-1730419199@www.laruelibrary.org
SUMMARY:We Are Closing Early Today
DESCRIPTION:We are closing the library early at 4:00pm today (Thursday\, October 31st)! \nWe will see you all when we open bright and early tomorrow morning (Friday\, November 1st) at 9:00am!
URL:https://www.laruelibrary.org/event/we-are-closing-early-today/
LOCATION:LaRue County Public Library\, 215 Lincoln Drive\, Hodgenville\, KY\, 42748\, United States
CATEGORIES:Adult,Adult Events,Everyone,Family,Youth Events
ATTACH;FMTTYPE=image/png:https://www.laruelibrary.org/wp-content/uploads/2024/09/Library-Is-Closed.png
ORGANIZER;CN="LaRue Public Library":MAILTO:info@laruelibrary.org
END:VEVENT
BEGIN:VEVENT
DTSTART;TZID=America/Kentucky/Louisville:20241101T133000
DTEND;TZID=America/Kentucky/Louisville:20241101T133000
DTSTAMP:20260422T185808
CREATED:20241029T212945Z
LAST-MODIFIED:20241029T212945Z
UID:10001567-1730467800-1730467800@www.laruelibrary.org
SUMMARY:Pre-K Thankful Trees
DESCRIPTION:It’s the season to remember what we love! Pre-K Kiddos\, join us on Friday\, November 1st at 1:30 PM for an easy craft for ages 2-5. No registration is required! See you then!
URL:https://www.laruelibrary.org/event/pre-k-thankful-trees/
LOCATION:LaRue County Public Library\, 215 Lincoln Drive\, Hodgenville\, KY\, 42748\, United States
CATEGORIES:Age Under 5 Years Old
ATTACH;FMTTYPE=image/jpeg:https://www.laruelibrary.org/wp-content/uploads/2024/10/Thankful-tree-craft-12.jpg
END:VEVENT
BEGIN:VEVENT
DTSTART;TZID=America/Kentucky/Louisville:20241104T100000
DTEND;TZID=America/Kentucky/Louisville:20241104T100000
DTSTAMP:20260422T185808
CREATED:20241015T215106Z
LAST-MODIFIED:20241015T215106Z
UID:10001535-1730714400-1730714400@www.laruelibrary.org
SUMMARY:Stretch and Shine
DESCRIPTION:Join us for Stretch and Shine and start your day off right! Free\, low-impact exercise class beginning at 10:00 am. Let’s get those muscles moving! This program is designed for adults.
URL:https://www.laruelibrary.org/event/stretch-and-shine-42/
LOCATION:LaRue County Public Library\, 215 Lincoln Drive\, Hodgenville\, KY\, 42748\, United States
CATEGORIES:Adult,Adult Events
END:VEVENT
BEGIN:VEVENT
DTSTART;TZID=America/Kentucky/Louisville:20241104T100000
DTEND;TZID=America/Kentucky/Louisville:20241104T120000
DTSTAMP:20260422T185808
CREATED:20241019T134127Z
LAST-MODIFIED:20241019T134332Z
UID:10001544-1730714400-1730721600@www.laruelibrary.org
SUMMARY:Kentucky Career Center - Career Advisor
DESCRIPTION:Kentucky Career Center will have a Career Advisor onsite at the library every first Monday\, beginning on Monday\, November 4th from 10 AM – 12 PM. Here\, you can find resume assistance\, employment resources\, job search strategies\, and more!
URL:https://www.laruelibrary.org/event/kentucky-career-center-career-advisor/
LOCATION:LaRue County Public Library\, 215 Lincoln Drive\, Hodgenville\, KY\, 42748\, United States
CATEGORIES:Adult,Adult Events
ATTACH;FMTTYPE=image/png:https://www.laruelibrary.org/wp-content/uploads/2024/10/Screenshot-2024-10-19-at-9.40.44 AM.png
END:VEVENT
BEGIN:VEVENT
DTSTART;TZID=America/Kentucky/Louisville:20241104T133000
DTEND;TZID=America/Kentucky/Louisville:20241104T133000
DTSTAMP:20260422T185808
CREATED:20241029T213233Z
LAST-MODIFIED:20241029T213233Z
UID:10001568-1730727000-1730727000@www.laruelibrary.org
SUMMARY:Tie-Dye Socks
DESCRIPTION:Grade school through teens\, make wearable art with tie-dye socks! We’ll be creating these on Monday\, November 4th at 1:30 PM! Call the library to register!
URL:https://www.laruelibrary.org/event/tie-dye-socks/
LOCATION:LaRue County Public Library\, 215 Lincoln Drive\, Hodgenville\, KY\, 42748\, United States
CATEGORIES:Grade School,High School,Middle School
ATTACH;FMTTYPE=image/webp:https://www.laruelibrary.org/wp-content/uploads/2024/10/shopping.webp
END:VEVENT
BEGIN:VEVENT
DTSTART;TZID=America/Kentucky/Louisville:20241104T140000
DTEND;TZID=America/Kentucky/Louisville:20241104T140000
DTSTAMP:20260422T185808
CREATED:20241015T215425Z
LAST-MODIFIED:20241015T215425Z
UID:10001536-1730728800-1730728800@www.laruelibrary.org
SUMMARY:Community Games
DESCRIPTION:Come and have some game day fun here at the library at 2:00 pm! Bring your friends\, family\, and a board game (or choose one of ours) and enjoy!
URL:https://www.laruelibrary.org/event/community-games-36/
LOCATION:LaRue County Public Library\, 215 Lincoln Drive\, Hodgenville\, KY\, 42748\, United States
CATEGORIES:Everyone
END:VEVENT
BEGIN:VEVENT
DTSTART;TZID=America/Kentucky/Louisville:20241105T100000
DTEND;TZID=America/Kentucky/Louisville:20241105T100000
DTSTAMP:20260422T185808
CREATED:20241019T131402Z
LAST-MODIFIED:20241019T131402Z
UID:10001537-1730800800-1730800800@www.laruelibrary.org
SUMMARY:Keep Stepping Forward
DESCRIPTION:Find new footing one step at a time with our support group for men & women whose spouses have passed away. Donna Coffey will be leading the group. Her new book\, Hope for the Holidays\, will be available for purchase. Join us on Tuesday\, November 5th at 10 AM.
URL:https://www.laruelibrary.org/event/keep-stepping-forward-2/
LOCATION:LaRue County Public Library\, 215 Lincoln Drive\, Hodgenville\, KY\, 42748\, United States
CATEGORIES:Adult,Adult Events
ATTACH;FMTTYPE=image/png:https://www.laruelibrary.org/wp-content/uploads/2024/10/Screenshot-2024-10-19-at-9.13.46 AM.png
END:VEVENT
BEGIN:VEVENT
DTSTART;TZID=America/Kentucky/Louisville:20241105T110000
DTEND;TZID=America/Kentucky/Louisville:20241105T110000
DTSTAMP:20260422T185808
CREATED:20241029T213450Z
LAST-MODIFIED:20241029T213526Z
UID:10001569-1730804400-1730804400@www.laruelibrary.org
SUMMARY:Story Time
DESCRIPTION:Join us for a fun and fantastic story and a craft this Tuesday at 11:00 AM or on Thursday at 1:30 PM! \nStory time is for children under the ages of 5. \nThis is a great opportunity to grow young readers. We make learning fun by introducing children to books\, love of reading\, and songs! We can’t wait to see you!
URL:https://www.laruelibrary.org/event/story-time-106/2024-11-05/
LOCATION:LaRue County Public Library\, 215 Lincoln Drive\, Hodgenville\, KY\, 42748\, United States
CATEGORIES:Age Under 5 Years Old
ATTACH;FMTTYPE=image/png:https://www.laruelibrary.org/wp-content/uploads/2023/10/NST.0-1.png
END:VEVENT
BEGIN:VEVENT
DTSTART;TZID=America/Kentucky/Louisville:20241105T150000
DTEND;TZID=America/Kentucky/Louisville:20241105T150000
DTSTAMP:20260422T185808
CREATED:20241019T131835Z
LAST-MODIFIED:20241019T131835Z
UID:10001538-1730818800-1730818800@www.laruelibrary.org
SUMMARY:Turkey Craft
DESCRIPTION:Gobble\, gobble! We’re making woodblock turkeys on Tuesday\, November 5th at 3 PM! Any interested teens and adults can call the library to register. 24 spaces are available.
URL:https://www.laruelibrary.org/event/turkey-craft/
LOCATION:LaRue County Public Library\, 215 Lincoln Drive\, Hodgenville\, KY\, 42748\, United States
CATEGORIES:Adult,Adult Events,High School,Middle School
ATTACH;FMTTYPE=image/png:https://www.laruelibrary.org/wp-content/uploads/2024/10/Screenshot-2024-10-19-at-9.16.31 AM.png
END:VEVENT
BEGIN:VEVENT
DTSTART;TZID=America/Kentucky/Louisville:20241105T160000
DTEND;TZID=America/Kentucky/Louisville:20241105T160000
DTSTAMP:20260422T185808
CREATED:20241029T213928Z
LAST-MODIFIED:20241029T213928Z
UID:10001571-1730822400-1730822400@www.laruelibrary.org
SUMMARY:No Bake Recipe
DESCRIPTION:Hey\, bakers! Looking for a new\, easy but delicious no-bake recipe? Families can join us on Tuesday\, November 5th at 4 PM to make a chocolate/hazelnut fruit pizza. If you and your family are interested in attending\, call the library to register!
URL:https://www.laruelibrary.org/event/no-bake-recipe/
LOCATION:LaRue County Public Library\, 215 Lincoln Drive\, Hodgenville\, KY\, 42748\, United States
CATEGORIES:Family
ATTACH;FMTTYPE=image/jpeg:https://www.laruelibrary.org/wp-content/uploads/2024/10/exps144976_FF163882C01_12_5b-2.jpg
END:VEVENT
BEGIN:VEVENT
DTSTART;TZID=America/Kentucky/Louisville:20241106T103000
DTEND;TZID=America/Kentucky/Louisville:20241106T103000
DTSTAMP:20260422T185808
CREATED:20241029T214220Z
LAST-MODIFIED:20241029T214220Z
UID:10001572-1730889000-1730889000@www.laruelibrary.org
SUMMARY:Homeschool Program: Indigenous Peoples and Thanksgiving
DESCRIPTION:Homeschool families\, join us for the library’s monthly homeschool program. On Wednesday\, November 6th\, at 10:30 AM\, we’ll be learning about Indigenous Peoples and Thanksgiving. See you soon!
URL:https://www.laruelibrary.org/event/homeschool-program-indigenous-peoples-and-thanksgiving/
LOCATION:LaRue County Public Library\, 215 Lincoln Drive\, Hodgenville\, KY\, 42748\, United States
CATEGORIES:Family
ATTACH;FMTTYPE=image/jpeg:https://www.laruelibrary.org/wp-content/uploads/2024/10/gettyimages-3054874-612x612-1.jpg
END:VEVENT
BEGIN:VEVENT
DTSTART;TZID=America/Kentucky/Louisville:20241107T133000
DTEND;TZID=America/Kentucky/Louisville:20241107T133000
DTSTAMP:20260422T185808
CREATED:20241029T213450Z
LAST-MODIFIED:20241029T213526Z
UID:10001570-1730986200-1730986200@www.laruelibrary.org
SUMMARY:Story Time
DESCRIPTION:Join us for a fun and fantastic story and a craft this Tuesday at 11:00 AM or on Thursday at 1:30 PM! \nStory time is for children under the ages of 5. \nThis is a great opportunity to grow young readers. We make learning fun by introducing children to books\, love of reading\, and songs! We can’t wait to see you!
URL:https://www.laruelibrary.org/event/story-time-106/2024-11-07/
LOCATION:LaRue County Public Library\, 215 Lincoln Drive\, Hodgenville\, KY\, 42748\, United States
CATEGORIES:Age Under 5 Years Old
ATTACH;FMTTYPE=image/png:https://www.laruelibrary.org/wp-content/uploads/2023/10/NST.0-1.png
END:VEVENT
BEGIN:VEVENT
DTSTART;TZID=America/Kentucky/Louisville:20241107T160000
DTEND;TZID=America/Kentucky/Louisville:20241107T160000
DTSTAMP:20260422T185808
CREATED:20241015T214959Z
LAST-MODIFIED:20241015T214959Z
UID:10001534-1730995200-1730995200@www.laruelibrary.org
SUMMARY:Friends of the Library
DESCRIPTION:Join us for a Friends of the Library meeting. Become a member and help us promote the LaRue County Public Library. Membership enables you to join your local branch chapter and become involved with many wonderful library activities throughout the year. Benefits include invitations to special Friends’ events\, Volunteer opportunities\, and advocacy opportunities. Hope to see you there!
URL:https://www.laruelibrary.org/event/friends-of-the-library-18/
LOCATION:LaRue County Public Library\, 215 Lincoln Drive\, Hodgenville\, KY\, 42748\, United States
CATEGORIES:Adult,Adult Events
ATTACH;FMTTYPE=image/png:https://www.laruelibrary.org/wp-content/uploads/2023/03/BecomeLibraryFriend.png
END:VEVENT
BEGIN:VEVENT
DTSTART;TZID=America/Kentucky/Louisville:20241107T170000
DTEND;TZID=America/Kentucky/Louisville:20241107T170000
DTSTAMP:20260422T185808
CREATED:20241019T132339Z
LAST-MODIFIED:20241019T132339Z
UID:10001539-1730998800-1730998800@www.laruelibrary.org
SUMMARY:VA S.A.V.E. Training
DESCRIPTION:Kelly Marcum\, LCSW\, will share 4 ways you can help a veteran in crisis on Thursday\, November 7th at 5 PM. This program will help you act with care and compassion if you come across a veteran who is struggling or having thoughts of suicide. This training could save a life.
URL:https://www.laruelibrary.org/event/va-s-a-v-e-training/
LOCATION:LaRue County Public Library\, 215 Lincoln Drive\, Hodgenville\, KY\, 42748\, United States
CATEGORIES:Adult,Adult Events
ATTACH;FMTTYPE=image/png:https://www.laruelibrary.org/wp-content/uploads/2024/10/Screenshot-2024-10-19-at-9.23.24 AM.png
END:VEVENT
BEGIN:VEVENT
DTSTART;TZID=America/Kentucky/Louisville:20241108T080000
DTEND;TZID=America/Kentucky/Louisville:20241108T170000
DTSTAMP:20260422T185808
CREATED:20241019T132522Z
LAST-MODIFIED:20241019T133206Z
UID:10001540-1731052800-1731085200@www.laruelibrary.org
SUMMARY:Tulle Trees
DESCRIPTION:‘Tis the season to be crafting! Join us on Friday\, November 8th at 3 PM to create tulle Christmas trees. Interested teens and adults should call the library to register. 24 spaces are available.
URL:https://www.laruelibrary.org/event/tulle-trees/
LOCATION:LaRue County Public Library\, 215 Lincoln Drive\, Hodgenville\, KY\, 42748\, United States
CATEGORIES:Adult,Adult Events,High School,Middle School
ATTACH;FMTTYPE=image/png:https://www.laruelibrary.org/wp-content/uploads/2024/10/Screenshot-2024-10-19-at-9.25.00 AM.png
END:VEVENT
BEGIN:VEVENT
DTSTART;TZID=America/Kentucky/Louisville:20241108T140000
DTEND;TZID=America/Kentucky/Louisville:20241108T140000
DTSTAMP:20260422T185808
CREATED:20241029T214449Z
LAST-MODIFIED:20241029T214449Z
UID:10001573-1731074400-1731074400@www.laruelibrary.org
SUMMARY:Paper Luminaries
DESCRIPTION:Families\, create a simple but beautiful decoration at the library on Friday\, November 8th at 2 PM. We’ll be making paper bag luminaries. No registration is required.
URL:https://www.laruelibrary.org/event/paper-luminaries/
LOCATION:LaRue County Public Library\, 215 Lincoln Drive\, Hodgenville\, KY\, 42748\, United States
CATEGORIES:Family
ATTACH;FMTTYPE=image/png:https://www.laruelibrary.org/wp-content/uploads/2024/10/Screenshot-2024-10-29-at-5.44.23 PM.png
END:VEVENT
BEGIN:VEVENT
DTSTART;VALUE=DATE:20241111
DTEND;VALUE=DATE:20241112
DTSTAMP:20260422T185808
CREATED:20241015T214647Z
LAST-MODIFIED:20241015T214647Z
UID:10001532-1731283200-1731369599@www.laruelibrary.org
SUMMARY:Closed - Veterans Day
DESCRIPTION:The library will be closed on Monday\, November 11th in observance of Veterans Day.
URL:https://www.laruelibrary.org/event/closed-veterans-day/
LOCATION:KY
END:VEVENT
BEGIN:VEVENT
DTSTART;TZID=America/Kentucky/Louisville:20241112T100000
DTEND;TZID=America/Kentucky/Louisville:20241112T113000
DTSTAMP:20260422T185808
CREATED:20241015T214823Z
LAST-MODIFIED:20241015T214823Z
UID:10001533-1731405600-1731411000@www.laruelibrary.org
SUMMARY:Kynect
DESCRIPTION:What can Kynect do for you? Ginny Whitt will be set up in the lobby on Tuesday\, November 12th from 10 AM until 11:30 AM. \nYou might be surprised by what she can help with Snap benefits\, Medicaid\, and Kentucky Marketplace Insurance. Let her help you avoid those phone calls and red tape. \nThis program is designed for Adults.
URL:https://www.laruelibrary.org/event/kynect-23/
LOCATION:LaRue County Public Library\, 215 Lincoln Drive\, Hodgenville\, KY\, 42748\, United States
CATEGORIES:Adult,Adult Events
ATTACH;FMTTYPE=image/png:https://www.laruelibrary.org/wp-content/uploads/2023/08/kynect2.png
END:VEVENT
BEGIN:VEVENT
DTSTART;TZID=America/Kentucky/Louisville:20241112T110000
DTEND;TZID=America/Kentucky/Louisville:20241112T110000
DTSTAMP:20260422T185808
CREATED:20241029T222154Z
LAST-MODIFIED:20241029T222154Z
UID:10001574-1731409200-1731409200@www.laruelibrary.org
SUMMARY:Story Time
DESCRIPTION:Join us for a fun and fantastic story and a craft this Tuesday at 11:00 AM! \nStorytime is for children under the age of 5. \nThis is a great opportunity to grow young readers. We make learning fun by introducing children to books\, a love of reading\, and songs! We can’t wait to see you!
URL:https://www.laruelibrary.org/event/story-time-107/
LOCATION:LaRue County Public Library\, 215 Lincoln Drive\, Hodgenville\, KY\, 42748\, United States
CATEGORIES:Age Under 5 Years Old
ATTACH;FMTTYPE=image/png:https://www.laruelibrary.org/wp-content/uploads/2023/10/NST.0-1.png
END:VEVENT
END:VCALENDAR