BEGIN:VCALENDAR
VERSION:2.0
PRODID:-//LaRue County Public Library - ECPv6.15.20//NONSGML v1.0//EN
CALSCALE:GREGORIAN
METHOD:PUBLISH
X-ORIGINAL-URL:https://www.laruelibrary.org
X-WR-CALDESC:Events for LaRue County Public Library
REFRESH-INTERVAL;VALUE=DURATION:PT1H
X-Robots-Tag:noindex
X-PUBLISHED-TTL:PT1H
BEGIN:VTIMEZONE
TZID:America/Kentucky/Louisville
BEGIN:DAYLIGHT
TZOFFSETFROM:-0500
TZOFFSETTO:-0400
TZNAME:EDT
DTSTART:20230312T070000
END:DAYLIGHT
BEGIN:STANDARD
TZOFFSETFROM:-0400
TZOFFSETTO:-0500
TZNAME:EST
DTSTART:20231105T060000
END:STANDARD
BEGIN:DAYLIGHT
TZOFFSETFROM:-0500
TZOFFSETTO:-0400
TZNAME:EDT
DTSTART:20240310T070000
END:DAYLIGHT
BEGIN:STANDARD
TZOFFSETFROM:-0400
TZOFFSETTO:-0500
TZNAME:EST
DTSTART:20241103T060000
END:STANDARD
BEGIN:DAYLIGHT
TZOFFSETFROM:-0500
TZOFFSETTO:-0400
TZNAME:EDT
DTSTART:20250309T070000
END:DAYLIGHT
BEGIN:STANDARD
TZOFFSETFROM:-0400
TZOFFSETTO:-0500
TZNAME:EST
DTSTART:20251102T060000
END:STANDARD
END:VTIMEZONE
BEGIN:VEVENT
DTSTART;TZID=America/Kentucky/Louisville:20241202T100000
DTEND;TZID=America/Kentucky/Louisville:20241202T100000
DTSTAMP:20260423T024948
CREATED:20241116T144336Z
LAST-MODIFIED:20241116T144336Z
UID:10001594-1733133600-1733133600@www.laruelibrary.org
SUMMARY:Stretch and Shine
DESCRIPTION:Join us for Stretch and Shine and start your day off right! \nFree low-impact exercise class beginning at 10:00am. Let’s get those muscles moving! \nThis program is designed for Adults.
URL:https://www.laruelibrary.org/event/stretch-and-shine-45/2024-12-02/
LOCATION:KY
CATEGORIES:Adult,Adult Events
ATTACH;FMTTYPE=image/png:https://www.laruelibrary.org/wp-content/uploads/2023/03/Stretch-Adult-Event-1.png
END:VEVENT
BEGIN:VEVENT
DTSTART;TZID=America/Kentucky/Louisville:20241202T140000
DTEND;TZID=America/Kentucky/Louisville:20241202T140000
DTSTAMP:20260423T024948
CREATED:20241116T145026Z
LAST-MODIFIED:20241116T145049Z
UID:10001597-1733148000-1733148000@www.laruelibrary.org
SUMMARY:Community Games
DESCRIPTION:Come and have some game day fun here at the library at 2:00 pm! \nBring your friends\, family\, and a board game (or choose one of ours) and enjoy!
URL:https://www.laruelibrary.org/event/community-games-39/2024-12-02/
LOCATION:LaRue County Public Library\, 215 Lincoln Drive\, Hodgenville\, KY\, 42748\, United States
CATEGORIES:Everyone
ATTACH;FMTTYPE=image/jpeg:https://www.laruelibrary.org/wp-content/uploads/2023/07/bg2.jpg
END:VEVENT
BEGIN:VEVENT
DTSTART;TZID=America/Kentucky/Louisville:20241202T154500
DTEND;TZID=America/Kentucky/Louisville:20241202T154500
DTSTAMP:20260423T024948
CREATED:20241116T154244Z
LAST-MODIFIED:20241116T154244Z
UID:10001610-1733154300-1733154300@www.laruelibrary.org
SUMMARY:No Bake Recipe: Hot Cocoa Kits
DESCRIPTION:Families\, join us on Monday\, December 2nd at 3:45 for an easy\, no-bake recipe. We’ll be making hot cocoa kits. Please call the library to register.
URL:https://www.laruelibrary.org/event/no-bake-recipe-hot-cocoa-kits/
LOCATION:LaRue County Public Library\, 215 Lincoln Drive\, Hodgenville\, KY\, 42748\, United States
CATEGORIES:Family
ATTACH;FMTTYPE=image/jpeg:https://www.laruelibrary.org/wp-content/uploads/2024/11/Homemade-Hot-Chocolate-Mix-2.jpg
END:VEVENT
BEGIN:VEVENT
DTSTART;TZID=America/Kentucky/Louisville:20241202T154500
DTEND;TZID=America/Kentucky/Louisville:20241202T154500
DTSTAMP:20260423T024948
CREATED:20241116T155918Z
LAST-MODIFIED:20241116T155918Z
UID:10001614-1733154300-1733154300@www.laruelibrary.org
SUMMARY:Mug Painting with Melissa Newton
DESCRIPTION:Tuesday\, December 3rd at 3:45 PM\, Melissa Newton will be teaching a mug painting class for children ages elementary school through middle school. Those interested can call the library to register.
URL:https://www.laruelibrary.org/event/mug-painting-with-melissa-newton/
LOCATION:LaRue County Public Library\, 215 Lincoln Drive\, Hodgenville\, KY\, 42748\, United States
CATEGORIES:Grade School,Middle School
ATTACH;FMTTYPE=image/jpeg:https://www.laruelibrary.org/wp-content/uploads/2024/11/istockphoto-1188283845-612x612-1.jpg
END:VEVENT
BEGIN:VEVENT
DTSTART;TZID=America/Kentucky/Louisville:20241203T100000
DTEND;TZID=America/Kentucky/Louisville:20241203T100000
DTSTAMP:20260423T024948
CREATED:20241116T145757Z
LAST-MODIFIED:20241116T145757Z
UID:10001599-1733220000-1733220000@www.laruelibrary.org
SUMMARY:Keep Stepping Forward
DESCRIPTION:Donna Coffey will be leading our group\, a support group for men and women whose spouses have passed away. Donna will be sharing about her new book\, Hope for the Holidays\, which will be available for purchase. Join us on Tuesday\, December 3rd at 10 AM. \nSometimes the most healing thing you can do is to talk and share with others.
URL:https://www.laruelibrary.org/event/keep-stepping-forward-3/
LOCATION:LaRue County Public Library\, 215 Lincoln Drive\, Hodgenville\, KY\, 42748\, United States
CATEGORIES:Adult,Adult Events
ATTACH;FMTTYPE=image/png:https://www.laruelibrary.org/wp-content/uploads/2024/11/Screenshot-2024-11-16-at-9.57.44 AM.png
END:VEVENT
BEGIN:VEVENT
DTSTART;TZID=America/Kentucky/Louisville:20241203T110000
DTEND;TZID=America/Kentucky/Louisville:20241203T110000
DTSTAMP:20260423T024948
CREATED:20241116T154951Z
LAST-MODIFIED:20241116T154951Z
UID:10001611-1733223600-1733223600@www.laruelibrary.org
SUMMARY:Story Time
DESCRIPTION:Join us for a fun and fantastic story and a craft on Tuesday at 11 AM and on Thursday at 1:30 PM! \nStory time is for children under the ages of 5. \nThis is a great opportunity to grow young readers. We make learning fun by introducing children to books\, love of reading\, and songs! We can’t wait to see you!
URL:https://www.laruelibrary.org/event/story-time-110/2024-12-03/
LOCATION:KY
CATEGORIES:Age Under 5 Years Old
ATTACH;FMTTYPE=image/png:https://www.laruelibrary.org/wp-content/uploads/2023/10/NST.0-1.png
END:VEVENT
BEGIN:VEVENT
DTSTART;TZID=America/Kentucky/Louisville:20241203T150000
DTEND;TZID=America/Kentucky/Louisville:20241203T150000
DTSTAMP:20260423T024948
CREATED:20241116T150225Z
LAST-MODIFIED:20241116T150225Z
UID:10001600-1733238000-1733238000@www.laruelibrary.org
SUMMARY:Snowman Candle Holder
DESCRIPTION:Elevate your seasonal decor with a snowman candle holder. Teens and adults interested in signing up for our program on Tuesday\, December 3rd at 3 PM should call the library to register. Limited spaces are available.
URL:https://www.laruelibrary.org/event/snowman-candle-holder/
LOCATION:LaRue County Public Library\, 215 Lincoln Drive\, Hodgenville\, KY\, 42748\, United States
CATEGORIES:Adult,Adult Events,High School,Middle School
ATTACH;FMTTYPE=image/png:https://www.laruelibrary.org/wp-content/uploads/2024/11/Screenshot-2024-11-16-at-10.00.02 AM.png
END:VEVENT
BEGIN:VEVENT
DTSTART;TZID=America/Kentucky/Louisville:20241204T150000
DTEND;TZID=America/Kentucky/Louisville:20241204T150000
DTSTAMP:20260423T024948
CREATED:20241116T151137Z
LAST-MODIFIED:20241116T151137Z
UID:10001601-1733324400-1733324400@www.laruelibrary.org
SUMMARY:Marbelized Christmas Ornaments
DESCRIPTION:Add some personalized flair to your seasonal decor with marbelized Christmas ornaments. Interested teens and adults can call the library to register. Join us on Wednesday\, December 4th at 3 PM! Limited spaces are available.
URL:https://www.laruelibrary.org/event/marbelized-christmas-ornaments/
LOCATION:LaRue County Public Library\, 215 Lincoln Drive\, Hodgenville\, KY\, 42748\, United States
CATEGORIES:Adult,Adult Events,High School,Middle School
ATTACH;FMTTYPE=image/png:https://www.laruelibrary.org/wp-content/uploads/2024/11/Screenshot-2024-11-16-at-10.09.30 AM.png
END:VEVENT
BEGIN:VEVENT
DTSTART;TZID=America/Kentucky/Louisville:20241204T154500
DTEND;TZID=America/Kentucky/Louisville:20241204T154500
DTSTAMP:20260423T024948
CREATED:20241116T160252Z
LAST-MODIFIED:20241116T160252Z
UID:10001615-1733327100-1733327100@www.laruelibrary.org
SUMMARY:Make an Ornament
DESCRIPTION:Families\, make a different ornament each Wednesday leading up to Christmas. We hope to see you on Wed.\, Dec. 4th at 3:45\, Wed.\, Dec.\, 11th at 3:45\, and Wed.\, Dec. 18th at 3:45. This program does not require pre-registration.
URL:https://www.laruelibrary.org/event/make-an-ornament/2024-12-04/
LOCATION:LaRue County Public Library\, 215 Lincoln Drive\, Hodgenville\, KY\, 42748\, United States
CATEGORIES:Family
ATTACH;FMTTYPE=image/png:https://www.laruelibrary.org/wp-content/uploads/2024/11/Dec.-4.png
END:VEVENT
BEGIN:VEVENT
DTSTART;TZID=America/Kentucky/Louisville:20241205T110000
DTEND;TZID=America/Kentucky/Louisville:20241205T180000
DTSTAMP:20260423T024948
CREATED:20241116T151458Z
LAST-MODIFIED:20241116T151458Z
UID:10001602-1733396400-1733421600@www.laruelibrary.org
SUMMARY:Holiday Bazaar
DESCRIPTION:Stop and shop at the library’s annual Holiday Bazaar on Thursday\, December 5th from 11 AM to 6 PM. Vendors include Maisie Mae Creations\, LaRue County FFA\, Elk Creek Pork N’ Beans\, Kaleb Kreations\, Tastefully Simple\, Grandview Farms\, Art Gypsy\, Kristen’s Cakes & Creations\, and many others. \nVendors will be set up throughout the library. Friends of the Library will be selling chili and a sandwich for $5. Join us for some holiday shopping and support local businesses.
URL:https://www.laruelibrary.org/event/holiday-bazaar-2/
LOCATION:LaRue County Public Library\, 215 Lincoln Drive\, Hodgenville\, KY\, 42748\, United States
CATEGORIES:Everyone
ATTACH;FMTTYPE=image/jpeg:https://www.laruelibrary.org/wp-content/uploads/2024/11/bdddb643bbe98bdb45efb66a0badbfb0.jpg
END:VEVENT
BEGIN:VEVENT
DTSTART;TZID=America/Kentucky/Louisville:20241205T160000
DTEND;TZID=America/Kentucky/Louisville:20241205T160000
DTSTAMP:20260423T024948
CREATED:20241116T151908Z
LAST-MODIFIED:20241116T151908Z
UID:10001603-1733414400-1733414400@www.laruelibrary.org
SUMMARY:Friends of the Library
DESCRIPTION:Join us for a Friends of the Library meeting. Become a member and help us promote the LaRue County Public Library. Membership enables you to join your local branch chapter and become involved with many wonderful library activities throughout the year. Benefits include invitations to special Friends’ events\, Volunteer opportunities\, and advocacy opportunities. Hope to see you there!
URL:https://www.laruelibrary.org/event/friends-of-the-library-19/
LOCATION:LaRue County Public Library\, 215 Lincoln Drive\, Hodgenville\, KY\, 42748\, United States
CATEGORIES:Adult,Adult Events
ATTACH;FMTTYPE=image/png:https://www.laruelibrary.org/wp-content/uploads/2023/03/BecomeLibraryFriend.png
END:VEVENT
BEGIN:VEVENT
DTSTART;TZID=America/Kentucky/Louisville:20241206T130000
DTEND;TZID=America/Kentucky/Louisville:20241206T130000
DTSTAMP:20260423T024948
CREATED:20241116T160445Z
LAST-MODIFIED:20241116T160445Z
UID:10001618-1733490000-1733490000@www.laruelibrary.org
SUMMARY:Pre-K Bow Tie Pasta Wreath
DESCRIPTION:Calling all little crafters! Pre-K children can join us on Friday\, December 6th at 1 PM to craft a Bow Tie Pasta Wreath! This program does not require pre-registration.
URL:https://www.laruelibrary.org/event/pre-k-bow-tie-pasta-wreath/
LOCATION:LaRue County Public Library\, 215 Lincoln Drive\, Hodgenville\, KY\, 42748\, United States
CATEGORIES:Age Under 5 Years Old
ATTACH;FMTTYPE=image/png:https://www.laruelibrary.org/wp-content/uploads/2024/11/Dec.-6-1.png
END:VEVENT
BEGIN:VEVENT
DTSTART;TZID=America/Kentucky/Louisville:20241206T143000
DTEND;TZID=America/Kentucky/Louisville:20241206T143000
DTSTAMP:20260423T024948
CREATED:20241116T160817Z
LAST-MODIFIED:20241116T160817Z
UID:10001619-1733495400-1733495400@www.laruelibrary.org
SUMMARY:Peppermint Sugar Scrub
DESCRIPTION:Middle grades through teens\, practice some self-care\, and put together a peppermint sugar scrub at the library on Friday\, December 6th at 2:30 PM! Interested patrons can call the library to register!
URL:https://www.laruelibrary.org/event/peppermint-sugar-scrub/
LOCATION:LaRue County Public Library\, 215 Lincoln Drive\, Hodgenville\, KY\, 42748\, United States
CATEGORIES:High School,Middle School
ATTACH;FMTTYPE=image/png:https://www.laruelibrary.org/wp-content/uploads/2024/11/Dec.-6.png
END:VEVENT
BEGIN:VEVENT
DTSTART;TZID=America/Kentucky/Louisville:20241206T150000
DTEND;TZID=America/Kentucky/Louisville:20241206T150000
DTSTAMP:20260423T024948
CREATED:20241116T152101Z
LAST-MODIFIED:20241116T152101Z
UID:10001604-1733497200-1733497200@www.laruelibrary.org
SUMMARY:Diamond Art Ornaments
DESCRIPTION:Add some homemade flair to your tree with diamond art ornaments. Interested teens and adults can join us on Friday\, December 6th at 3 PM. Limited spaces are available\, so please call the library to register.
URL:https://www.laruelibrary.org/event/diamond-art-ornaments/
LOCATION:LaRue County Public Library\, 215 Lincoln Drive\, Hodgenville\, KY\, 42748\, United States
CATEGORIES:Adult,Adult Events,High School,Middle School
ATTACH;FMTTYPE=image/png:https://www.laruelibrary.org/wp-content/uploads/2024/11/Screenshot-2024-11-16-at-10.20.44 AM.png
END:VEVENT
BEGIN:VEVENT
DTSTART;TZID=America/Kentucky/Louisville:20241209T100000
DTEND;TZID=America/Kentucky/Louisville:20241209T100000
DTSTAMP:20260423T024948
CREATED:20241116T144336Z
LAST-MODIFIED:20241116T144336Z
UID:10001595-1733738400-1733738400@www.laruelibrary.org
SUMMARY:Stretch and Shine
DESCRIPTION:Join us for Stretch and Shine and start your day off right! \nFree low-impact exercise class beginning at 10:00am. Let’s get those muscles moving! \nThis program is designed for Adults.
URL:https://www.laruelibrary.org/event/stretch-and-shine-45/2024-12-09/
LOCATION:KY
CATEGORIES:Adult,Adult Events
ATTACH;FMTTYPE=image/png:https://www.laruelibrary.org/wp-content/uploads/2023/03/Stretch-Adult-Event-1.png
END:VEVENT
BEGIN:VEVENT
DTSTART;TZID=America/Kentucky/Louisville:20241209T100000
DTEND;TZID=America/Kentucky/Louisville:20241209T120000
DTSTAMP:20260423T024948
CREATED:20241116T144839Z
LAST-MODIFIED:20241119T191405Z
UID:10001596-1733738400-1733745600@www.laruelibrary.org
SUMMARY:KY Career Center Table
DESCRIPTION:Interested in taking the next step in your career? Or need advice on your next steps for employment? Stop by the library on Monday\, December 9th from 10 AM until 12 PM to speak with a representative from KY Career Center.
URL:https://www.laruelibrary.org/event/ky-career-center-table/
LOCATION:LaRue County Public Library\, 215 Lincoln Drive\, Hodgenville\, KY\, 42748\, United States
CATEGORIES:Adult,Adult Events
ATTACH;FMTTYPE=image/png:https://www.laruelibrary.org/wp-content/uploads/2024/11/1274831_2413x1450_500.png
END:VEVENT
BEGIN:VEVENT
DTSTART;TZID=America/Kentucky/Louisville:20241209T140000
DTEND;TZID=America/Kentucky/Louisville:20241209T140000
DTSTAMP:20260423T024948
CREATED:20241116T145026Z
LAST-MODIFIED:20241116T145049Z
UID:10001598-1733752800-1733752800@www.laruelibrary.org
SUMMARY:Community Games
DESCRIPTION:Come and have some game day fun here at the library at 2:00 pm! \nBring your friends\, family\, and a board game (or choose one of ours) and enjoy!
URL:https://www.laruelibrary.org/event/community-games-39/2024-12-09/
LOCATION:LaRue County Public Library\, 215 Lincoln Drive\, Hodgenville\, KY\, 42748\, United States
CATEGORIES:Everyone
ATTACH;FMTTYPE=image/jpeg:https://www.laruelibrary.org/wp-content/uploads/2023/07/bg2.jpg
END:VEVENT
BEGIN:VEVENT
DTSTART;TZID=America/Kentucky/Louisville:20241209T154500
DTEND;TZID=America/Kentucky/Louisville:20241209T154500
DTSTAMP:20260423T024948
CREATED:20241116T161105Z
LAST-MODIFIED:20241116T161105Z
UID:10001620-1733759100-1733759100@www.laruelibrary.org
SUMMARY:
DESCRIPTION:Create something fun for yourself or make a great gift for someone with our tie pillows program! Middle School through Teens can join us on Monday\, December 9th at 3:45 PM. Those interested should call the library to register.
URL:https://www.laruelibrary.org/event/7183/
LOCATION:LaRue County Public Library\, 215 Lincoln Drive\, Hodgenville\, KY\, 42748\, United States
CATEGORIES:High School,Middle School
ATTACH;FMTTYPE=image/webp:https://www.laruelibrary.org/wp-content/uploads/2024/11/valentine-pillows-no-sew-w.webp
END:VEVENT
BEGIN:VEVENT
DTSTART;TZID=America/Kentucky/Louisville:20241210T110000
DTEND;TZID=America/Kentucky/Louisville:20241210T110000
DTSTAMP:20260423T024948
CREATED:20241116T154951Z
LAST-MODIFIED:20241116T154951Z
UID:10001612-1733828400-1733828400@www.laruelibrary.org
SUMMARY:Story Time
DESCRIPTION:Join us for a fun and fantastic story and a craft on Tuesday at 11 AM and on Thursday at 1:30 PM! \nStory time is for children under the ages of 5. \nThis is a great opportunity to grow young readers. We make learning fun by introducing children to books\, love of reading\, and songs! We can’t wait to see you!
URL:https://www.laruelibrary.org/event/story-time-110/2024-12-10/
LOCATION:KY
CATEGORIES:Age Under 5 Years Old
ATTACH;FMTTYPE=image/png:https://www.laruelibrary.org/wp-content/uploads/2023/10/NST.0-1.png
END:VEVENT
BEGIN:VEVENT
DTSTART;TZID=America/Kentucky/Louisville:20241210T150000
DTEND;TZID=America/Kentucky/Louisville:20241210T150000
DTSTAMP:20260423T024948
CREATED:20241116T152521Z
LAST-MODIFIED:20241116T152521Z
UID:10001605-1733842800-1733842800@www.laruelibrary.org
SUMMARY:Holiday Tree Craft
DESCRIPTION:‘Tis the season to be crafting! Join us on Tuesday\, December 10th at 3 PM for our holiday tree craft! Interested teens and adults should call the library to register.
URL:https://www.laruelibrary.org/event/holiday-tree-craft/
LOCATION:LaRue County Public Library\, 215 Lincoln Drive\, Hodgenville\, KY\, 42748\, United States
CATEGORIES:Adult,Adult Events,High School,Middle School
ATTACH;FMTTYPE=image/png:https://www.laruelibrary.org/wp-content/uploads/2024/11/Screenshot-2024-11-16-at-10.23.31 AM.png
END:VEVENT
BEGIN:VEVENT
DTSTART;TZID=America/Kentucky/Louisville:20241210T160000
DTEND;TZID=America/Kentucky/Louisville:20241210T160000
DTSTAMP:20260423T024948
CREATED:20241116T161725Z
LAST-MODIFIED:20241116T161725Z
UID:10001621-1733846400-1733846400@www.laruelibrary.org
SUMMARY:Menorah Craft
DESCRIPTION:Celebrate more of the holiday season by making a menorah. This program invites families to join us on Tuesday\, December 10th at 4 PM. 
URL:https://www.laruelibrary.org/event/menorah-craft/
LOCATION:LaRue County Public Library\, 215 Lincoln Drive\, Hodgenville\, KY\, 42748\, United States
CATEGORIES:Family
ATTACH;FMTTYPE=image/png:https://www.laruelibrary.org/wp-content/uploads/2024/11/Dec.-10.png
END:VEVENT
BEGIN:VEVENT
DTSTART;TZID=America/Kentucky/Louisville:20241211T130000
DTEND;TZID=America/Kentucky/Louisville:20241211T130000
DTSTAMP:20260423T024948
CREATED:20241116T162112Z
LAST-MODIFIED:20241116T162112Z
UID:10001622-1733922000-1733922000@www.laruelibrary.org
SUMMARY:Pre-K Christmas Suncatchers
DESCRIPTION:Let the light in on the holiday season with these pre-k Christmas suncatchers. Pre-K kiddos can join us on Wednesday\, December 11th at 1 PM. This program does not require pre-registration.
URL:https://www.laruelibrary.org/event/pre-k-christmas-suncatchers/
LOCATION:LaRue County Public Library\, 215 Lincoln Drive\, Hodgenville\, KY\, 42748\, United States
CATEGORIES:Age Under 5 Years Old
ATTACH;FMTTYPE=image/png:https://www.laruelibrary.org/wp-content/uploads/2024/11/Dec.-11.png
END:VEVENT
BEGIN:VEVENT
DTSTART;TZID=America/Kentucky/Louisville:20241211T150000
DTEND;TZID=America/Kentucky/Louisville:20241211T150000
DTSTAMP:20260423T024948
CREATED:20241116T152737Z
LAST-MODIFIED:20241116T152737Z
UID:10001606-1733929200-1733929200@www.laruelibrary.org
SUMMARY:Snowman Craft
DESCRIPTION:You’ll be “snow” glad you signed up for our Snowman craft on Wednesday\, December 11th at 3 PM! Interested teens and adults can call the library to register.
URL:https://www.laruelibrary.org/event/snowman-craft/
LOCATION:LaRue County Public Library\, 215 Lincoln Drive\, Hodgenville\, KY\, 42748\, United States
CATEGORIES:Adult,Adult Events,High School,Middle School
ATTACH;FMTTYPE=image/png:https://www.laruelibrary.org/wp-content/uploads/2024/11/Screenshot-2024-11-16-at-10.26.51 AM.png
END:VEVENT
BEGIN:VEVENT
DTSTART;TZID=America/Kentucky/Louisville:20241211T154500
DTEND;TZID=America/Kentucky/Louisville:20241211T154500
DTSTAMP:20260423T024948
CREATED:20241116T160252Z
LAST-MODIFIED:20241116T160252Z
UID:10001616-1733931900-1733931900@www.laruelibrary.org
SUMMARY:Make an Ornament
DESCRIPTION:Families\, make a different ornament each Wednesday leading up to Christmas. We hope to see you on Wed.\, Dec. 4th at 3:45\, Wed.\, Dec.\, 11th at 3:45\, and Wed.\, Dec. 18th at 3:45. This program does not require pre-registration.
URL:https://www.laruelibrary.org/event/make-an-ornament/2024-12-11/
LOCATION:LaRue County Public Library\, 215 Lincoln Drive\, Hodgenville\, KY\, 42748\, United States
CATEGORIES:Family
ATTACH;FMTTYPE=image/png:https://www.laruelibrary.org/wp-content/uploads/2024/11/Dec.-4.png
END:VEVENT
BEGIN:VEVENT
DTSTART;TZID=America/Kentucky/Louisville:20241212T100000
DTEND;TZID=America/Kentucky/Louisville:20241212T100000
DTSTAMP:20260423T024948
CREATED:20241116T152938Z
LAST-MODIFIED:20241116T152938Z
UID:10001607-1733997600-1733997600@www.laruelibrary.org
SUMMARY:Kynect Table
DESCRIPTION:What can Kynect do for you? Ginny Whitt will be set up in the library’s lobby on Tuesday\, December 12th from 10 AM until 11:30 AM. Not sure where to start? Ginny can help you learn more about Snap benefits\, Medicaid\, Kentucky Marketplace Insurance\, and more.
URL:https://www.laruelibrary.org/event/kynect-table/
LOCATION:LaRue County Public Library\, 215 Lincoln Drive\, Hodgenville\, KY\, 42748\, United States
CATEGORIES:Adult,Adult Events
ATTACH;FMTTYPE=image/png:https://www.laruelibrary.org/wp-content/uploads/2023/08/kynect2.png
END:VEVENT
BEGIN:VEVENT
DTSTART;TZID=America/Kentucky/Louisville:20241212T133000
DTEND;TZID=America/Kentucky/Louisville:20241212T133000
DTSTAMP:20260423T024948
CREATED:20241116T154951Z
LAST-MODIFIED:20241116T154951Z
UID:10001613-1734010200-1734010200@www.laruelibrary.org
SUMMARY:Story Time
DESCRIPTION:Join us for a fun and fantastic story and a craft on Tuesday at 11 AM and on Thursday at 1:30 PM! \nStory time is for children under the ages of 5. \nThis is a great opportunity to grow young readers. We make learning fun by introducing children to books\, love of reading\, and songs! We can’t wait to see you!
URL:https://www.laruelibrary.org/event/story-time-110/2024-12-12/
LOCATION:KY
CATEGORIES:Age Under 5 Years Old
ATTACH;FMTTYPE=image/png:https://www.laruelibrary.org/wp-content/uploads/2023/10/NST.0-1.png
END:VEVENT
BEGIN:VEVENT
DTSTART;TZID=America/Kentucky/Louisville:20241212T160000
DTEND;TZID=America/Kentucky/Louisville:20241212T160000
DTSTAMP:20260423T024948
CREATED:20241116T153313Z
LAST-MODIFIED:20241116T153313Z
UID:10001608-1734019200-1734019200@www.laruelibrary.org
SUMMARY:Whittling
DESCRIPTION:Try your hand at a new skill\, with Dave’s Whittle Things! Thursday\, December 12th at 4 PM\, Dave will be teaching our class how to whittle a Santa! Interested teens and adults can call the library to register\, as limited spaces are available.
URL:https://www.laruelibrary.org/event/whittling-3/
LOCATION:LaRue County Public Library\, 215 Lincoln Drive\, Hodgenville\, KY\, 42748\, United States
CATEGORIES:Adult,Adult Events,High School,Middle School
ATTACH;FMTTYPE=image/png:https://www.laruelibrary.org/wp-content/uploads/2024/11/Screenshot-2024-11-16-at-10.31.43 AM.png
END:VEVENT
BEGIN:VEVENT
DTSTART;TZID=America/Kentucky/Louisville:20241212T170000
DTEND;TZID=America/Kentucky/Louisville:20241212T170000
DTSTAMP:20260423T024948
CREATED:20241116T162341Z
LAST-MODIFIED:20241116T162341Z
UID:10001623-1734022800-1734022800@www.laruelibrary.org
SUMMARY:Cookies & Cocoa with Melissa Newton
DESCRIPTION:Have some fun this holiday season with Cookies & Cocoa\, with Melissa Newton. Students from elementary school through teens can join us on Thursday\, December 12th at 5 PM. Please call the library to register.
URL:https://www.laruelibrary.org/event/cookies-cocoa-with-melissa-newton/
LOCATION:LaRue County Public Library\, 215 Lincoln Drive\, Hodgenville\, KY\, 42748\, United States
CATEGORIES:High School,Middle School
ATTACH;FMTTYPE=image/png:https://www.laruelibrary.org/wp-content/uploads/2024/11/Dec.-12.png
END:VEVENT
BEGIN:VEVENT
DTSTART;TZID=America/Kentucky/Louisville:20241213T133000
DTEND;TZID=America/Kentucky/Louisville:20241213T133000
DTSTAMP:20260423T024948
CREATED:20241116T162633Z
LAST-MODIFIED:20241116T162633Z
UID:10001624-1734096600-1734096600@www.laruelibrary.org
SUMMARY:Holiday Pre-K Sensory Bins
DESCRIPTION:Pre-K kiddos\, join us for holiday-themed sensory bins on Friday\, December 13th at 1:30 PM. This event does not require pre-registration.
URL:https://www.laruelibrary.org/event/holiday-pre-k-sensory-bins/
LOCATION:LaRue County Public Library\, 215 Lincoln Drive\, Hodgenville\, KY\, 42748\, United States
CATEGORIES:Age Under 5 Years Old
ATTACH;FMTTYPE=image/png:https://www.laruelibrary.org/wp-content/uploads/2024/11/Dec.-13th.png
END:VEVENT
BEGIN:VEVENT
DTSTART;TZID=America/Kentucky/Louisville:20241213T150000
DTEND;TZID=America/Kentucky/Louisville:20241213T150000
DTSTAMP:20260423T024948
CREATED:20241116T154009Z
LAST-MODIFIED:20241116T154009Z
UID:10001609-1734102000-1734102000@www.laruelibrary.org
SUMMARY:Holiday Cookie Exchange and Recipe Journal
DESCRIPTION:You’re bound to have a tasty time at our Holiday Cookie Exchange and Shabby Chic Recipe Journal program on Friday\, December 13th at 3 PM. Bring at least 2 dozen of your favorite cookies to exchange and copies of your recipe. Please bring a printed copy of your recipe to share with others. \nAfter exchanging cookies\, we will be creating a recipe journal to keep our recipes in. \nAdults interested should call the library to register.
URL:https://www.laruelibrary.org/event/holiday-cookie-exchange-and-recipe-journal/
LOCATION:LaRue County Public Library\, 215 Lincoln Drive\, Hodgenville\, KY\, 42748\, United States
CATEGORIES:Adult,Adult Events
ATTACH;FMTTYPE=image/jpeg:https://www.laruelibrary.org/wp-content/uploads/2024/11/istockphoto-1185515984-612x612-1.jpg
END:VEVENT
END:VCALENDAR