BEGIN:VCALENDAR
VERSION:2.0
PRODID:-//LaRue County Public Library - ECPv6.15.20//NONSGML v1.0//EN
CALSCALE:GREGORIAN
METHOD:PUBLISH
X-WR-CALNAME:LaRue County Public Library
X-ORIGINAL-URL:https://www.laruelibrary.org
X-WR-CALDESC:Events for LaRue County Public Library
REFRESH-INTERVAL;VALUE=DURATION:PT1H
X-Robots-Tag:noindex
X-PUBLISHED-TTL:PT1H
BEGIN:VTIMEZONE
TZID:America/Kentucky/Louisville
BEGIN:DAYLIGHT
TZOFFSETFROM:-0500
TZOFFSETTO:-0400
TZNAME:EDT
DTSTART:20230312T070000
END:DAYLIGHT
BEGIN:STANDARD
TZOFFSETFROM:-0400
TZOFFSETTO:-0500
TZNAME:EST
DTSTART:20231105T060000
END:STANDARD
BEGIN:DAYLIGHT
TZOFFSETFROM:-0500
TZOFFSETTO:-0400
TZNAME:EDT
DTSTART:20240310T070000
END:DAYLIGHT
BEGIN:STANDARD
TZOFFSETFROM:-0400
TZOFFSETTO:-0500
TZNAME:EST
DTSTART:20241103T060000
END:STANDARD
BEGIN:DAYLIGHT
TZOFFSETFROM:-0500
TZOFFSETTO:-0400
TZNAME:EDT
DTSTART:20250309T070000
END:DAYLIGHT
BEGIN:STANDARD
TZOFFSETFROM:-0400
TZOFFSETTO:-0500
TZNAME:EST
DTSTART:20251102T060000
END:STANDARD
END:VTIMEZONE
BEGIN:VEVENT
DTSTART;TZID=America/Kentucky/Louisville:20241118T100000
DTEND;TZID=America/Kentucky/Louisville:20241118T100000
DTSTAMP:20260422T221349
CREATED:20241021T193206Z
LAST-MODIFIED:20241021T193206Z
UID:10001545-1731924000-1731924000@www.laruelibrary.org
SUMMARY:Stretch and Shine
DESCRIPTION:Join us for Stretch and Shine and start your day off right! \nFree low-impact exercise class beginning at 10:00am. Let’s get those muscles moving! \nThis program is designed for adults.
URL:https://www.laruelibrary.org/event/stretch-and-shine-43/2024-11-18/
LOCATION:LaRue County Public Library\, 215 Lincoln Drive\, Hodgenville\, KY\, 42748\, United States
CATEGORIES:Adult,Adult Events
ATTACH;FMTTYPE=image/png:https://www.laruelibrary.org/wp-content/uploads/2023/03/Stretch-Adult-Event-1.png
ORGANIZER;CN="LaRue Public Library":MAILTO:info@laruelibrary.org
END:VEVENT
BEGIN:VEVENT
DTSTART;TZID=America/Kentucky/Louisville:20241118T140000
DTEND;TZID=America/Kentucky/Louisville:20241118T140000
DTSTAMP:20260422T221349
CREATED:20241021T194204Z
LAST-MODIFIED:20241021T194234Z
UID:10001547-1731938400-1731938400@www.laruelibrary.org
SUMMARY:Community Games
DESCRIPTION:Come and have some game day fun here at the library at 2:00pm! \nBring your friends\, family\, a board game (or choose one of ours) and enjoy!
URL:https://www.laruelibrary.org/event/community-games-37/2024-11-18/
LOCATION:LaRue County Public Library\, 215 Lincoln Drive\, Hodgenville\, KY\, 42748\, United States
CATEGORIES:Adult,Adult Events,Everyone,Family,Youth Events
ATTACH;FMTTYPE=image/jpeg:https://www.laruelibrary.org/wp-content/uploads/2023/07/bg2.jpg
ORGANIZER;CN="LaRue Public Library":MAILTO:info@laruelibrary.org
END:VEVENT
BEGIN:VEVENT
DTSTART;TZID=America/Kentucky/Louisville:20241118T153000
DTEND;TZID=America/Kentucky/Louisville:20241118T153000
DTSTAMP:20260422T221349
CREATED:20241028T195752Z
LAST-MODIFIED:20241028T195752Z
UID:10001559-1731943800-1731943800@www.laruelibrary.org
SUMMARY:Fall Leaf Chalk Pastel Craft
DESCRIPTION:Join us on Monday\, November 18th @ 3:45pm to do a fall leaf pastel chalk craft! \nPreK – Grade School. No sign up needed.
URL:https://www.laruelibrary.org/event/fall-leaf-chalk-pastel-craft/
LOCATION:LaRue County Public Library\, 215 Lincoln Drive\, Hodgenville\, KY\, 42748\, United States
CATEGORIES:Age Under 5 Years Old,Grade School,Youth Events
ATTACH;FMTTYPE=image/png:https://www.laruelibrary.org/wp-content/uploads/2024/10/chalk-leaf.png
ORGANIZER;CN="LaRue Public Library":MAILTO:info@laruelibrary.org
END:VEVENT
BEGIN:VEVENT
DTSTART;TZID=America/Kentucky/Louisville:20241119T100000
DTEND;TZID=America/Kentucky/Louisville:20241119T100000
DTSTAMP:20260422T221349
CREATED:20241021T194716Z
LAST-MODIFIED:20241021T194716Z
UID:10001549-1732010400-1732010400@www.laruelibrary.org
SUMMARY:BINGOcize
DESCRIPTION:Join us on Tuesday\, November 19th at 10:00am for a health promotion program combining Bingo! with inclusive exercises for all! \nThis class is meant for Adults.
URL:https://www.laruelibrary.org/event/bingocize-2/
LOCATION:LaRue County Public Library\, 215 Lincoln Drive\, Hodgenville\, KY\, 42748\, United States
CATEGORIES:Adult,Adult Events
ATTACH;FMTTYPE=image/png:https://www.laruelibrary.org/wp-content/uploads/2024/10/November-Bingocize.png
ORGANIZER;CN="LaRue Public Library":MAILTO:info@laruelibrary.org
END:VEVENT
BEGIN:VEVENT
DTSTART;TZID=America/Kentucky/Louisville:20241119T110000
DTEND;TZID=America/Kentucky/Louisville:20241119T110000
DTSTAMP:20260422T221349
CREATED:20241028T201201Z
LAST-MODIFIED:20241028T201201Z
UID:10001565-1732014000-1732014000@www.laruelibrary.org
SUMMARY:Story Time
DESCRIPTION:Join us for a fun and fantastic story and a craft this Tuesday at 11:00 AM! \nStory time is for children under the ages of 5. \nThis is a great opportunity to grow young readers. We make learning fun by introducing children to books\, love of reading\, and songs! We can’t wait to see you!
URL:https://www.laruelibrary.org/event/story-time-105/2024-11-19/
LOCATION:LaRue County Public Library\, 215 Lincoln Drive\, Hodgenville\, KY\, 42748\, United States
CATEGORIES:Age Under 5 Years Old,Youth Events
ATTACH;FMTTYPE=image/png:https://www.laruelibrary.org/wp-content/uploads/2023/10/NST.0-1.png
ORGANIZER;CN="LaRue Public Library":MAILTO:info@laruelibrary.org
END:VEVENT
BEGIN:VEVENT
DTSTART;TZID=America/Kentucky/Louisville:20241119T150000
DTEND;TZID=America/Kentucky/Louisville:20241119T150000
DTSTAMP:20260422T221349
CREATED:20241021T195106Z
LAST-MODIFIED:20241021T195106Z
UID:10001550-1732028400-1732028400@www.laruelibrary.org
SUMMARY:Handmade Holiday Cards
DESCRIPTION:Join us on Tuesday\, November 19th @ 3:00pm to make handmade holiday cards! \nCards will be delivered by the Bookmobile to the residents of Signature Healthcare of Sunrise Manor! \nMaterials will be provided. Class limit of 24. Call to register. Teens & Adults.
URL:https://www.laruelibrary.org/event/handmade-holiday-cards/
LOCATION:LaRue County Public Library\, 215 Lincoln Drive\, Hodgenville\, KY\, 42748\, United States
CATEGORIES:Adult,Adult Events,High School,Youth Events
ATTACH;FMTTYPE=image/png:https://www.laruelibrary.org/wp-content/uploads/2024/10/Holiday-Cards.png
ORGANIZER;CN="LaRue Public Library":MAILTO:info@laruelibrary.org
END:VEVENT
BEGIN:VEVENT
DTSTART;TZID=America/Kentucky/Louisville:20241119T153000
DTEND;TZID=America/Kentucky/Louisville:20241119T153000
DTSTAMP:20260422T221349
CREATED:20241028T195954Z
LAST-MODIFIED:20241028T195954Z
UID:10001560-1732030200-1732030200@www.laruelibrary.org
SUMMARY:Making Corn Cobs
DESCRIPTION:Join us on Tuesday\, November 19th @ 3:30pm to make beaded corn cobs! \nFamilies welcome! No sign up needed
URL:https://www.laruelibrary.org/event/making-corn-cobs/
LOCATION:LaRue County Public Library\, 215 Lincoln Drive\, Hodgenville\, KY\, 42748\, United States
CATEGORIES:Family,Youth Events
ATTACH;FMTTYPE=image/png:https://www.laruelibrary.org/wp-content/uploads/2024/10/Beaded-Corn.png
ORGANIZER;CN="LaRue Public Library":MAILTO:info@laruelibrary.org
END:VEVENT
BEGIN:VEVENT
DTSTART;TZID=America/Kentucky/Louisville:20241119T170000
DTEND;TZID=America/Kentucky/Louisville:20241119T170000
DTSTAMP:20260422T221349
CREATED:20241021T195512Z
LAST-MODIFIED:20241021T195512Z
UID:10001551-1732035600-1732035600@www.laruelibrary.org
SUMMARY:American Sign Language
DESCRIPTION:Join us on Tuesday\, November 19th @ 5:00pm to learn food names and how to order at a restaurant. \nNo previous class attendance needed. \nTeens & Adults. Call to register.
URL:https://www.laruelibrary.org/event/american-sign-language/
LOCATION:LaRue County Public Library\, 215 Lincoln Drive\, Hodgenville\, KY\, 42748\, United States
CATEGORIES:Adult,Adult Events,Everyone,High School,Youth Events
ATTACH;FMTTYPE=image/png:https://www.laruelibrary.org/wp-content/uploads/2024/10/Nov-ASL.png
ORGANIZER;CN="LaRue Public Library":MAILTO:info@laruelibrary.org
END:VEVENT
BEGIN:VEVENT
DTSTART;TZID=America/Kentucky/Louisville:20241120T153000
DTEND;TZID=America/Kentucky/Louisville:20241120T153000
DTSTAMP:20260422T221349
CREATED:20241028T200208Z
LAST-MODIFIED:20241028T200208Z
UID:10001561-1732116600-1732116600@www.laruelibrary.org
SUMMARY:Pre-K Turkey Wreath Craft
DESCRIPTION:Join us on Wednesday\, November 20th @ 3:30pm to make a fun pre-k aged turkey wreath! \nPre-K ages. No sign up needed.
URL:https://www.laruelibrary.org/event/pre-k-turkey-wreath-craft/
LOCATION:LaRue County Public Library\, 215 Lincoln Drive\, Hodgenville\, KY\, 42748\, United States
CATEGORIES:Age Under 5 Years Old,Youth Events
ATTACH;FMTTYPE=image/png:https://www.laruelibrary.org/wp-content/uploads/2024/10/turkey-wreath.png
ORGANIZER;CN="LaRue Public Library":MAILTO:info@laruelibrary.org
END:VEVENT
BEGIN:VEVENT
DTSTART;TZID=America/Kentucky/Louisville:20241121T120000
DTEND;TZID=America/Kentucky/Louisville:20241121T173000
DTSTAMP:20260422T221349
CREATED:20241021T200457Z
LAST-MODIFIED:20241021T200457Z
UID:10001554-1732190400-1732210200@www.laruelibrary.org
SUMMARY:Bloodmobile
DESCRIPTION:Come down to the Library on Thursday\, November 21st from 12:00pm-5:30pm to donate blood to the American Red Cross. \nHelp do your part! Schedule appointment now to save a life at redcross.org. \nYou will be entered for one of two $25 gift cards\, courtesy of the Friends of the Library! \nThis program is designed for Adults.
URL:https://www.laruelibrary.org/event/bloodmobile-10/
LOCATION:LaRue County Public Library\, 215 Lincoln Drive\, Hodgenville\, KY\, 42748\, United States
CATEGORIES:Adult,Adult Events,High School,Youth Events
ATTACH;FMTTYPE=image/png:https://www.laruelibrary.org/wp-content/uploads/2024/02/Blddrv.png
ORGANIZER;CN="LaRue Public Library":MAILTO:info@laruelibrary.org
END:VEVENT
BEGIN:VEVENT
DTSTART;TZID=America/Kentucky/Louisville:20241121T153000
DTEND;TZID=America/Kentucky/Louisville:20241121T153000
DTSTAMP:20260422T221349
CREATED:20241021T200246Z
LAST-MODIFIED:20241021T200246Z
UID:10001553-1732203000-1732203000@www.laruelibrary.org
SUMMARY:Book Club
DESCRIPTION:Come join us on Thursday\, November 21st at 3:30pm for Book Club! \nWe will be meeting at the back of the library due to the Bloodmobile being here. \nThis is an Adult program.
URL:https://www.laruelibrary.org/event/book-club-19/
LOCATION:LaRue County Public Library\, 215 Lincoln Drive\, Hodgenville\, KY\, 42748\, United States
CATEGORIES:Adult,Adult Events
ATTACH;FMTTYPE=image/jpeg:https://www.laruelibrary.org/wp-content/uploads/2023/07/bc2.jpg
ORGANIZER;CN="LaRue Public Library":MAILTO:info@laruelibrary.org
END:VEVENT
BEGIN:VEVENT
DTSTART;TZID=America/Kentucky/Louisville:20241121T153000
DTEND;TZID=America/Kentucky/Louisville:20241121T153000
DTSTAMP:20260422T221349
CREATED:20241028T200452Z
LAST-MODIFIED:20241028T200452Z
UID:10001562-1732203000-1732203000@www.laruelibrary.org
SUMMARY:Melissa Newton Art Class
DESCRIPTION:Join us on Thursday\, November 21st @ 3:45pm as Melissa Newton leads an art class! \nAges: Grade School – Teen. Call to register.
URL:https://www.laruelibrary.org/event/melissa-newton-art-class-4/
LOCATION:LaRue County Public Library\, 215 Lincoln Drive\, Hodgenville\, KY\, 42748\, United States
CATEGORIES:Grade School,High School,Middle School,Youth Events
ATTACH;FMTTYPE=image/png:https://www.laruelibrary.org/wp-content/uploads/2024/10/MN-Art.png
ORGANIZER;CN="LaRue Public Library":MAILTO:info@laruelibrary.org
END:VEVENT
BEGIN:VEVENT
DTSTART;TZID=America/Kentucky/Louisville:20241121T163000
DTEND;TZID=America/Kentucky/Louisville:20241121T163000
DTSTAMP:20260422T221349
CREATED:20241021T200642Z
LAST-MODIFIED:20241021T200642Z
UID:10001555-1732206600-1732206600@www.laruelibrary.org
SUMMARY:Board Meeting
DESCRIPTION:LCPL Board Meeting on Thursday\, November 21st at 4:30pm. \nThis is for adults only. 
URL:https://www.laruelibrary.org/event/board-meeting-17/
LOCATION:LaRue County Public Library\, 215 Lincoln Drive\, Hodgenville\, KY\, 42748\, United States
CATEGORIES:Adult,Adult Events
ATTACH;FMTTYPE=image/jpeg:https://www.laruelibrary.org/wp-content/uploads/2023/07/brm2.jpg
ORGANIZER;CN="LaRue Public Library":MAILTO:info@laruelibrary.org
END:VEVENT
BEGIN:VEVENT
DTSTART;TZID=America/Kentucky/Louisville:20241122T093000
DTEND;TZID=America/Kentucky/Louisville:20241122T103000
DTSTAMP:20260422T221349
CREATED:20240820T160320Z
LAST-MODIFIED:20240926T143906Z
UID:10001466-1732267800-1732271400@www.laruelibrary.org
SUMMARY:Tiny Hawks Story Time
DESCRIPTION:Join us for a very special Tiny Hawks Story Time from 9:30-10:30am with assistance from Ellen Shelton! Each session\, children will receive a free educational take-home item/supplies (provided by the ALES Family Resource Center). \nThese story times/sessions will take place at LaRue County Public Library on Friday September 27th\, October 25th\, November 22nd\, January 31st\, February 28th\, March 28th\, and April 25th. These story times/sessions are geared toward preschool age children (2-5 years old) and their caregiver(s). \nSign-up is NOT required. \nFor more info\, contact: \nTaylor Metcalf; LCPL Children’s Librarian @ 358-3851 \nEllen Shelton; ALES FRC Coordinator @ 358-7130
URL:https://www.laruelibrary.org/event/tiny-hawks-story-time-with-ellen-shelton/2024-11-22/
LOCATION:LaRue County Public Library\, 215 Lincoln Drive\, Hodgenville\, KY\, 42748\, United States
CATEGORIES:Age Under 5 Years Old,Youth Events
ATTACH;FMTTYPE=image/png:https://www.laruelibrary.org/wp-content/uploads/2024/08/Tiny-Hawks.png
ORGANIZER;CN="LaRue Public Library":MAILTO:info@laruelibrary.org
END:VEVENT
BEGIN:VEVENT
DTSTART;TZID=America/Kentucky/Louisville:20241125T100000
DTEND;TZID=America/Kentucky/Louisville:20241125T100000
DTSTAMP:20260422T221349
CREATED:20241021T193206Z
LAST-MODIFIED:20241021T193206Z
UID:10001546-1732528800-1732528800@www.laruelibrary.org
SUMMARY:Stretch and Shine
DESCRIPTION:Join us for Stretch and Shine and start your day off right! \nFree low-impact exercise class beginning at 10:00am. Let’s get those muscles moving! \nThis program is designed for adults.
URL:https://www.laruelibrary.org/event/stretch-and-shine-43/2024-11-25/
LOCATION:LaRue County Public Library\, 215 Lincoln Drive\, Hodgenville\, KY\, 42748\, United States
CATEGORIES:Adult,Adult Events
ATTACH;FMTTYPE=image/png:https://www.laruelibrary.org/wp-content/uploads/2023/03/Stretch-Adult-Event-1.png
ORGANIZER;CN="LaRue Public Library":MAILTO:info@laruelibrary.org
END:VEVENT
BEGIN:VEVENT
DTSTART;TZID=America/Kentucky/Louisville:20241125T140000
DTEND;TZID=America/Kentucky/Louisville:20241125T140000
DTSTAMP:20260422T221349
CREATED:20241021T194204Z
LAST-MODIFIED:20241021T194234Z
UID:10001548-1732543200-1732543200@www.laruelibrary.org
SUMMARY:Community Games
DESCRIPTION:Come and have some game day fun here at the library at 2:00pm! \nBring your friends\, family\, a board game (or choose one of ours) and enjoy!
URL:https://www.laruelibrary.org/event/community-games-37/2024-11-25/
LOCATION:LaRue County Public Library\, 215 Lincoln Drive\, Hodgenville\, KY\, 42748\, United States
CATEGORIES:Adult,Adult Events,Everyone,Family,Youth Events
ATTACH;FMTTYPE=image/jpeg:https://www.laruelibrary.org/wp-content/uploads/2023/07/bg2.jpg
ORGANIZER;CN="LaRue Public Library":MAILTO:info@laruelibrary.org
END:VEVENT
BEGIN:VEVENT
DTSTART;TZID=America/Kentucky/Louisville:20241126T110000
DTEND;TZID=America/Kentucky/Louisville:20241126T110000
DTSTAMP:20260422T221349
CREATED:20241028T201201Z
LAST-MODIFIED:20241028T201201Z
UID:10001566-1732618800-1732618800@www.laruelibrary.org
SUMMARY:Story Time
DESCRIPTION:Join us for a fun and fantastic story and a craft this Tuesday at 11:00 AM! \nStory time is for children under the ages of 5. \nThis is a great opportunity to grow young readers. We make learning fun by introducing children to books\, love of reading\, and songs! We can’t wait to see you!
URL:https://www.laruelibrary.org/event/story-time-105/2024-11-26/
LOCATION:LaRue County Public Library\, 215 Lincoln Drive\, Hodgenville\, KY\, 42748\, United States
CATEGORIES:Age Under 5 Years Old,Youth Events
ATTACH;FMTTYPE=image/png:https://www.laruelibrary.org/wp-content/uploads/2023/10/NST.0-1.png
ORGANIZER;CN="LaRue Public Library":MAILTO:info@laruelibrary.org
END:VEVENT
BEGIN:VEVENT
DTSTART;TZID=America/Kentucky/Louisville:20241126T153000
DTEND;TZID=America/Kentucky/Louisville:20241126T153000
DTSTAMP:20260422T221349
CREATED:20241028T200713Z
LAST-MODIFIED:20241028T200713Z
UID:10001563-1732635000-1732635000@www.laruelibrary.org
SUMMARY:Make a Pie Craft
DESCRIPTION:Join us on Tuesday\, November 26th @ 3:30pm to make a fun and festive pie craft! \nAges: PreK – Grade School. No sign up needed.
URL:https://www.laruelibrary.org/event/make-a-pie-craft/
LOCATION:LaRue County Public Library\, 215 Lincoln Drive\, Hodgenville\, KY\, 42748\, United States
CATEGORIES:Age Under 5 Years Old,Grade School,Youth Events
ATTACH;FMTTYPE=image/png:https://www.laruelibrary.org/wp-content/uploads/2024/10/Make-a-pie.png
ORGANIZER;CN="LaRue Public Library":MAILTO:info@laruelibrary.org
END:VEVENT
BEGIN:VEVENT
DTSTART;TZID=America/Kentucky/Louisville:20241127T150000
DTEND;TZID=America/Kentucky/Louisville:20241127T150000
DTSTAMP:20260422T221349
CREATED:20241028T200956Z
LAST-MODIFIED:20241028T200956Z
UID:10001564-1732719600-1732719600@www.laruelibrary.org
SUMMARY:Pumpkin Plushes
DESCRIPTION:Calling all Teens to join us on Wednesday\, November 27th @ 3:00pm to make pumpkin plushes! \nTeens only. No sign up needed.
URL:https://www.laruelibrary.org/event/pumpkin-plushes/
LOCATION:LaRue County Public Library\, 215 Lincoln Drive\, Hodgenville\, KY\, 42748\, United States
CATEGORIES:High School,Youth Events
ATTACH;FMTTYPE=image/png:https://www.laruelibrary.org/wp-content/uploads/2024/10/pumkpin-plush.png
ORGANIZER;CN="LaRue Public Library":MAILTO:info@laruelibrary.org
END:VEVENT
BEGIN:VEVENT
DTSTART;VALUE=DATE:20241128
DTEND;VALUE=DATE:20241129
DTSTAMP:20260422T221349
CREATED:20241021T202750Z
LAST-MODIFIED:20241021T202750Z
UID:10001556-1732752000-1732838399@www.laruelibrary.org
SUMMARY:WE ARE CLOSED
DESCRIPTION:We are closed today in celebration of Thanksgiving Day\, so we will see you Monday\, December 2nd at 9:00am! \nHappy Thanksgiving!
URL:https://www.laruelibrary.org/event/we-are-closed-8/
LOCATION:LaRue County Public Library\, 215 Lincoln Drive\, Hodgenville\, KY\, 42748\, United States
CATEGORIES:Adult,Adult Events,Everyone,Family,Youth Events
ATTACH;FMTTYPE=image/png:https://www.laruelibrary.org/wp-content/uploads/2024/10/thanksgiving.png
ORGANIZER;CN="LaRue Public Library":MAILTO:info@laruelibrary.org
END:VEVENT
BEGIN:VEVENT
DTSTART;VALUE=DATE:20241129
DTEND;VALUE=DATE:20241130
DTSTAMP:20260422T221349
CREATED:20241021T202943Z
LAST-MODIFIED:20241021T202943Z
UID:10001557-1732838400-1732924799@www.laruelibrary.org
SUMMARY:WE ARE CLOSED
DESCRIPTION:We are closed today in celebration of Native American Heritage Day and continued celebration of the Thanksgiving weekend\, so we will see you Monday\, December 2nd at 9:00am! \nHappy Holidays!
URL:https://www.laruelibrary.org/event/we-are-closed-9/
LOCATION:LaRue County Public Library\, 215 Lincoln Drive\, Hodgenville\, KY\, 42748\, United States
CATEGORIES:Adult,Adult Events,Everyone,Family,Youth Events
ATTACH;FMTTYPE=image/png:https://www.laruelibrary.org/wp-content/uploads/2024/10/native-heritage.png
ORGANIZER;CN="LaRue Public Library":MAILTO:info@laruelibrary.org
END:VEVENT
BEGIN:VEVENT
DTSTART;TZID=America/Kentucky/Louisville:20241202T100000
DTEND;TZID=America/Kentucky/Louisville:20241202T100000
DTSTAMP:20260422T221349
CREATED:20241116T144336Z
LAST-MODIFIED:20241116T144336Z
UID:10001594-1733133600-1733133600@www.laruelibrary.org
SUMMARY:Stretch and Shine
DESCRIPTION:Join us for Stretch and Shine and start your day off right! \nFree low-impact exercise class beginning at 10:00am. Let’s get those muscles moving! \nThis program is designed for Adults.
URL:https://www.laruelibrary.org/event/stretch-and-shine-45/2024-12-02/
LOCATION:KY
CATEGORIES:Adult,Adult Events
ATTACH;FMTTYPE=image/png:https://www.laruelibrary.org/wp-content/uploads/2023/03/Stretch-Adult-Event-1.png
END:VEVENT
BEGIN:VEVENT
DTSTART;TZID=America/Kentucky/Louisville:20241202T140000
DTEND;TZID=America/Kentucky/Louisville:20241202T140000
DTSTAMP:20260422T221349
CREATED:20241116T145026Z
LAST-MODIFIED:20241116T145049Z
UID:10001597-1733148000-1733148000@www.laruelibrary.org
SUMMARY:Community Games
DESCRIPTION:Come and have some game day fun here at the library at 2:00 pm! \nBring your friends\, family\, and a board game (or choose one of ours) and enjoy!
URL:https://www.laruelibrary.org/event/community-games-39/2024-12-02/
LOCATION:LaRue County Public Library\, 215 Lincoln Drive\, Hodgenville\, KY\, 42748\, United States
CATEGORIES:Everyone
ATTACH;FMTTYPE=image/jpeg:https://www.laruelibrary.org/wp-content/uploads/2023/07/bg2.jpg
END:VEVENT
BEGIN:VEVENT
DTSTART;TZID=America/Kentucky/Louisville:20241202T154500
DTEND;TZID=America/Kentucky/Louisville:20241202T154500
DTSTAMP:20260422T221349
CREATED:20241116T154244Z
LAST-MODIFIED:20241116T154244Z
UID:10001610-1733154300-1733154300@www.laruelibrary.org
SUMMARY:No Bake Recipe: Hot Cocoa Kits
DESCRIPTION:Families\, join us on Monday\, December 2nd at 3:45 for an easy\, no-bake recipe. We’ll be making hot cocoa kits. Please call the library to register.
URL:https://www.laruelibrary.org/event/no-bake-recipe-hot-cocoa-kits/
LOCATION:LaRue County Public Library\, 215 Lincoln Drive\, Hodgenville\, KY\, 42748\, United States
CATEGORIES:Family
ATTACH;FMTTYPE=image/jpeg:https://www.laruelibrary.org/wp-content/uploads/2024/11/Homemade-Hot-Chocolate-Mix-2.jpg
END:VEVENT
BEGIN:VEVENT
DTSTART;TZID=America/Kentucky/Louisville:20241202T154500
DTEND;TZID=America/Kentucky/Louisville:20241202T154500
DTSTAMP:20260422T221349
CREATED:20241116T155918Z
LAST-MODIFIED:20241116T155918Z
UID:10001614-1733154300-1733154300@www.laruelibrary.org
SUMMARY:Mug Painting with Melissa Newton
DESCRIPTION:Tuesday\, December 3rd at 3:45 PM\, Melissa Newton will be teaching a mug painting class for children ages elementary school through middle school. Those interested can call the library to register.
URL:https://www.laruelibrary.org/event/mug-painting-with-melissa-newton/
LOCATION:LaRue County Public Library\, 215 Lincoln Drive\, Hodgenville\, KY\, 42748\, United States
CATEGORIES:Grade School,Middle School
ATTACH;FMTTYPE=image/jpeg:https://www.laruelibrary.org/wp-content/uploads/2024/11/istockphoto-1188283845-612x612-1.jpg
END:VEVENT
BEGIN:VEVENT
DTSTART;TZID=America/Kentucky/Louisville:20241203T100000
DTEND;TZID=America/Kentucky/Louisville:20241203T100000
DTSTAMP:20260422T221349
CREATED:20241116T145757Z
LAST-MODIFIED:20241116T145757Z
UID:10001599-1733220000-1733220000@www.laruelibrary.org
SUMMARY:Keep Stepping Forward
DESCRIPTION:Donna Coffey will be leading our group\, a support group for men and women whose spouses have passed away. Donna will be sharing about her new book\, Hope for the Holidays\, which will be available for purchase. Join us on Tuesday\, December 3rd at 10 AM. \nSometimes the most healing thing you can do is to talk and share with others.
URL:https://www.laruelibrary.org/event/keep-stepping-forward-3/
LOCATION:LaRue County Public Library\, 215 Lincoln Drive\, Hodgenville\, KY\, 42748\, United States
CATEGORIES:Adult,Adult Events
ATTACH;FMTTYPE=image/png:https://www.laruelibrary.org/wp-content/uploads/2024/11/Screenshot-2024-11-16-at-9.57.44 AM.png
END:VEVENT
BEGIN:VEVENT
DTSTART;TZID=America/Kentucky/Louisville:20241203T110000
DTEND;TZID=America/Kentucky/Louisville:20241203T110000
DTSTAMP:20260422T221349
CREATED:20241116T154951Z
LAST-MODIFIED:20241116T154951Z
UID:10001611-1733223600-1733223600@www.laruelibrary.org
SUMMARY:Story Time
DESCRIPTION:Join us for a fun and fantastic story and a craft on Tuesday at 11 AM and on Thursday at 1:30 PM! \nStory time is for children under the ages of 5. \nThis is a great opportunity to grow young readers. We make learning fun by introducing children to books\, love of reading\, and songs! We can’t wait to see you!
URL:https://www.laruelibrary.org/event/story-time-110/2024-12-03/
LOCATION:KY
CATEGORIES:Age Under 5 Years Old
ATTACH;FMTTYPE=image/png:https://www.laruelibrary.org/wp-content/uploads/2023/10/NST.0-1.png
END:VEVENT
BEGIN:VEVENT
DTSTART;TZID=America/Kentucky/Louisville:20241203T150000
DTEND;TZID=America/Kentucky/Louisville:20241203T150000
DTSTAMP:20260422T221349
CREATED:20241116T150225Z
LAST-MODIFIED:20241116T150225Z
UID:10001600-1733238000-1733238000@www.laruelibrary.org
SUMMARY:Snowman Candle Holder
DESCRIPTION:Elevate your seasonal decor with a snowman candle holder. Teens and adults interested in signing up for our program on Tuesday\, December 3rd at 3 PM should call the library to register. Limited spaces are available.
URL:https://www.laruelibrary.org/event/snowman-candle-holder/
LOCATION:LaRue County Public Library\, 215 Lincoln Drive\, Hodgenville\, KY\, 42748\, United States
CATEGORIES:Adult,Adult Events,High School,Middle School
ATTACH;FMTTYPE=image/png:https://www.laruelibrary.org/wp-content/uploads/2024/11/Screenshot-2024-11-16-at-10.00.02 AM.png
END:VEVENT
BEGIN:VEVENT
DTSTART;TZID=America/Kentucky/Louisville:20241204T150000
DTEND;TZID=America/Kentucky/Louisville:20241204T150000
DTSTAMP:20260422T221349
CREATED:20241116T151137Z
LAST-MODIFIED:20241116T151137Z
UID:10001601-1733324400-1733324400@www.laruelibrary.org
SUMMARY:Marbelized Christmas Ornaments
DESCRIPTION:Add some personalized flair to your seasonal decor with marbelized Christmas ornaments. Interested teens and adults can call the library to register. Join us on Wednesday\, December 4th at 3 PM! Limited spaces are available.
URL:https://www.laruelibrary.org/event/marbelized-christmas-ornaments/
LOCATION:LaRue County Public Library\, 215 Lincoln Drive\, Hodgenville\, KY\, 42748\, United States
CATEGORIES:Adult,Adult Events,High School,Middle School
ATTACH;FMTTYPE=image/png:https://www.laruelibrary.org/wp-content/uploads/2024/11/Screenshot-2024-11-16-at-10.09.30 AM.png
END:VEVENT
BEGIN:VEVENT
DTSTART;TZID=America/Kentucky/Louisville:20241204T154500
DTEND;TZID=America/Kentucky/Louisville:20241204T154500
DTSTAMP:20260422T221349
CREATED:20241116T160252Z
LAST-MODIFIED:20241116T160252Z
UID:10001615-1733327100-1733327100@www.laruelibrary.org
SUMMARY:Make an Ornament
DESCRIPTION:Families\, make a different ornament each Wednesday leading up to Christmas. We hope to see you on Wed.\, Dec. 4th at 3:45\, Wed.\, Dec.\, 11th at 3:45\, and Wed.\, Dec. 18th at 3:45. This program does not require pre-registration.
URL:https://www.laruelibrary.org/event/make-an-ornament/2024-12-04/
LOCATION:LaRue County Public Library\, 215 Lincoln Drive\, Hodgenville\, KY\, 42748\, United States
CATEGORIES:Family
ATTACH;FMTTYPE=image/png:https://www.laruelibrary.org/wp-content/uploads/2024/11/Dec.-4.png
END:VEVENT
END:VCALENDAR