BEGIN:VCALENDAR
VERSION:2.0
PRODID:-//LaRue County Public Library - ECPv6.15.20//NONSGML v1.0//EN
CALSCALE:GREGORIAN
METHOD:PUBLISH
X-WR-CALNAME:LaRue County Public Library
X-ORIGINAL-URL:https://www.laruelibrary.org
X-WR-CALDESC:Events for LaRue County Public Library
REFRESH-INTERVAL;VALUE=DURATION:PT1H
X-Robots-Tag:noindex
X-PUBLISHED-TTL:PT1H
BEGIN:VTIMEZONE
TZID:America/Kentucky/Louisville
BEGIN:DAYLIGHT
TZOFFSETFROM:-0500
TZOFFSETTO:-0400
TZNAME:EDT
DTSTART:20230312T070000
END:DAYLIGHT
BEGIN:STANDARD
TZOFFSETFROM:-0400
TZOFFSETTO:-0500
TZNAME:EST
DTSTART:20231105T060000
END:STANDARD
BEGIN:DAYLIGHT
TZOFFSETFROM:-0500
TZOFFSETTO:-0400
TZNAME:EDT
DTSTART:20240310T070000
END:DAYLIGHT
BEGIN:STANDARD
TZOFFSETFROM:-0400
TZOFFSETTO:-0500
TZNAME:EST
DTSTART:20241103T060000
END:STANDARD
BEGIN:DAYLIGHT
TZOFFSETFROM:-0500
TZOFFSETTO:-0400
TZNAME:EDT
DTSTART:20250309T070000
END:DAYLIGHT
BEGIN:STANDARD
TZOFFSETFROM:-0400
TZOFFSETTO:-0500
TZNAME:EST
DTSTART:20251102T060000
END:STANDARD
BEGIN:DAYLIGHT
TZOFFSETFROM:-0500
TZOFFSETTO:-0400
TZNAME:EDT
DTSTART:20260308T070000
END:DAYLIGHT
BEGIN:STANDARD
TZOFFSETFROM:-0400
TZOFFSETTO:-0500
TZNAME:EST
DTSTART:20261101T060000
END:STANDARD
END:VTIMEZONE
BEGIN:VEVENT
DTSTART;VALUE=DATE:20241231
DTEND;VALUE=DATE:20250101
DTSTAMP:20260423T095047
CREATED:20241115T204445Z
LAST-MODIFIED:20241115T204445Z
UID:10001591-1735603200-1735689599@www.laruelibrary.org
SUMMARY:WE ARE CLOSED
DESCRIPTION:We are closed today in celebration of the new year. \nHappy New Year!
URL:https://www.laruelibrary.org/event/we-are-closed-12/
LOCATION:LaRue County Public Library\, 215 Lincoln Drive\, Hodgenville\, KY\, 42748\, United States
CATEGORIES:Adult,Adult Events,Everyone,Family,Youth Events
ATTACH;FMTTYPE=image/png:https://www.laruelibrary.org/wp-content/uploads/2024/11/we-are-closed2.png
ORGANIZER;CN="LaRue Public Library":MAILTO:info@laruelibrary.org
END:VEVENT
BEGIN:VEVENT
DTSTART;TZID=America/Kentucky/Louisville:20250102T133000
DTEND;TZID=America/Kentucky/Louisville:20250102T133000
DTSTAMP:20260423T095047
CREATED:20241217T173603Z
LAST-MODIFIED:20241217T173603Z
UID:10001645-1735824600-1735824600@www.laruelibrary.org
SUMMARY:Story Time
DESCRIPTION:Join us for a fun and fantastic story and a craft this Thursday at 1:30 PM and on Tuesday at 11:00am! \nStory time is for children under the ages of 5. \nThis is a great opportunity to grow young readers. We make learning fun by introducing children to books\, love of reading\, and songs! We can’t wait to see you!
URL:https://www.laruelibrary.org/event/story-time-112/2025-01-02/
LOCATION:LaRue County Public Library\, 215 Lincoln Drive\, Hodgenville\, KY\, 42748\, United States
CATEGORIES:Age Under 5 Years Old,Youth Events
ATTACH;FMTTYPE=image/png:https://www.laruelibrary.org/wp-content/uploads/2023/10/NST.0-1.png
ORGANIZER;CN="LaRue Public Library":MAILTO:info@laruelibrary.org
END:VEVENT
BEGIN:VEVENT
DTSTART;TZID=America/Kentucky/Louisville:20250102T143000
DTEND;TZID=America/Kentucky/Louisville:20250102T143000
DTSTAMP:20260423T095047
CREATED:20241230T152007Z
LAST-MODIFIED:20241230T152007Z
UID:10001677-1735828200-1735828200@www.laruelibrary.org
SUMMARY:Make a Monster
DESCRIPTION:Join us on Thursday\, January 2nd at 2:30pm for a monsterously fun craft! \nIn honor of ‘Science Fiction Day’ we will be making our very own little monsters! \nFamily Event. No sign up needed.
URL:https://www.laruelibrary.org/event/make-a-monster/
LOCATION:LaRue County Public Library\, 215 Lincoln Drive\, Hodgenville\, KY\, 42748\, United States
CATEGORIES:Family,Youth Events
ATTACH;FMTTYPE=image/png:https://www.laruelibrary.org/wp-content/uploads/2024/12/monster.png
ORGANIZER;CN="LaRue Public Library":MAILTO:info@laruelibrary.org
END:VEVENT
BEGIN:VEVENT
DTSTART;TZID=America/Kentucky/Louisville:20250106T100000
DTEND;TZID=America/Kentucky/Louisville:20250106T100000
DTSTAMP:20260423T095047
CREATED:20241217T172434Z
LAST-MODIFIED:20241217T172434Z
UID:10001635-1736157600-1736157600@www.laruelibrary.org
SUMMARY:Stretch and Shine
DESCRIPTION:Join us for Stretch and Shine and start your day off right! \nFree low-impact exercise class beginning at 10:00am. Let’s get those muscles moving! \nThis program is designed for Adults.
URL:https://www.laruelibrary.org/event/stretch-and-shine-46/2025-01-06/
LOCATION:LaRue County Public Library\, 215 Lincoln Drive\, Hodgenville\, KY\, 42748\, United States
CATEGORIES:Adult,Adult Events
ATTACH;FMTTYPE=image/png:https://www.laruelibrary.org/wp-content/uploads/2023/03/Stretch-Adult-Event-1.png
ORGANIZER;CN="LaRue Public Library":MAILTO:info@laruelibrary.org
END:VEVENT
BEGIN:VEVENT
DTSTART;TZID=America/Kentucky/Louisville:20250106T140000
DTEND;TZID=America/Kentucky/Louisville:20250106T140000
DTSTAMP:20260423T095047
CREATED:20241217T172700Z
LAST-MODIFIED:20241217T172700Z
UID:10001638-1736172000-1736172000@www.laruelibrary.org
SUMMARY:Community Games
DESCRIPTION:Come and have some game day fun here at the library at 2:00pm! \nBring your friends\, family\, a board game (or choose one of ours) and enjoy!
URL:https://www.laruelibrary.org/event/community-games-40/2025-01-06/
LOCATION:LaRue County Public Library\, 215 Lincoln Drive\, Hodgenville\, KY\, 42748\, United States
CATEGORIES:Adult,Adult Events,Everyone,Family,Youth Events
ATTACH;FMTTYPE=image/jpeg:https://www.laruelibrary.org/wp-content/uploads/2023/07/bg2.jpg
ORGANIZER;CN="LaRue Public Library":MAILTO:info@laruelibrary.org
END:VEVENT
BEGIN:VEVENT
DTSTART;TZID=America/Kentucky/Louisville:20250107T100000
DTEND;TZID=America/Kentucky/Louisville:20250107T100000
DTSTAMP:20260423T095047
CREATED:20241217T224802Z
LAST-MODIFIED:20241217T224802Z
UID:10001672-1736244000-1736244000@www.laruelibrary.org
SUMMARY:Keep Stepping Forward
DESCRIPTION:This is a support group for men and women whose spouses have passed away. Donna Coffey will be leading the group. Join us on Tuesday\, January 7th at 10 AM. \nSometimes the most healing thing you can do is to talk and share with others who have been through the same thing.
URL:https://www.laruelibrary.org/event/keep-stepping-forward-4/
LOCATION:LaRue County Public Library\, 215 Lincoln Drive\, Hodgenville\, KY\, 42748\, United States
CATEGORIES:Adult,Adult Events
ATTACH;FMTTYPE=image/png:https://www.laruelibrary.org/wp-content/uploads/2024/11/Screenshot-2024-11-16-at-9.57.44 AM.png
END:VEVENT
BEGIN:VEVENT
DTSTART;TZID=America/Kentucky/Louisville:20250107T100000
DTEND;TZID=America/Kentucky/Louisville:20250107T113000
DTSTAMP:20260423T095047
CREATED:20241217T225151Z
LAST-MODIFIED:20250107T171739Z
UID:10001673-1736244000-1736249400@www.laruelibrary.org
SUMMARY:Cancelled: Kynect
DESCRIPTION:What can Kynect do for you? Ginny Whitt will be in our lobby on Tuesday\, January 7th from 10 AM until 11:30 AM. Not sure where to start? Ginny can help you with SNAP benefits\, Medicaid\, Kentucky Marketplace Insurance\, and more! Let her help you avoid those phone calls and red tape!
URL:https://www.laruelibrary.org/event/kynect-24/
LOCATION:LaRue County Public Library\, 215 Lincoln Drive\, Hodgenville\, KY\, 42748\, United States
CATEGORIES:Adult,Adult Events
ATTACH;FMTTYPE=image/png:https://www.laruelibrary.org/wp-content/uploads/2023/08/kynect2.png
END:VEVENT
BEGIN:VEVENT
DTSTART;TZID=America/Kentucky/Louisville:20250107T110000
DTEND;TZID=America/Kentucky/Louisville:20250107T110000
DTSTAMP:20260423T095047
CREATED:20241217T173311Z
LAST-MODIFIED:20241217T173311Z
UID:10001641-1736247600-1736247600@www.laruelibrary.org
SUMMARY:Story Time
DESCRIPTION:Join us for a fun and fantastic story and a craft on Tuesday at 11 AM and on Thursday at 1:30 PM! \nStory time is for children under the ages of 5. \nThis is a great opportunity to grow young readers. We make learning fun by introducing children to books\, love of reading\, and songs! We can’t wait to see you!
URL:https://www.laruelibrary.org/event/story-time-111/2025-01-07/
LOCATION:LaRue County Public Library\, 215 Lincoln Drive\, Hodgenville\, KY\, 42748\, United States
CATEGORIES:Age Under 5 Years Old,Youth Events
ATTACH;FMTTYPE=image/png:https://www.laruelibrary.org/wp-content/uploads/2023/10/NST.0-1.png
ORGANIZER;CN="LaRue Public Library":MAILTO:info@laruelibrary.org
END:VEVENT
BEGIN:VEVENT
DTSTART;TZID=America/Kentucky/Louisville:20250107T153000
DTEND;TZID=America/Kentucky/Louisville:20250107T153000
DTSTAMP:20260423T095047
CREATED:20241217T231035Z
LAST-MODIFIED:20250107T171710Z
UID:10001674-1736263800-1736263800@www.laruelibrary.org
SUMMARY:Cancelled: Financial Wellness
DESCRIPTION:Start the new year off right with a Financial Wellness Workshop\, brought to you by Abound Credit Union. This no-cost\, interactive workshop uses gameplay to empower you with the tips you need to set financial goals and be a matter financial consumer. Join us on Tuesday\, January 7 at 3:30 PM. Everyone is welcome to attend!
URL:https://www.laruelibrary.org/event/financial-wellness/
LOCATION:LaRue County Public Library\, 215 Lincoln Drive\, Hodgenville\, KY\, 42748\, United States
CATEGORIES:Everyone
ATTACH;FMTTYPE=image/png:https://www.laruelibrary.org/wp-content/uploads/2024/12/Screenshot-2024-12-17-at-6.10.21 PM.png
END:VEVENT
BEGIN:VEVENT
DTSTART;TZID=America/Kentucky/Louisville:20250108T150000
DTEND;TZID=America/Kentucky/Louisville:20250108T150000
DTSTAMP:20260423T095047
CREATED:20241217T231302Z
LAST-MODIFIED:20250107T171612Z
UID:10001675-1736348400-1736348400@www.laruelibrary.org
SUMMARY:Cancelled: Snow Globe Craft
DESCRIPTION:Enjoy the snowy season without the cold! Join us for our snow globe craft on Wednesday\, January 8th at 3 PM! This program is designed for teens and adults. Limited spaces are available. Please call the library to register.
URL:https://www.laruelibrary.org/event/snow-globe-craft/
LOCATION:LaRue County Public Library\, 215 Lincoln Drive\, Hodgenville\, KY\, 42748\, United States
CATEGORIES:Adult,Adult Events,High School,Middle School
ATTACH;FMTTYPE=image/png:https://www.laruelibrary.org/wp-content/uploads/2024/12/Screenshot-2024-12-17-at-6.12.53 PM.png
END:VEVENT
BEGIN:VEVENT
DTSTART;TZID=America/Kentucky/Louisville:20250109T133000
DTEND;TZID=America/Kentucky/Louisville:20250109T133000
DTSTAMP:20260423T095047
CREATED:20241217T173603Z
LAST-MODIFIED:20241217T173603Z
UID:10001646-1736429400-1736429400@www.laruelibrary.org
SUMMARY:Story Time
DESCRIPTION:Join us for a fun and fantastic story and a craft this Thursday at 1:30 PM and on Tuesday at 11:00am! \nStory time is for children under the ages of 5. \nThis is a great opportunity to grow young readers. We make learning fun by introducing children to books\, love of reading\, and songs! We can’t wait to see you!
URL:https://www.laruelibrary.org/event/story-time-112/2025-01-09/
LOCATION:LaRue County Public Library\, 215 Lincoln Drive\, Hodgenville\, KY\, 42748\, United States
CATEGORIES:Age Under 5 Years Old,Youth Events
ATTACH;FMTTYPE=image/png:https://www.laruelibrary.org/wp-content/uploads/2023/10/NST.0-1.png
ORGANIZER;CN="LaRue Public Library":MAILTO:info@laruelibrary.org
END:VEVENT
BEGIN:VEVENT
DTSTART;TZID=America/Kentucky/Louisville:20250109T153000
DTEND;TZID=America/Kentucky/Louisville:20250109T153000
DTSTAMP:20260423T095047
CREATED:20241230T152315Z
LAST-MODIFIED:20250108T155018Z
UID:10001678-1736436600-1736436600@www.laruelibrary.org
SUMMARY:You Color\, I Read Aloud
DESCRIPTION:It’s nice to be read to\, no matter the age! Join us for a nice time coloring while enjoying a good story on Thursday\, January 9th at 3:45pm. \nGrade-school through Teens are welcome!
URL:https://www.laruelibrary.org/event/you-color-i-read-aloud-3/
LOCATION:LaRue County Public Library\, 215 Lincoln Drive\, Hodgenville\, KY\, 42748\, United States
CATEGORIES:Grade School,High School,Middle School,Youth Events
ATTACH;FMTTYPE=image/png:https://www.laruelibrary.org/wp-content/uploads/2024/02/ycir2.png
ORGANIZER;CN="LaRue Public Library":MAILTO:info@laruelibrary.org
END:VEVENT
BEGIN:VEVENT
DTSTART;TZID=America/Kentucky/Louisville:20250110T130000
DTEND;TZID=America/Kentucky/Louisville:20250110T164500
DTSTAMP:20260423T095047
CREATED:20241217T233817Z
LAST-MODIFIED:20250108T155141Z
UID:10001676-1736514000-1736527500@www.laruelibrary.org
SUMMARY:Cancelled: Craft Supply Swap
DESCRIPTION:Start the New Year off right. Time to purge and get rid of some of that craft stuff you aren’t using. We will have tables set up according to value. Bring one\, take one; bring two\, take two – from the table with the same value. Drop in on Friday\, January 10th from 1 PM until 4:45 PM!
URL:https://www.laruelibrary.org/event/craft-supply-swap/
LOCATION:LaRue County Public Library\, 215 Lincoln Drive\, Hodgenville\, KY\, 42748\, United States
CATEGORIES:Adult,Adult Events,High School,Middle School
ATTACH;FMTTYPE=image/webp:https://www.laruelibrary.org/wp-content/uploads/2024/12/arts-craft-supplies-corrugated-color-600nw-351226619.webp
END:VEVENT
BEGIN:VEVENT
DTSTART;TZID=America/Kentucky/Louisville:20250113T100000
DTEND;TZID=America/Kentucky/Louisville:20250113T100000
DTSTAMP:20260423T095047
CREATED:20241217T172434Z
LAST-MODIFIED:20241217T172434Z
UID:10001636-1736762400-1736762400@www.laruelibrary.org
SUMMARY:Stretch and Shine
DESCRIPTION:Join us for Stretch and Shine and start your day off right! \nFree low-impact exercise class beginning at 10:00am. Let’s get those muscles moving! \nThis program is designed for Adults.
URL:https://www.laruelibrary.org/event/stretch-and-shine-46/2025-01-13/
LOCATION:LaRue County Public Library\, 215 Lincoln Drive\, Hodgenville\, KY\, 42748\, United States
CATEGORIES:Adult,Adult Events
ATTACH;FMTTYPE=image/png:https://www.laruelibrary.org/wp-content/uploads/2023/03/Stretch-Adult-Event-1.png
ORGANIZER;CN="LaRue Public Library":MAILTO:info@laruelibrary.org
END:VEVENT
BEGIN:VEVENT
DTSTART;TZID=America/Kentucky/Louisville:20250113T140000
DTEND;TZID=America/Kentucky/Louisville:20250113T140000
DTSTAMP:20260423T095047
CREATED:20241217T172700Z
LAST-MODIFIED:20241217T172700Z
UID:10001639-1736776800-1736776800@www.laruelibrary.org
SUMMARY:Community Games
DESCRIPTION:Come and have some game day fun here at the library at 2:00pm! \nBring your friends\, family\, a board game (or choose one of ours) and enjoy!
URL:https://www.laruelibrary.org/event/community-games-40/2025-01-13/
LOCATION:LaRue County Public Library\, 215 Lincoln Drive\, Hodgenville\, KY\, 42748\, United States
CATEGORIES:Adult,Adult Events,Everyone,Family,Youth Events
ATTACH;FMTTYPE=image/jpeg:https://www.laruelibrary.org/wp-content/uploads/2023/07/bg2.jpg
ORGANIZER;CN="LaRue Public Library":MAILTO:info@laruelibrary.org
END:VEVENT
BEGIN:VEVENT
DTSTART;TZID=America/Kentucky/Louisville:20250114T080000
DTEND;TZID=America/Kentucky/Louisville:20250114T170000
DTSTAMP:20260423T095047
CREATED:20250114T224114Z
LAST-MODIFIED:20250114T224114Z
UID:10001685-1736841600-1736874000@www.laruelibrary.org
SUMMARY:Keep Stepping Forward
DESCRIPTION:Sometimes the most healing thing you can do is to talk and share with others who have been through the same thing. This is a support group for men and women whose spouses have passed away. Donna Coffey will be leading this group. Join us on Tuesday\, February 4th at 10 AM.
URL:https://www.laruelibrary.org/event/keep-stepping-forward-5/
LOCATION:LaRue County Public Library\, 215 Lincoln Drive\, Hodgenville\, KY\, 42748\, United States
CATEGORIES:Adult,Adult Events
ATTACH;FMTTYPE=image/png:https://www.laruelibrary.org/wp-content/uploads/2024/10/Screenshot-2024-10-19-at-9.13.46 AM.png
END:VEVENT
BEGIN:VEVENT
DTSTART;TZID=America/Kentucky/Louisville:20250114T110000
DTEND;TZID=America/Kentucky/Louisville:20250114T110000
DTSTAMP:20260423T095047
CREATED:20241217T173311Z
LAST-MODIFIED:20241217T173311Z
UID:10001642-1736852400-1736852400@www.laruelibrary.org
SUMMARY:Story Time
DESCRIPTION:Join us for a fun and fantastic story and a craft on Tuesday at 11 AM and on Thursday at 1:30 PM! \nStory time is for children under the ages of 5. \nThis is a great opportunity to grow young readers. We make learning fun by introducing children to books\, love of reading\, and songs! We can’t wait to see you!
URL:https://www.laruelibrary.org/event/story-time-111/2025-01-14/
LOCATION:LaRue County Public Library\, 215 Lincoln Drive\, Hodgenville\, KY\, 42748\, United States
CATEGORIES:Age Under 5 Years Old,Youth Events
ATTACH;FMTTYPE=image/png:https://www.laruelibrary.org/wp-content/uploads/2023/10/NST.0-1.png
ORGANIZER;CN="LaRue Public Library":MAILTO:info@laruelibrary.org
END:VEVENT
BEGIN:VEVENT
DTSTART;TZID=America/Kentucky/Louisville:20250114T153000
DTEND;TZID=America/Kentucky/Louisville:20250114T153000
DTSTAMP:20260423T095047
CREATED:20241230T152953Z
LAST-MODIFIED:20241230T152953Z
UID:10001679-1736868600-1736868600@www.laruelibrary.org
SUMMARY:No Bake Recipe
DESCRIPTION:Looking for a new\, easy but delicious no-bake recipe? Join us on Tuesday\, January 14th @ 3:45pm to make healthy and delicious pin wheels! \nFamily Event. Please call to sign up.
URL:https://www.laruelibrary.org/event/no-bake-recipe-2/
LOCATION:LaRue County Public Library\, 215 Lincoln Drive\, Hodgenville\, KY\, 42748\, United States
CATEGORIES:Family,Youth Events
ATTACH;FMTTYPE=image/png:https://www.laruelibrary.org/wp-content/uploads/2024/12/pinwheels.png
ORGANIZER;CN="LaRue Public Library":MAILTO:info@laruelibrary.org
END:VEVENT
BEGIN:VEVENT
DTSTART;TZID=America/Kentucky/Louisville:20250116T133000
DTEND;TZID=America/Kentucky/Louisville:20250116T133000
DTSTAMP:20260423T095047
CREATED:20241217T173603Z
LAST-MODIFIED:20241217T173603Z
UID:10001647-1737034200-1737034200@www.laruelibrary.org
SUMMARY:Story Time
DESCRIPTION:Join us for a fun and fantastic story and a craft this Thursday at 1:30 PM and on Tuesday at 11:00am! \nStory time is for children under the ages of 5. \nThis is a great opportunity to grow young readers. We make learning fun by introducing children to books\, love of reading\, and songs! We can’t wait to see you!
URL:https://www.laruelibrary.org/event/story-time-112/2025-01-16/
LOCATION:LaRue County Public Library\, 215 Lincoln Drive\, Hodgenville\, KY\, 42748\, United States
CATEGORIES:Age Under 5 Years Old,Youth Events
ATTACH;FMTTYPE=image/png:https://www.laruelibrary.org/wp-content/uploads/2023/10/NST.0-1.png
ORGANIZER;CN="LaRue Public Library":MAILTO:info@laruelibrary.org
END:VEVENT
BEGIN:VEVENT
DTSTART;TZID=America/Kentucky/Louisville:20250116T153000
DTEND;TZID=America/Kentucky/Louisville:20250116T153000
DTSTAMP:20260423T095047
CREATED:20241217T183033Z
LAST-MODIFIED:20241217T183033Z
UID:10001656-1737041400-1737041400@www.laruelibrary.org
SUMMARY:Book Club
DESCRIPTION:Come join us on Thursday\, January 16th at 3:30pm for Book Club! \nThis is an Adult program.
URL:https://www.laruelibrary.org/event/book-club-21/
LOCATION:LaRue County Public Library\, 215 Lincoln Drive\, Hodgenville\, KY\, 42748\, United States
CATEGORIES:Adult,Adult Events
ATTACH;FMTTYPE=image/jpeg:https://www.laruelibrary.org/wp-content/uploads/2023/07/bc2.jpg
ORGANIZER;CN="LaRue Public Library":MAILTO:info@laruelibrary.org
END:VEVENT
BEGIN:VEVENT
DTSTART;TZID=America/Kentucky/Louisville:20250116T163000
DTEND;TZID=America/Kentucky/Louisville:20250116T163000
DTSTAMP:20260423T095047
CREATED:20241217T183204Z
LAST-MODIFIED:20241217T183204Z
UID:10001657-1737045000-1737045000@www.laruelibrary.org
SUMMARY:Board Meeting
DESCRIPTION:LCPL Board Meeting on Thursday\, January 16th at 4:30pm. \nThis is for adults only. 
URL:https://www.laruelibrary.org/event/board-meeting-19/
LOCATION:LaRue County Public Library\, 215 Lincoln Drive\, Hodgenville\, KY\, 42748\, United States
CATEGORIES:Adult,Adult Events
ATTACH;FMTTYPE=image/jpeg:https://www.laruelibrary.org/wp-content/uploads/2023/07/brm2.jpg
ORGANIZER;CN="LaRue Public Library":MAILTO:info@laruelibrary.org
END:VEVENT
BEGIN:VEVENT
DTSTART;TZID=America/Kentucky/Louisville:20250116T170000
DTEND;TZID=America/Kentucky/Louisville:20250116T170000
DTSTAMP:20260423T095047
CREATED:20241217T183502Z
LAST-MODIFIED:20241217T183502Z
UID:10001658-1737046800-1737046800@www.laruelibrary.org
SUMMARY:Snowflake Craft
DESCRIPTION:Join us on Thursday\, January 16th @ 5:00pm to make these snowflakes! \nCall to register. Class limit of 24. Teens & Adults.
URL:https://www.laruelibrary.org/event/snowflake-craft/
LOCATION:LaRue County Public Library\, 215 Lincoln Drive\, Hodgenville\, KY\, 42748\, United States
CATEGORIES:Adult,Adult Events,High School,Youth Events
ATTACH;FMTTYPE=image/png:https://www.laruelibrary.org/wp-content/uploads/2024/12/snowflake.png
ORGANIZER;CN="LaRue Public Library":MAILTO:info@laruelibrary.org
END:VEVENT
BEGIN:VEVENT
DTSTART;TZID=America/Kentucky/Louisville:20250117T150000
DTEND;TZID=America/Kentucky/Louisville:20250117T150000
DTSTAMP:20260423T095047
CREATED:20241217T184139Z
LAST-MODIFIED:20241217T184139Z
UID:10001659-1737126000-1737126000@www.laruelibrary.org
SUMMARY:Soup & Memorabilia Share
DESCRIPTION:Join us on Friday\, January 17th at 3:00pm for a Soup & Memorabilia Share on National Soup Day! \nBring your favorite soup and memorabilia (any item that holds sentimental value\, is unusual\, or is just something that you particularly like) for all to share! \nCall to register. Program limit of 20. Teens & Adults. Please notify us upon registration if you will be bringing soup.
URL:https://www.laruelibrary.org/event/soup-memorabilia-share/
LOCATION:LaRue County Public Library\, 215 Lincoln Drive\, Hodgenville\, KY\, 42748\, United States
CATEGORIES:Adult,Adult Events,High School,Youth Events
ATTACH;FMTTYPE=image/png:https://www.laruelibrary.org/wp-content/uploads/2024/12/soup.png
ORGANIZER;CN="LaRue Public Library":MAILTO:info@laruelibrary.org
END:VEVENT
BEGIN:VEVENT
DTSTART;VALUE=DATE:20250120
DTEND;VALUE=DATE:20250121
DTSTAMP:20260423T095047
CREATED:20241217T220411Z
LAST-MODIFIED:20241217T220411Z
UID:10001670-1737331200-1737417599@www.laruelibrary.org
SUMMARY:WE ARE CLOSED
DESCRIPTION:We are closed today in observance of Martin Luther King Jr. Day! \nWe will be open and see you all tomorrow morning at 9:00am!
URL:https://www.laruelibrary.org/event/we-are-closed-13/
LOCATION:LaRue County Public Library\, 215 Lincoln Drive\, Hodgenville\, KY\, 42748\, United States
CATEGORIES:Adult,Adult Events,Everyone,Family,Youth Events
ATTACH;FMTTYPE=image/png:https://www.laruelibrary.org/wp-content/uploads/2024/12/closed.png
ORGANIZER;CN="LaRue Public Library":MAILTO:info@laruelibrary.org
END:VEVENT
BEGIN:VEVENT
DTSTART;TZID=America/Kentucky/Louisville:20250121T100000
DTEND;TZID=America/Kentucky/Louisville:20250121T100000
DTSTAMP:20260423T095047
CREATED:20241217T173905Z
LAST-MODIFIED:20241217T173905Z
UID:10001649-1737453600-1737453600@www.laruelibrary.org
SUMMARY:BINGOcize
DESCRIPTION:Join us on Tuesday\, January 21st at 10:00am for a health promotion program combining Bingo! with inclusive exercises for all! \nThis class is meant for Adults.
URL:https://www.laruelibrary.org/event/bingocize-4/
LOCATION:LaRue County Public Library\, 215 Lincoln Drive\, Hodgenville\, KY\, 42748\, United States
CATEGORIES:Adult,Adult Events
ATTACH;FMTTYPE=image/png:https://www.laruelibrary.org/wp-content/uploads/2024/11/bingo.png
ORGANIZER;CN="LaRue Public Library":MAILTO:info@laruelibrary.org
END:VEVENT
BEGIN:VEVENT
DTSTART;TZID=America/Kentucky/Louisville:20250121T110000
DTEND;TZID=America/Kentucky/Louisville:20250121T110000
DTSTAMP:20260423T095047
CREATED:20241217T173311Z
LAST-MODIFIED:20241217T173311Z
UID:10001643-1737457200-1737457200@www.laruelibrary.org
SUMMARY:Story Time
DESCRIPTION:Join us for a fun and fantastic story and a craft on Tuesday at 11 AM and on Thursday at 1:30 PM! \nStory time is for children under the ages of 5. \nThis is a great opportunity to grow young readers. We make learning fun by introducing children to books\, love of reading\, and songs! We can’t wait to see you!
URL:https://www.laruelibrary.org/event/story-time-111/2025-01-21/
LOCATION:LaRue County Public Library\, 215 Lincoln Drive\, Hodgenville\, KY\, 42748\, United States
CATEGORIES:Age Under 5 Years Old,Youth Events
ATTACH;FMTTYPE=image/png:https://www.laruelibrary.org/wp-content/uploads/2023/10/NST.0-1.png
ORGANIZER;CN="LaRue Public Library":MAILTO:info@laruelibrary.org
END:VEVENT
BEGIN:VEVENT
DTSTART;TZID=America/Kentucky/Louisville:20250121T110000
DTEND;TZID=America/Kentucky/Louisville:20250121T230000
DTSTAMP:20260423T095047
CREATED:20241217T181049Z
LAST-MODIFIED:20241217T181049Z
UID:10001652-1737457200-1737500400@www.laruelibrary.org
SUMMARY:Tai Chi
DESCRIPTION:Join us on January 21st @ 11:15am to practice Tai Chi. \nTai chi is a practice that involves a series of slow gentle movements and physical postures\, a meditative state of mind\, and controlled breathing. It originated as an ancient martial art in China and\, over time\, has become more focused on health promotion and rehabilitation. \nAdults Only.
URL:https://www.laruelibrary.org/event/tai-chi/
LOCATION:LaRue County Public Library\, 215 Lincoln Drive\, Hodgenville\, KY\, 42748\, United States
CATEGORIES:Adult,Adult Events
ATTACH;FMTTYPE=image/png:https://www.laruelibrary.org/wp-content/uploads/2024/12/tai-chi.png
ORGANIZER;CN="LaRue Public Library":MAILTO:info@laruelibrary.org
END:VEVENT
BEGIN:VEVENT
DTSTART;TZID=America/Kentucky/Louisville:20250121T160000
DTEND;TZID=America/Kentucky/Louisville:20250121T160000
DTSTAMP:20260423T095047
CREATED:20241217T212923Z
LAST-MODIFIED:20241217T213031Z
UID:10001666-1737475200-1737475200@www.laruelibrary.org
SUMMARY:Letters of Hope
DESCRIPTION:KIND LIKE KING \nCome join us on Tuesday\, January 21st at 4:00pm in writing letters of hope to give to others in honor of Martin Luther King Jr.!
URL:https://www.laruelibrary.org/event/letters-of-hope/
LOCATION:LaRue County Public Library\, 215 Lincoln Drive\, Hodgenville\, KY\, 42748\, United States
CATEGORIES:Family,Youth Events
ATTACH;FMTTYPE=image/png:https://www.laruelibrary.org/wp-content/uploads/2024/12/kind-like.png
ORGANIZER;CN="LaRue Public Library":MAILTO:info@laruelibrary.org
END:VEVENT
BEGIN:VEVENT
DTSTART;TZID=America/Kentucky/Louisville:20250121T170000
DTEND;TZID=America/Kentucky/Louisville:20250121T170000
DTSTAMP:20260423T095047
CREATED:20241217T175540Z
LAST-MODIFIED:20241217T175540Z
UID:10001650-1737478800-1737478800@www.laruelibrary.org
SUMMARY:American Sign Language
DESCRIPTION:Join us on Tuesday\, January 21st @ 5:00pm to learn the Part 2 course on food names and how to order at a restaurant. \nNo previous class attendance needed. \nTeens & Adults. Call to register.
URL:https://www.laruelibrary.org/event/american-sign-language-2/
LOCATION:LaRue County Public Library\, 215 Lincoln Drive\, Hodgenville\, KY\, 42748\, United States
CATEGORIES:Adult,Adult Events
ATTACH;FMTTYPE=image/jpeg:https://www.laruelibrary.org/wp-content/uploads/2024/08/asl.jpg
ORGANIZER;CN="LaRue Public Library":MAILTO:info@laruelibrary.org
END:VEVENT
BEGIN:VEVENT
DTSTART;VALUE=DATE:20250122
DTEND;VALUE=DATE:20250123
DTSTAMP:20260423T095047
CREATED:20241217T213619Z
LAST-MODIFIED:20241217T214016Z
UID:10001667-1737504000-1737590399@www.laruelibrary.org
SUMMARY:Library SHELFie Day
DESCRIPTION:Come celebrate Library Shelfie Day all day on Wednesday\, January 22nd here at the library! \nHave fun taking pics in our special photo opportunity area and taking selfies amongst the stacks! \nThis event is for Families.
URL:https://www.laruelibrary.org/event/library-shelfie-day/
LOCATION:LaRue County Public Library\, 215 Lincoln Drive\, Hodgenville\, KY\, 42748\, United States
CATEGORIES:Family,Youth Events
ATTACH;FMTTYPE=image/png:https://www.laruelibrary.org/wp-content/uploads/2024/12/shelfie.png
ORGANIZER;CN="LaRue Public Library":MAILTO:info@laruelibrary.org
END:VEVENT
END:VCALENDAR