BEGIN:VCALENDAR
VERSION:2.0
PRODID:-//LaRue County Public Library - ECPv6.15.20//NONSGML v1.0//EN
CALSCALE:GREGORIAN
METHOD:PUBLISH
X-WR-CALNAME:LaRue County Public Library
X-ORIGINAL-URL:https://www.laruelibrary.org
X-WR-CALDESC:Events for LaRue County Public Library
REFRESH-INTERVAL;VALUE=DURATION:PT1H
X-Robots-Tag:noindex
X-PUBLISHED-TTL:PT1H
BEGIN:VTIMEZONE
TZID:America/Kentucky/Louisville
BEGIN:DAYLIGHT
TZOFFSETFROM:-0500
TZOFFSETTO:-0400
TZNAME:EDT
DTSTART:20240310T070000
END:DAYLIGHT
BEGIN:STANDARD
TZOFFSETFROM:-0400
TZOFFSETTO:-0500
TZNAME:EST
DTSTART:20241103T060000
END:STANDARD
BEGIN:DAYLIGHT
TZOFFSETFROM:-0500
TZOFFSETTO:-0400
TZNAME:EDT
DTSTART:20250309T070000
END:DAYLIGHT
BEGIN:STANDARD
TZOFFSETFROM:-0400
TZOFFSETTO:-0500
TZNAME:EST
DTSTART:20251102T060000
END:STANDARD
BEGIN:DAYLIGHT
TZOFFSETFROM:-0500
TZOFFSETTO:-0400
TZNAME:EDT
DTSTART:20260308T070000
END:DAYLIGHT
BEGIN:STANDARD
TZOFFSETFROM:-0400
TZOFFSETTO:-0500
TZNAME:EST
DTSTART:20261101T060000
END:STANDARD
END:VTIMEZONE
BEGIN:VEVENT
DTSTART;TZID=America/Kentucky/Louisville:20250122T180000
DTEND;TZID=America/Kentucky/Louisville:20250122T180000
DTSTAMP:20260423T142055
CREATED:20241217T182103Z
LAST-MODIFIED:20241217T203614Z
UID:10001653-1737568800-1737568800@www.laruelibrary.org
SUMMARY:Offsite Book Club
DESCRIPTION:We will be meeting at Top Hat Tavern for Adult Book Club on Wednesday\, January 22nd at 6:00pm! \nAdults only.
URL:https://www.laruelibrary.org/event/offsite-book-club-4/
LOCATION:Top Hat Tavern\, 23 Lincoln Square\, Hodgenville\, KY\, 42748\, United States
CATEGORIES:Adult,Adult Events
ATTACH;FMTTYPE=image/png:https://www.laruelibrary.org/wp-content/uploads/2024/09/Offsite-Book-Club.png
ORGANIZER;CN="LaRue Public Library":MAILTO:info@laruelibrary.org
END:VEVENT
BEGIN:VEVENT
DTSTART;TZID=America/Kentucky/Louisville:20250123T100000
DTEND;TZID=America/Kentucky/Louisville:20250123T100000
DTSTAMP:20260423T142055
CREATED:20241217T182554Z
LAST-MODIFIED:20241217T182554Z
UID:10001654-1737626400-1737626400@www.laruelibrary.org
SUMMARY:Coffee for Veterans
DESCRIPTION:Join us on Thursday\, January 23rd at 10:00AM for Coffee for Veterans – spouses and partners are welcome. \nOur special guest speaker will be Jody Perry. He will be sharing about the new pilot program for veterans who are currently in the LaRue County Detention Center.
URL:https://www.laruelibrary.org/event/coffee-for-veterans-12/
LOCATION:LaRue County Public Library\, 215 Lincoln Drive\, Hodgenville\, KY\, 42748\, United States
CATEGORIES:Adult,Adult Events
ATTACH;FMTTYPE=image/png:https://www.laruelibrary.org/wp-content/uploads/2024/01/vetcoffee.png
ORGANIZER;CN="LaRue Public Library":MAILTO:info@laruelibrary.org
END:VEVENT
BEGIN:VEVENT
DTSTART;TZID=America/Kentucky/Louisville:20250123T120000
DTEND;TZID=America/Kentucky/Louisville:20250123T173000
DTSTAMP:20260423T142055
CREATED:20241217T182820Z
LAST-MODIFIED:20241217T182820Z
UID:10001655-1737633600-1737653400@www.laruelibrary.org
SUMMARY:Bloodmobile
DESCRIPTION:Come down to the Library on Thursday\, January 23rd from 12:00pm-5:30pm to donate blood to the American Red Cross. \nHelp do your part! Schedule appointment now to save a life at redcross.org. \nYou will be entered for one of two $25 gift cards\, courtesy of the Friends of the Library! \nThis program is designed for Adults.
URL:https://www.laruelibrary.org/event/bloodmobile-11/
LOCATION:LaRue County Public Library\, 215 Lincoln Drive\, Hodgenville\, KY\, 42748\, United States
CATEGORIES:Adult,Adult Events
ATTACH;FMTTYPE=image/png:https://www.laruelibrary.org/wp-content/uploads/2024/02/Blddrv.png
ORGANIZER;CN="LaRue Public Library":MAILTO:info@laruelibrary.org
END:VEVENT
BEGIN:VEVENT
DTSTART;TZID=America/Kentucky/Louisville:20250123T133000
DTEND;TZID=America/Kentucky/Louisville:20250123T133000
DTSTAMP:20260423T142055
CREATED:20241217T173603Z
LAST-MODIFIED:20241217T173603Z
UID:10001648-1737639000-1737639000@www.laruelibrary.org
SUMMARY:Story Time
DESCRIPTION:Join us for a fun and fantastic story and a craft this Thursday at 1:30 PM and on Tuesday at 11:00am! \nStory time is for children under the ages of 5. \nThis is a great opportunity to grow young readers. We make learning fun by introducing children to books\, love of reading\, and songs! We can’t wait to see you!
URL:https://www.laruelibrary.org/event/story-time-112/2025-01-23/
LOCATION:LaRue County Public Library\, 215 Lincoln Drive\, Hodgenville\, KY\, 42748\, United States
CATEGORIES:Age Under 5 Years Old,Youth Events
ATTACH;FMTTYPE=image/png:https://www.laruelibrary.org/wp-content/uploads/2023/10/NST.0-1.png
ORGANIZER;CN="LaRue Public Library":MAILTO:info@laruelibrary.org
END:VEVENT
BEGIN:VEVENT
DTSTART;TZID=America/Kentucky/Louisville:20250124T150000
DTEND;TZID=America/Kentucky/Louisville:20250124T150000
DTSTAMP:20260423T142055
CREATED:20241217T184533Z
LAST-MODIFIED:20241217T184533Z
UID:10001660-1737730800-1737730800@www.laruelibrary.org
SUMMARY:Needle Felting
DESCRIPTION:Join us on Friday\, January 24th at 3:00pm to needle felt this very cute mouse! \nClass limit of 20. Call to register. Teens & Adults.
URL:https://www.laruelibrary.org/event/needle-felting-2/
LOCATION:LaRue County Public Library\, 215 Lincoln Drive\, Hodgenville\, KY\, 42748\, United States
CATEGORIES:Adult,Adult Events,High School,Youth Events
ATTACH;FMTTYPE=image/png:https://www.laruelibrary.org/wp-content/uploads/2024/12/felting.png
ORGANIZER;CN="LaRue Public Library":MAILTO:info@laruelibrary.org
END:VEVENT
BEGIN:VEVENT
DTSTART;TZID=America/Kentucky/Louisville:20250125T150000
DTEND;TZID=America/Kentucky/Louisville:20250125T150000
DTSTAMP:20260423T142055
CREATED:20250117T210518Z
LAST-MODIFIED:20250117T210518Z
UID:10001701-1737817200-1737817200@www.laruelibrary.org
SUMMARY:Pinecone Flowers
DESCRIPTION:Join us on Tuesday\, February 25th at 3:00pm to make pinecone flowers! \nCall to register. Teens & Adults
URL:https://www.laruelibrary.org/event/pinecone-flowers/
LOCATION:LaRue County Public Library\, 215 Lincoln Drive\, Hodgenville\, KY\, 42748\, United States
CATEGORIES:Adult,Adult Events,High School,Youth Events
ATTACH;FMTTYPE=image/png:https://www.laruelibrary.org/wp-content/uploads/2025/01/pinecone.png
ORGANIZER;CN="LaRue Public Library":MAILTO:info@laruelibrary.org
END:VEVENT
BEGIN:VEVENT
DTSTART;TZID=America/Kentucky/Louisville:20250127T100000
DTEND;TZID=America/Kentucky/Louisville:20250127T100000
DTSTAMP:20260423T142055
CREATED:20241217T172434Z
LAST-MODIFIED:20241217T172434Z
UID:10001637-1737972000-1737972000@www.laruelibrary.org
SUMMARY:Stretch and Shine
DESCRIPTION:Join us for Stretch and Shine and start your day off right! \nFree low-impact exercise class beginning at 10:00am. Let’s get those muscles moving! \nThis program is designed for Adults.
URL:https://www.laruelibrary.org/event/stretch-and-shine-46/2025-01-27/
LOCATION:LaRue County Public Library\, 215 Lincoln Drive\, Hodgenville\, KY\, 42748\, United States
CATEGORIES:Adult,Adult Events
ATTACH;FMTTYPE=image/png:https://www.laruelibrary.org/wp-content/uploads/2023/03/Stretch-Adult-Event-1.png
ORGANIZER;CN="LaRue Public Library":MAILTO:info@laruelibrary.org
END:VEVENT
BEGIN:VEVENT
DTSTART;TZID=America/Kentucky/Louisville:20250127T140000
DTEND;TZID=America/Kentucky/Louisville:20250127T140000
DTSTAMP:20260423T142055
CREATED:20241217T172700Z
LAST-MODIFIED:20241217T172700Z
UID:10001640-1737986400-1737986400@www.laruelibrary.org
SUMMARY:Community Games
DESCRIPTION:Come and have some game day fun here at the library at 2:00pm! \nBring your friends\, family\, a board game (or choose one of ours) and enjoy!
URL:https://www.laruelibrary.org/event/community-games-40/2025-01-27/
LOCATION:LaRue County Public Library\, 215 Lincoln Drive\, Hodgenville\, KY\, 42748\, United States
CATEGORIES:Adult,Adult Events,Everyone,Family,Youth Events
ATTACH;FMTTYPE=image/jpeg:https://www.laruelibrary.org/wp-content/uploads/2023/07/bg2.jpg
ORGANIZER;CN="LaRue Public Library":MAILTO:info@laruelibrary.org
END:VEVENT
BEGIN:VEVENT
DTSTART;TZID=America/Kentucky/Louisville:20250127T153000
DTEND;TZID=America/Kentucky/Louisville:20250127T153000
DTSTAMP:20260423T142055
CREATED:20241217T213936Z
LAST-MODIFIED:20241217T213936Z
UID:10001668-1737991800-1737991800@www.laruelibrary.org
SUMMARY:National Geographic Hunt
DESCRIPTION:Come find all of the clues & issues of National Geographic for a prize on Monday\, January 27th at 3:45pm! \nThe game is afoot! \nThis event is for Families.
URL:https://www.laruelibrary.org/event/national-geographic-hunt/
LOCATION:LaRue County Public Library\, 215 Lincoln Drive\, Hodgenville\, KY\, 42748\, United States
CATEGORIES:Family,Youth Events
ATTACH;FMTTYPE=image/png:https://www.laruelibrary.org/wp-content/uploads/2024/12/national.png
ORGANIZER;CN="LaRue Public Library":MAILTO:info@laruelibrary.org
END:VEVENT
BEGIN:VEVENT
DTSTART;TZID=America/Kentucky/Louisville:20250128T110000
DTEND;TZID=America/Kentucky/Louisville:20250128T110000
DTSTAMP:20260423T142055
CREATED:20241217T173311Z
LAST-MODIFIED:20241217T173311Z
UID:10001644-1738062000-1738062000@www.laruelibrary.org
SUMMARY:Story Time
DESCRIPTION:Join us for a fun and fantastic story and a craft on Tuesday at 11 AM and on Thursday at 1:30 PM! \nStory time is for children under the ages of 5. \nThis is a great opportunity to grow young readers. We make learning fun by introducing children to books\, love of reading\, and songs! We can’t wait to see you!
URL:https://www.laruelibrary.org/event/story-time-111/2025-01-28/
LOCATION:LaRue County Public Library\, 215 Lincoln Drive\, Hodgenville\, KY\, 42748\, United States
CATEGORIES:Age Under 5 Years Old,Youth Events
ATTACH;FMTTYPE=image/png:https://www.laruelibrary.org/wp-content/uploads/2023/10/NST.0-1.png
ORGANIZER;CN="LaRue Public Library":MAILTO:info@laruelibrary.org
END:VEVENT
BEGIN:VEVENT
DTSTART;TZID=America/Kentucky/Louisville:20250128T150000
DTEND;TZID=America/Kentucky/Louisville:20250128T150000
DTSTAMP:20260423T142055
CREATED:20241217T201749Z
LAST-MODIFIED:20241217T201749Z
UID:10001661-1738076400-1738076400@www.laruelibrary.org
SUMMARY:Cardinal Button Art
DESCRIPTION:Join us on Tuesday\, January 28th at 3:00pm to make a button cardinal in the snow. \nClass limit of 24. Teens & Adults. Call to register.
URL:https://www.laruelibrary.org/event/cardinal-button-art/
LOCATION:LaRue County Public Library\, 215 Lincoln Drive\, Hodgenville\, KY\, 42748\, United States
CATEGORIES:Adult,Adult Events,High School,Youth Events
ATTACH;FMTTYPE=image/png:https://www.laruelibrary.org/wp-content/uploads/2024/12/cardinal.png
ORGANIZER;CN="LaRue Public Library":MAILTO:info@laruelibrary.org
END:VEVENT
BEGIN:VEVENT
DTSTART;TZID=America/Kentucky/Louisville:20250129T100000
DTEND;TZID=America/Kentucky/Louisville:20250129T150000
DTSTAMP:20260423T142055
CREATED:20241217T203124Z
LAST-MODIFIED:20241217T203124Z
UID:10001662-1738144800-1738162800@www.laruelibrary.org
SUMMARY:Puzzle Swap
DESCRIPTION:Join us on Wednesday\, January 29th from 10:00am-3:00pm for a puzzle swap. \nBring your own puzzles & trade for different ones (bring one–take one\, bring two–take two\, and so on). \nPlease do no bring puzzles with pieces missing! \nAdults only.
URL:https://www.laruelibrary.org/event/puzzle-swap/
LOCATION:LaRue County Public Library\, 215 Lincoln Drive\, Hodgenville\, KY\, 42748\, United States
CATEGORIES:Adult,Adult Events
ATTACH;FMTTYPE=image/png:https://www.laruelibrary.org/wp-content/uploads/2024/12/swap.png
ORGANIZER;CN="LaRue Public Library":MAILTO:info@laruelibrary.org
END:VEVENT
BEGIN:VEVENT
DTSTART;TZID=America/Kentucky/Louisville:20250129T150000
DTEND;TZID=America/Kentucky/Louisville:20250129T150000
DTSTAMP:20260423T142055
CREATED:20241217T203532Z
LAST-MODIFIED:20241217T203532Z
UID:10001663-1738162800-1738162800@www.laruelibrary.org
SUMMARY:Puzzle Contest
DESCRIPTION:Join us on Wednesday\, January 29th at 3:15pm and put your jigsaw puzzle skills to the test! \nTeams of 2-4 people will have until 4:45pm to see how much of a 500 piece puzzle they can finish. Winners will receive a trophy! \n5 teams only. Teens & Adults. Call to register.
URL:https://www.laruelibrary.org/event/puzzle-contest/
LOCATION:LaRue County Public Library\, 215 Lincoln Drive\, Hodgenville\, KY\, 42748\, United States
CATEGORIES:Adult,Adult Events,High School,Youth Events
ATTACH;FMTTYPE=image/png:https://www.laruelibrary.org/wp-content/uploads/2024/12/contest.png
ORGANIZER;CN="LaRue Public Library":MAILTO:info@laruelibrary.org
END:VEVENT
BEGIN:VEVENT
DTSTART;TZID=America/Kentucky/Louisville:20250130T173000
DTEND;TZID=America/Kentucky/Louisville:20250130T173000
DTSTAMP:20260423T142055
CREATED:20241217T180126Z
LAST-MODIFIED:20241217T180126Z
UID:10001651-1738258200-1738258200@www.laruelibrary.org
SUMMARY:Reiki: How Healing Energy Works
DESCRIPTION:Join us on Thursday\, January 30th @ 5:30pm as TaShawna Thomas explains the benefits of reiki healing. She will also be holding a demonstration. \nEveryone welcome!
URL:https://www.laruelibrary.org/event/reiki-how-healing-energy-works/
LOCATION:LaRue County Public Library\, 215 Lincoln Drive\, Hodgenville\, KY\, 42748\, United States
CATEGORIES:Adult,Adult Events,Everyone,Family,Youth Events
ATTACH;FMTTYPE=image/png:https://www.laruelibrary.org/wp-content/uploads/2024/12/reiki.png
ORGANIZER;CN="LaRue Public Library":MAILTO:info@laruelibrary.org
END:VEVENT
BEGIN:VEVENT
DTSTART;TZID=America/Kentucky/Louisville:20250131T093000
DTEND;TZID=America/Kentucky/Louisville:20250131T103000
DTSTAMP:20260423T142055
CREATED:20240820T160320Z
LAST-MODIFIED:20240926T143906Z
UID:10001467-1738315800-1738319400@www.laruelibrary.org
SUMMARY:Tiny Hawks Story Time
DESCRIPTION:Join us for a very special Tiny Hawks Story Time from 9:30-10:30am with assistance from Ellen Shelton! Each session\, children will receive a free educational take-home item/supplies (provided by the ALES Family Resource Center). \nThese story times/sessions will take place at LaRue County Public Library on Friday September 27th\, October 25th\, November 22nd\, January 31st\, February 28th\, March 28th\, and April 25th. These story times/sessions are geared toward preschool age children (2-5 years old) and their caregiver(s). \nSign-up is NOT required. \nFor more info\, contact: \nTaylor Metcalf; LCPL Children’s Librarian @ 358-3851 \nEllen Shelton; ALES FRC Coordinator @ 358-7130
URL:https://www.laruelibrary.org/event/tiny-hawks-story-time-with-ellen-shelton/2025-01-31/
LOCATION:LaRue County Public Library\, 215 Lincoln Drive\, Hodgenville\, KY\, 42748\, United States
CATEGORIES:Age Under 5 Years Old,Youth Events
ATTACH;FMTTYPE=image/png:https://www.laruelibrary.org/wp-content/uploads/2024/08/Tiny-Hawks.png
ORGANIZER;CN="LaRue Public Library":MAILTO:info@laruelibrary.org
END:VEVENT
BEGIN:VEVENT
DTSTART;TZID=America/Kentucky/Louisville:20250131T130000
DTEND;TZID=America/Kentucky/Louisville:20250131T163000
DTSTAMP:20260423T142055
CREATED:20241217T204846Z
LAST-MODIFIED:20241217T204846Z
UID:10001665-1738328400-1738341000@www.laruelibrary.org
SUMMARY:Hot Chocolate Bar
DESCRIPTION:Join us on Friday\, January 31st from 1:00pm-4:30pm to celebrate National Hot Chocolate Day! \nWe will have a hot chocolate bar set up with different toppings for anyone and everyone to enjoy!
URL:https://www.laruelibrary.org/event/hot-chocolate-bar/
LOCATION:LaRue County Public Library\, 215 Lincoln Drive\, Hodgenville\, KY\, 42748\, United States
CATEGORIES:Adult,Adult Events,Everyone,Family,Youth Events
ATTACH;FMTTYPE=image/png:https://www.laruelibrary.org/wp-content/uploads/2024/12/closed1.png
ORGANIZER;CN="LaRue Public Library":MAILTO:info@laruelibrary.org
END:VEVENT
BEGIN:VEVENT
DTSTART;TZID=America/Kentucky/Louisville:20250131T150000
DTEND;TZID=America/Kentucky/Louisville:20250131T150000
DTSTAMP:20260423T142055
CREATED:20241217T203941Z
LAST-MODIFIED:20241217T203941Z
UID:10001664-1738335600-1738335600@www.laruelibrary.org
SUMMARY:Scrapbook Paper Baskets
DESCRIPTION:Join us on Friday\, January 31st at 3:00pm to make scrapbook paper baskets. \n(embellishments will vary) \nClass limit of 24. Teens and Adults. Call to register.
URL:https://www.laruelibrary.org/event/scrapbook-paper-baskets/
LOCATION:LaRue County Public Library\, 215 Lincoln Drive\, Hodgenville\, KY\, 42748\, United States
CATEGORIES:Adult,Adult Events,High School,Youth Events
ATTACH;FMTTYPE=image/png:https://www.laruelibrary.org/wp-content/uploads/2024/12/basket.png
ORGANIZER;CN="LaRue Public Library":MAILTO:info@laruelibrary.org
END:VEVENT
BEGIN:VEVENT
DTSTART;TZID=America/Kentucky/Louisville:20250203T100000
DTEND;TZID=America/Kentucky/Louisville:20250203T100000
DTSTAMP:20260423T142055
CREATED:20250114T222448Z
LAST-MODIFIED:20250114T222448Z
UID:10001680-1738576800-1738576800@www.laruelibrary.org
SUMMARY:Stretch and Shine
DESCRIPTION:Join us for Stretch and Shine and start your day off right! \nFree low-impact exercise class beginning at 10:00am. Let’s get those muscles moving! \nThis program is designed for Adults.
URL:https://www.laruelibrary.org/event/stretch-and-shine-47/2025-02-03/
LOCATION:LaRue County Public Library\, 215 Lincoln Drive\, Hodgenville\, KY\, 42748\, United States
CATEGORIES:Adult,Adult Events
ATTACH;FMTTYPE=image/png:https://www.laruelibrary.org/wp-content/uploads/2023/03/Stretch-Adult-Event-1.png
END:VEVENT
BEGIN:VEVENT
DTSTART;TZID=America/Kentucky/Louisville:20250203T140000
DTEND;TZID=America/Kentucky/Louisville:20250203T140000
DTSTAMP:20260423T142055
CREATED:20250114T223103Z
LAST-MODIFIED:20250114T223103Z
UID:10001682-1738591200-1738591200@www.laruelibrary.org
SUMMARY:Community Games
DESCRIPTION:Come and have some game day fun here at the library at 2:00pm! \nBring your friends\, family\, a board game (or choose one of ours) and enjoy!
URL:https://www.laruelibrary.org/event/community-games-41/2025-02-03/
LOCATION:LaRue County Public Library\, 215 Lincoln Drive\, Hodgenville\, KY\, 42748\, United States
CATEGORIES:Everyone
ATTACH;FMTTYPE=image/jpeg:https://www.laruelibrary.org/wp-content/uploads/2025/01/game.jpeg
END:VEVENT
BEGIN:VEVENT
DTSTART;TZID=America/Kentucky/Louisville:20250203T153000
DTEND;TZID=America/Kentucky/Louisville:20250203T153000
DTSTAMP:20260423T142055
CREATED:20250114T233407Z
LAST-MODIFIED:20250114T233407Z
UID:10001689-1738596600-1738596600@www.laruelibrary.org
SUMMARY:Make Valentines
DESCRIPTION:Take some time as a family to make a valentine to show someone you care. Families can join us for our program to make valentines on Monday\, February 3rd at 3:30 PM.
URL:https://www.laruelibrary.org/event/make-valentines/
LOCATION:LaRue County Public Library\, 215 Lincoln Drive\, Hodgenville\, KY\, 42748\, United States
CATEGORIES:Family
ATTACH;FMTTYPE=image/jpeg:https://www.laruelibrary.org/wp-content/uploads/2025/01/valentines.jpeg
END:VEVENT
BEGIN:VEVENT
DTSTART;TZID=America/Kentucky/Louisville:20250204T110000
DTEND;TZID=America/Kentucky/Louisville:20250204T110000
DTSTAMP:20260423T142055
CREATED:20250114T223320Z
LAST-MODIFIED:20250114T223320Z
UID:10001684-1738666800-1738666800@www.laruelibrary.org
SUMMARY:Story Time
DESCRIPTION:Join us for a fun and fantastic story and a craft on Tuesday\, February 4th at 11 AM. \nStory time is for children under the ages of 5. \nThis is a great opportunity to grow young readers. We make learning fun by introducing children to books\, love of reading\, and songs! We can’t wait to see you!
URL:https://www.laruelibrary.org/event/story-time-113/
LOCATION:LaRue County Public Library\, 215 Lincoln Drive\, Hodgenville\, KY\, 42748\, United States
CATEGORIES:Age Under 5 Years Old
ATTACH;FMTTYPE=image/png:https://www.laruelibrary.org/wp-content/uploads/2023/10/NST.0-1.png
END:VEVENT
BEGIN:VEVENT
DTSTART;TZID=America/Kentucky/Louisville:20250204T150000
DTEND;TZID=America/Kentucky/Louisville:20250204T150000
DTSTAMP:20260423T142055
CREATED:20250114T225640Z
LAST-MODIFIED:20250114T225640Z
UID:10001686-1738681200-1738681200@www.laruelibrary.org
SUMMARY:Calligraphy
DESCRIPTION:Learn and appreciate the art of calligraphy at our program on Tuesday\, February 4th at 3:30 PM. This program is designed for adults and does require registration. To register\, please call the library at 270-358-3851.
URL:https://www.laruelibrary.org/event/calligraphy/
LOCATION:LaRue County Public Library\, 215 Lincoln Drive\, Hodgenville\, KY\, 42748\, United States
CATEGORIES:Adult,Adult Events,High School,Middle School
ATTACH;FMTTYPE=image/jpeg:https://www.laruelibrary.org/wp-content/uploads/2025/01/calligrpahy-scaled.jpeg
END:VEVENT
BEGIN:VEVENT
DTSTART;TZID=America/Kentucky/Louisville:20250204T154500
DTEND;TZID=America/Kentucky/Louisville:20250204T154500
DTSTAMP:20260423T142055
CREATED:20250114T234150Z
LAST-MODIFIED:20250114T234150Z
UID:10001690-1738683900-1738683900@www.laruelibrary.org
SUMMARY:Origami Heart Bookmarks
DESCRIPTION:Don’t fold on some good fun learning to make origami hearts. This program\, designed for middle-grade students and teens\, is on Tuesday\, February 4th at 3:45 PM. No registration is required.
URL:https://www.laruelibrary.org/event/origami-heart-bookmarks/
LOCATION:LaRue County Public Library\, 215 Lincoln Drive\, Hodgenville\, KY\, 42748\, United States
CATEGORIES:Grade School,High School,Middle School
ATTACH;FMTTYPE=image/jpeg:https://www.laruelibrary.org/wp-content/uploads/2025/01/origami-heart.jpeg
END:VEVENT
BEGIN:VEVENT
DTSTART;TZID=America/Kentucky/Louisville:20250206T133000
DTEND;TZID=America/Kentucky/Louisville:20250206T133000
DTSTAMP:20260423T142055
CREATED:20250125T141225Z
LAST-MODIFIED:20250125T141225Z
UID:10001713-1738848600-1738848600@www.laruelibrary.org
SUMMARY:Special Sensory Story Time
DESCRIPTION:Bring your kids ages 0-5 for a special sensory storytime on Thursday\, February 6th at 1:30 PM.
URL:https://www.laruelibrary.org/event/special-sensory-story-time/
LOCATION:LaRue County Public Library\, 215 Lincoln Drive\, Hodgenville\, KY\, 42748\, United States
CATEGORIES:Age Under 5 Years Old
ATTACH;FMTTYPE=image/png:https://www.laruelibrary.org/wp-content/uploads/2025/01/Screenshot-2025-01-25-at-9.11.30 AM.png
END:VEVENT
BEGIN:VEVENT
DTSTART;TZID=America/Kentucky/Louisville:20250206T160000
DTEND;TZID=America/Kentucky/Louisville:20250206T160000
DTSTAMP:20260423T142055
CREATED:20250114T231054Z
LAST-MODIFIED:20250114T231054Z
UID:10001687-1738857600-1738857600@www.laruelibrary.org
SUMMARY:Friends of the Library
DESCRIPTION:Join us for a Friends of the Library meeting. Become a member and help us promote the LaRue County Public Library. Membership enables you to join your local branch chapter and become involved with many wonderful library activities throughout the year. Benefits include invitations to special Friends’ events\, Volunteer opportunities\, and advocacy opportunities. Hope to see you there!
URL:https://www.laruelibrary.org/event/friends-of-the-library-21/
LOCATION:LaRue County Public Library\, 215 Lincoln Drive\, Hodgenville\, KY\, 42748\, United States
CATEGORIES:Adult,Adult Events
ATTACH;FMTTYPE=image/png:https://www.laruelibrary.org/wp-content/uploads/2023/03/BecomeLibraryFriend.png
END:VEVENT
BEGIN:VEVENT
DTSTART;TZID=America/Kentucky/Louisville:20250207T140000
DTEND;TZID=America/Kentucky/Louisville:20250207T140000
DTSTAMP:20260423T142055
CREATED:20250114T233022Z
LAST-MODIFIED:20250114T233022Z
UID:10001688-1738936800-1738936800@www.laruelibrary.org
SUMMARY:Recipe Journals
DESCRIPTION:Find a fun and creative way to organize tasty and treasured recipes with recipe journals. Teens and adults are welcome to join our class on Friday\, February 7th at 3 PM. Registration is required for this class. To register\, please call the library at 270-358-3851.
URL:https://www.laruelibrary.org/event/recipe-journals/
LOCATION:LaRue County Public Library\, 215 Lincoln Drive\, Hodgenville\, KY\, 42748\, United States
ATTACH;FMTTYPE=image/jpeg:https://www.laruelibrary.org/wp-content/uploads/2025/01/recipe-journal-scaled.jpeg
END:VEVENT
BEGIN:VEVENT
DTSTART;TZID=America/Kentucky/Louisville:20250207T140000
DTEND;TZID=America/Kentucky/Louisville:20250207T140000
DTSTAMP:20260423T142055
CREATED:20250125T141855Z
LAST-MODIFIED:20250125T141855Z
UID:10001714-1738936800-1738936800@www.laruelibrary.org
SUMMARY:Magic the Gathering Meet
DESCRIPTION:Meet up at the library for a session of Magic the Gathering on Friday\, February 7th at 2 PM. This program is for students in elementary through high school. No registration is required.
URL:https://www.laruelibrary.org/event/magic-the-gathering-meet-2/
LOCATION:LaRue County Public Library\, 215 Lincoln Drive\, Hodgenville\, KY\, 42748\, United States
CATEGORIES:Grade School,High School,Middle School
ATTACH;FMTTYPE=image/png:https://www.laruelibrary.org/wp-content/uploads/2025/01/Screenshot-2025-01-25-at-9.18.03 AM.png
END:VEVENT
BEGIN:VEVENT
DTSTART;TZID=America/Kentucky/Louisville:20250210T100000
DTEND;TZID=America/Kentucky/Louisville:20250210T100000
DTSTAMP:20260423T142055
CREATED:20250114T222448Z
LAST-MODIFIED:20250114T222448Z
UID:10001681-1739181600-1739181600@www.laruelibrary.org
SUMMARY:Stretch and Shine
DESCRIPTION:Join us for Stretch and Shine and start your day off right! \nFree low-impact exercise class beginning at 10:00am. Let’s get those muscles moving! \nThis program is designed for Adults.
URL:https://www.laruelibrary.org/event/stretch-and-shine-47/2025-02-10/
LOCATION:LaRue County Public Library\, 215 Lincoln Drive\, Hodgenville\, KY\, 42748\, United States
CATEGORIES:Adult,Adult Events
ATTACH;FMTTYPE=image/png:https://www.laruelibrary.org/wp-content/uploads/2023/03/Stretch-Adult-Event-1.png
END:VEVENT
BEGIN:VEVENT
DTSTART;TZID=America/Kentucky/Louisville:20250210T140000
DTEND;TZID=America/Kentucky/Louisville:20250210T140000
DTSTAMP:20260423T142055
CREATED:20250114T223103Z
LAST-MODIFIED:20250114T223103Z
UID:10001683-1739196000-1739196000@www.laruelibrary.org
SUMMARY:Community Games
DESCRIPTION:Come and have some game day fun here at the library at 2:00pm! \nBring your friends\, family\, a board game (or choose one of ours) and enjoy!
URL:https://www.laruelibrary.org/event/community-games-41/2025-02-10/
LOCATION:LaRue County Public Library\, 215 Lincoln Drive\, Hodgenville\, KY\, 42748\, United States
CATEGORIES:Everyone
ATTACH;FMTTYPE=image/jpeg:https://www.laruelibrary.org/wp-content/uploads/2025/01/game.jpeg
END:VEVENT
BEGIN:VEVENT
DTSTART;TZID=America/Kentucky/Louisville:20250211T160000
DTEND;TZID=America/Kentucky/Louisville:20250211T160000
DTSTAMP:20260423T142055
CREATED:20250125T142521Z
LAST-MODIFIED:20250125T142521Z
UID:10001715-1739289600-1739289600@www.laruelibrary.org
SUMMARY:Build-a-House
DESCRIPTION:Design a little cut-out house with your family inside! This program is intended for children under 5\, grade school students\, and middle school students. Join us on Tuesday\, February 11th\, at 4 PM.
URL:https://www.laruelibrary.org/event/build-a-house/
LOCATION:LaRue County Public Library\, 215 Lincoln Drive\, Hodgenville\, KY\, 42748\, United States
CATEGORIES:Age Under 5 Years Old,Grade School,High School,Middle School
ATTACH;FMTTYPE=image/png:https://www.laruelibrary.org/wp-content/uploads/2025/01/Screenshot-2025-01-25-at-9.22.59 AM.png
END:VEVENT
END:VCALENDAR