BEGIN:VCALENDAR
VERSION:2.0
PRODID:-//LaRue County Public Library - ECPv6.15.20//NONSGML v1.0//EN
CALSCALE:GREGORIAN
METHOD:PUBLISH
X-ORIGINAL-URL:https://www.laruelibrary.org
X-WR-CALDESC:Events for LaRue County Public Library
REFRESH-INTERVAL;VALUE=DURATION:PT1H
X-Robots-Tag:noindex
X-PUBLISHED-TTL:PT1H
BEGIN:VTIMEZONE
TZID:America/Kentucky/Louisville
BEGIN:DAYLIGHT
TZOFFSETFROM:-0500
TZOFFSETTO:-0400
TZNAME:EDT
DTSTART:20240310T070000
END:DAYLIGHT
BEGIN:STANDARD
TZOFFSETFROM:-0400
TZOFFSETTO:-0500
TZNAME:EST
DTSTART:20241103T060000
END:STANDARD
BEGIN:DAYLIGHT
TZOFFSETFROM:-0500
TZOFFSETTO:-0400
TZNAME:EDT
DTSTART:20250309T070000
END:DAYLIGHT
BEGIN:STANDARD
TZOFFSETFROM:-0400
TZOFFSETTO:-0500
TZNAME:EST
DTSTART:20251102T060000
END:STANDARD
BEGIN:DAYLIGHT
TZOFFSETFROM:-0500
TZOFFSETTO:-0400
TZNAME:EDT
DTSTART:20260308T070000
END:DAYLIGHT
BEGIN:STANDARD
TZOFFSETFROM:-0400
TZOFFSETTO:-0500
TZNAME:EST
DTSTART:20261101T060000
END:STANDARD
END:VTIMEZONE
BEGIN:VEVENT
DTSTART;TZID=America/Kentucky/Louisville:20250204T110000
DTEND;TZID=America/Kentucky/Louisville:20250204T110000
DTSTAMP:20260423T172317
CREATED:20250114T223320Z
LAST-MODIFIED:20250114T223320Z
UID:10001684-1738666800-1738666800@www.laruelibrary.org
SUMMARY:Story Time
DESCRIPTION:Join us for a fun and fantastic story and a craft on Tuesday\, February 4th at 11 AM. \nStory time is for children under the ages of 5. \nThis is a great opportunity to grow young readers. We make learning fun by introducing children to books\, love of reading\, and songs! We can’t wait to see you!
URL:https://www.laruelibrary.org/event/story-time-113/
LOCATION:LaRue County Public Library\, 215 Lincoln Drive\, Hodgenville\, KY\, 42748\, United States
CATEGORIES:Age Under 5 Years Old
ATTACH;FMTTYPE=image/png:https://www.laruelibrary.org/wp-content/uploads/2023/10/NST.0-1.png
END:VEVENT
BEGIN:VEVENT
DTSTART;TZID=America/Kentucky/Louisville:20250204T150000
DTEND;TZID=America/Kentucky/Louisville:20250204T150000
DTSTAMP:20260423T172317
CREATED:20250114T225640Z
LAST-MODIFIED:20250114T225640Z
UID:10001686-1738681200-1738681200@www.laruelibrary.org
SUMMARY:Calligraphy
DESCRIPTION:Learn and appreciate the art of calligraphy at our program on Tuesday\, February 4th at 3:30 PM. This program is designed for adults and does require registration. To register\, please call the library at 270-358-3851.
URL:https://www.laruelibrary.org/event/calligraphy/
LOCATION:LaRue County Public Library\, 215 Lincoln Drive\, Hodgenville\, KY\, 42748\, United States
CATEGORIES:Adult,Adult Events,High School,Middle School
ATTACH;FMTTYPE=image/jpeg:https://www.laruelibrary.org/wp-content/uploads/2025/01/calligrpahy-scaled.jpeg
END:VEVENT
BEGIN:VEVENT
DTSTART;TZID=America/Kentucky/Louisville:20250204T154500
DTEND;TZID=America/Kentucky/Louisville:20250204T154500
DTSTAMP:20260423T172317
CREATED:20250114T234150Z
LAST-MODIFIED:20250114T234150Z
UID:10001690-1738683900-1738683900@www.laruelibrary.org
SUMMARY:Origami Heart Bookmarks
DESCRIPTION:Don’t fold on some good fun learning to make origami hearts. This program\, designed for middle-grade students and teens\, is on Tuesday\, February 4th at 3:45 PM. No registration is required.
URL:https://www.laruelibrary.org/event/origami-heart-bookmarks/
LOCATION:LaRue County Public Library\, 215 Lincoln Drive\, Hodgenville\, KY\, 42748\, United States
CATEGORIES:Grade School,High School,Middle School
ATTACH;FMTTYPE=image/jpeg:https://www.laruelibrary.org/wp-content/uploads/2025/01/origami-heart.jpeg
END:VEVENT
BEGIN:VEVENT
DTSTART;TZID=America/Kentucky/Louisville:20250206T133000
DTEND;TZID=America/Kentucky/Louisville:20250206T133000
DTSTAMP:20260423T172317
CREATED:20250125T141225Z
LAST-MODIFIED:20250125T141225Z
UID:10001713-1738848600-1738848600@www.laruelibrary.org
SUMMARY:Special Sensory Story Time
DESCRIPTION:Bring your kids ages 0-5 for a special sensory storytime on Thursday\, February 6th at 1:30 PM.
URL:https://www.laruelibrary.org/event/special-sensory-story-time/
LOCATION:LaRue County Public Library\, 215 Lincoln Drive\, Hodgenville\, KY\, 42748\, United States
CATEGORIES:Age Under 5 Years Old
ATTACH;FMTTYPE=image/png:https://www.laruelibrary.org/wp-content/uploads/2025/01/Screenshot-2025-01-25-at-9.11.30 AM.png
END:VEVENT
BEGIN:VEVENT
DTSTART;TZID=America/Kentucky/Louisville:20250206T160000
DTEND;TZID=America/Kentucky/Louisville:20250206T160000
DTSTAMP:20260423T172317
CREATED:20250114T231054Z
LAST-MODIFIED:20250114T231054Z
UID:10001687-1738857600-1738857600@www.laruelibrary.org
SUMMARY:Friends of the Library
DESCRIPTION:Join us for a Friends of the Library meeting. Become a member and help us promote the LaRue County Public Library. Membership enables you to join your local branch chapter and become involved with many wonderful library activities throughout the year. Benefits include invitations to special Friends’ events\, Volunteer opportunities\, and advocacy opportunities. Hope to see you there!
URL:https://www.laruelibrary.org/event/friends-of-the-library-21/
LOCATION:LaRue County Public Library\, 215 Lincoln Drive\, Hodgenville\, KY\, 42748\, United States
CATEGORIES:Adult,Adult Events
ATTACH;FMTTYPE=image/png:https://www.laruelibrary.org/wp-content/uploads/2023/03/BecomeLibraryFriend.png
END:VEVENT
BEGIN:VEVENT
DTSTART;TZID=America/Kentucky/Louisville:20250207T140000
DTEND;TZID=America/Kentucky/Louisville:20250207T140000
DTSTAMP:20260423T172317
CREATED:20250114T233022Z
LAST-MODIFIED:20250114T233022Z
UID:10001688-1738936800-1738936800@www.laruelibrary.org
SUMMARY:Recipe Journals
DESCRIPTION:Find a fun and creative way to organize tasty and treasured recipes with recipe journals. Teens and adults are welcome to join our class on Friday\, February 7th at 3 PM. Registration is required for this class. To register\, please call the library at 270-358-3851.
URL:https://www.laruelibrary.org/event/recipe-journals/
LOCATION:LaRue County Public Library\, 215 Lincoln Drive\, Hodgenville\, KY\, 42748\, United States
ATTACH;FMTTYPE=image/jpeg:https://www.laruelibrary.org/wp-content/uploads/2025/01/recipe-journal-scaled.jpeg
END:VEVENT
BEGIN:VEVENT
DTSTART;TZID=America/Kentucky/Louisville:20250207T140000
DTEND;TZID=America/Kentucky/Louisville:20250207T140000
DTSTAMP:20260423T172317
CREATED:20250125T141855Z
LAST-MODIFIED:20250125T141855Z
UID:10001714-1738936800-1738936800@www.laruelibrary.org
SUMMARY:Magic the Gathering Meet
DESCRIPTION:Meet up at the library for a session of Magic the Gathering on Friday\, February 7th at 2 PM. This program is for students in elementary through high school. No registration is required.
URL:https://www.laruelibrary.org/event/magic-the-gathering-meet-2/
LOCATION:LaRue County Public Library\, 215 Lincoln Drive\, Hodgenville\, KY\, 42748\, United States
CATEGORIES:Grade School,High School,Middle School
ATTACH;FMTTYPE=image/png:https://www.laruelibrary.org/wp-content/uploads/2025/01/Screenshot-2025-01-25-at-9.18.03 AM.png
END:VEVENT
BEGIN:VEVENT
DTSTART;TZID=America/Kentucky/Louisville:20250210T100000
DTEND;TZID=America/Kentucky/Louisville:20250210T100000
DTSTAMP:20260423T172317
CREATED:20250114T222448Z
LAST-MODIFIED:20250114T222448Z
UID:10001681-1739181600-1739181600@www.laruelibrary.org
SUMMARY:Stretch and Shine
DESCRIPTION:Join us for Stretch and Shine and start your day off right! \nFree low-impact exercise class beginning at 10:00am. Let’s get those muscles moving! \nThis program is designed for Adults.
URL:https://www.laruelibrary.org/event/stretch-and-shine-47/2025-02-10/
LOCATION:LaRue County Public Library\, 215 Lincoln Drive\, Hodgenville\, KY\, 42748\, United States
CATEGORIES:Adult,Adult Events
ATTACH;FMTTYPE=image/png:https://www.laruelibrary.org/wp-content/uploads/2023/03/Stretch-Adult-Event-1.png
END:VEVENT
BEGIN:VEVENT
DTSTART;TZID=America/Kentucky/Louisville:20250210T140000
DTEND;TZID=America/Kentucky/Louisville:20250210T140000
DTSTAMP:20260423T172317
CREATED:20250114T223103Z
LAST-MODIFIED:20250114T223103Z
UID:10001683-1739196000-1739196000@www.laruelibrary.org
SUMMARY:Community Games
DESCRIPTION:Come and have some game day fun here at the library at 2:00pm! \nBring your friends\, family\, a board game (or choose one of ours) and enjoy!
URL:https://www.laruelibrary.org/event/community-games-41/2025-02-10/
LOCATION:LaRue County Public Library\, 215 Lincoln Drive\, Hodgenville\, KY\, 42748\, United States
CATEGORIES:Everyone
ATTACH;FMTTYPE=image/jpeg:https://www.laruelibrary.org/wp-content/uploads/2025/01/game.jpeg
END:VEVENT
BEGIN:VEVENT
DTSTART;TZID=America/Kentucky/Louisville:20250211T160000
DTEND;TZID=America/Kentucky/Louisville:20250211T160000
DTSTAMP:20260423T172317
CREATED:20250125T142521Z
LAST-MODIFIED:20250125T142521Z
UID:10001715-1739289600-1739289600@www.laruelibrary.org
SUMMARY:Build-a-House
DESCRIPTION:Design a little cut-out house with your family inside! This program is intended for children under 5\, grade school students\, and middle school students. Join us on Tuesday\, February 11th\, at 4 PM.
URL:https://www.laruelibrary.org/event/build-a-house/
LOCATION:LaRue County Public Library\, 215 Lincoln Drive\, Hodgenville\, KY\, 42748\, United States
CATEGORIES:Age Under 5 Years Old,Grade School,High School,Middle School
ATTACH;FMTTYPE=image/png:https://www.laruelibrary.org/wp-content/uploads/2025/01/Screenshot-2025-01-25-at-9.22.59 AM.png
END:VEVENT
BEGIN:VEVENT
DTSTART;TZID=America/Kentucky/Louisville:20250214T150000
DTEND;TZID=America/Kentucky/Louisville:20250214T150000
DTSTAMP:20260423T172317
CREATED:20250125T142708Z
LAST-MODIFIED:20250125T142708Z
UID:10001716-1739545200-1739545200@www.laruelibrary.org
SUMMARY:Shaving Cream Hearts
DESCRIPTION:Families\, stop by the library for a fun program with shaving cream hearts. See you on Friday\, February 14th at 3 PM.
URL:https://www.laruelibrary.org/event/shaving-cream-hearts/
LOCATION:LaRue County Public Library\, 215 Lincoln Drive\, Hodgenville\, KY\, 42748\, United States
CATEGORIES:Family
ATTACH;FMTTYPE=image/png:https://www.laruelibrary.org/wp-content/uploads/2025/01/Screenshot-2025-01-25-at-9.26.42 AM.png
END:VEVENT
BEGIN:VEVENT
DTSTART;VALUE=DATE:20250217
DTEND;VALUE=DATE:20250218
DTSTAMP:20260423T172317
CREATED:20250117T215322Z
LAST-MODIFIED:20250117T215322Z
UID:10001711-1739750400-1739836799@www.laruelibrary.org
SUMMARY:WE ARE CLOSED
DESCRIPTION:We are closed today in celebration of Presidents’ Day! \nWe will be open again tomorrow morning at 9:00am–see you then! \nHappy Presidents’ Day!
URL:https://www.laruelibrary.org/event/we-are-closed-14/
LOCATION:LaRue County Public Library\, 215 Lincoln Drive\, Hodgenville\, KY\, 42748\, United States
CATEGORIES:Adult,Adult Events,Everyone,Family,Youth Events
ATTACH;FMTTYPE=image/png:https://www.laruelibrary.org/wp-content/uploads/2025/01/closed.png
ORGANIZER;CN="LaRue Public Library":MAILTO:info@laruelibrary.org
END:VEVENT
BEGIN:VEVENT
DTSTART;TZID=America/Kentucky/Louisville:20250218T100000
DTEND;TZID=America/Kentucky/Louisville:20250218T100000
DTSTAMP:20260423T172317
CREATED:20250117T205053Z
LAST-MODIFIED:20250117T205053Z
UID:10001695-1739872800-1739872800@www.laruelibrary.org
SUMMARY:BINGOcize
DESCRIPTION:Join us on Tuesday\, February 18th at 10:00am for a health promotion program combining Bingo! with inclusive exercises for all! \nThis class is meant for Adults.
URL:https://www.laruelibrary.org/event/bingocize-5/
LOCATION:LaRue County Public Library\, 215 Lincoln Drive\, Hodgenville\, KY\, 42748\, United States
CATEGORIES:Adult,Adult Events
ATTACH;FMTTYPE=image/png:https://www.laruelibrary.org/wp-content/uploads/2024/11/bingo.png
ORGANIZER;CN="LaRue Public Library":MAILTO:info@laruelibrary.org
END:VEVENT
BEGIN:VEVENT
DTSTART;TZID=America/Kentucky/Louisville:20250218T110000
DTEND;TZID=America/Kentucky/Louisville:20250218T110000
DTSTAMP:20260423T172317
CREATED:20250117T205315Z
LAST-MODIFIED:20250117T205315Z
UID:10001696-1739876400-1739876400@www.laruelibrary.org
SUMMARY:Tai Chi
DESCRIPTION:Join us on February 18th @ 11:15am to practice Tai Chi. \nTai chi is a practice that involves a series of slow gentle movements and physical postures\, a meditative state of mind\, and controlled breathing. It originated as an ancient martial art in China and\, over time\, has become more focused on health promotion and rehabilitation. \nAdults Only.
URL:https://www.laruelibrary.org/event/tai-chi-2/
LOCATION:LaRue County Public Library\, 215 Lincoln Drive\, Hodgenville\, KY\, 42748\, United States
CATEGORIES:Adult,Adult Events
ATTACH;FMTTYPE=image/png:https://www.laruelibrary.org/wp-content/uploads/2024/12/tai-chi.png
ORGANIZER;CN="LaRue Public Library":MAILTO:info@laruelibrary.org
END:VEVENT
BEGIN:VEVENT
DTSTART;TZID=America/Kentucky/Louisville:20250218T110000
DTEND;TZID=America/Kentucky/Louisville:20250218T110000
DTSTAMP:20260423T172317
CREATED:20250117T213956Z
LAST-MODIFIED:20250117T213956Z
UID:10001707-1739876400-1739876400@www.laruelibrary.org
SUMMARY:Story Time
DESCRIPTION:Join us for a fun and fantastic story and a craft on this Tuesday at 11:00 AM!\n \nStory time is for children under the ages of 5. \nThis is a great opportunity to grow young readers. We make learning fun by introducing children to books\, love of reading\, and songs! We can’t wait to see you!
URL:https://www.laruelibrary.org/event/story-time-114/2025-02-18/
LOCATION:LaRue County Public Library\, 215 Lincoln Drive\, Hodgenville\, KY\, 42748\, United States
CATEGORIES:Age Under 5 Years Old,Youth Events
ATTACH;FMTTYPE=image/png:https://www.laruelibrary.org/wp-content/uploads/2023/10/NST.0-1.png
ORGANIZER;CN="LaRue Public Library":MAILTO:info@laruelibrary.org
END:VEVENT
BEGIN:VEVENT
DTSTART;TZID=America/Kentucky/Louisville:20250218T170000
DTEND;TZID=America/Kentucky/Louisville:20250218T170000
DTSTAMP:20260423T172317
CREATED:20250117T205708Z
LAST-MODIFIED:20250218T150005Z
UID:10001698-1739898000-1739898000@www.laruelibrary.org
SUMMARY:Cancelled: American Sign Language
DESCRIPTION:Join us on Tuesday\, February 18th @ 5:00pm to learn the course on time. \nNo previous class attendance needed. \nTeens & Adults. Call to register.
URL:https://www.laruelibrary.org/event/american-sign-language-3/
LOCATION:LaRue County Public Library\, 215 Lincoln Drive\, Hodgenville\, KY\, 42748\, United States
CATEGORIES:Adult,Adult Events,High School,Youth Events
ATTACH;FMTTYPE=image/jpeg:https://www.laruelibrary.org/wp-content/uploads/2024/08/asl.jpg
ORGANIZER;CN="LaRue Public Library":MAILTO:info@laruelibrary.org
END:VEVENT
BEGIN:VEVENT
DTSTART;TZID=America/Kentucky/Louisville:20250219T150000
DTEND;TZID=America/Kentucky/Louisville:20250219T150000
DTSTAMP:20260423T172317
CREATED:20250117T210038Z
LAST-MODIFIED:20250218T145931Z
UID:10001699-1739977200-1739977200@www.laruelibrary.org
SUMMARY:Cancelled: Book Page Hearts
DESCRIPTION:Join us on Wednesday\, February 19th at 3:00pm to make paper hearts using book pages! \nCall to register. Class limit of 24. Teens & Adults
URL:https://www.laruelibrary.org/event/book-page-hearts/
LOCATION:LaRue County Public Library\, 215 Lincoln Drive\, Hodgenville\, KY\, 42748\, United States
CATEGORIES:Adult,Adult Events,High School,Youth Events
ATTACH;FMTTYPE=image/png:https://www.laruelibrary.org/wp-content/uploads/2025/01/book-heart.png
ORGANIZER;CN="LaRue Public Library":MAILTO:info@laruelibrary.org
END:VEVENT
BEGIN:VEVENT
DTSTART;VALUE=DATE:20250220
DTEND;VALUE=DATE:20250221
DTSTAMP:20260423T172317
CREATED:20250117T215515Z
LAST-MODIFIED:20250117T215515Z
UID:10001712-1740009600-1740095999@www.laruelibrary.org
SUMMARY:WE ARE CLOSED
DESCRIPTION:We are closed today for staff conferences\, but we will be open again tomorrow morning at 9:00am! \nWe hope to see you then!
URL:https://www.laruelibrary.org/event/we-are-closed-15/
LOCATION:LaRue County Public Library\, 215 Lincoln Drive\, Hodgenville\, KY\, 42748\, United States
CATEGORIES:Adult,Adult Events,Everyone,Family,Youth Events
ATTACH;FMTTYPE=image/png:https://www.laruelibrary.org/wp-content/uploads/2025/01/closed-staff.png
ORGANIZER;CN="LaRue Public Library":MAILTO:info@laruelibrary.org
END:VEVENT
BEGIN:VEVENT
DTSTART;TZID=America/Kentucky/Louisville:20250221T140000
DTEND;TZID=America/Kentucky/Louisville:20250221T140000
DTSTAMP:20260423T172317
CREATED:20250117T210248Z
LAST-MODIFIED:20250117T210248Z
UID:10001700-1740146400-1740146400@www.laruelibrary.org
SUMMARY:Snow Globes
DESCRIPTION:Join us on Friday\, February 21st at 2:00pm to make snow globes! \nCall to register. Teens & Adults. Class limit of 24
URL:https://www.laruelibrary.org/event/snow-globes/
LOCATION:LaRue County Public Library\, 215 Lincoln Drive\, Hodgenville\, KY\, 42748\, United States
CATEGORIES:Adult,Adult Events,High School,Youth Events
ATTACH;FMTTYPE=image/png:https://www.laruelibrary.org/wp-content/uploads/2025/01/ad-snow-globes.png
ORGANIZER;CN="LaRue Public Library":MAILTO:info@laruelibrary.org
END:VEVENT
BEGIN:VEVENT
DTSTART;TZID=America/Kentucky/Louisville:20250221T140000
DTEND;TZID=America/Kentucky/Louisville:20250221T140000
DTSTAMP:20260423T172317
CREATED:20250117T213622Z
LAST-MODIFIED:20250117T213622Z
UID:10001706-1740146400-1740146400@www.laruelibrary.org
SUMMARY:Magic: The Gathering
DESCRIPTION:Join us on Friday\, February 21st @ 2:00pm for a fun and exciting Magic the Gathering meet! \n\nNew and seasoned players welcome! We hope to see everyone from a Level 1 to a Planeswalker equivalent there! \nGrade School\, Middle School\, & Teens/High School. No registration required.
URL:https://www.laruelibrary.org/event/magic-the-gathering/
LOCATION:LaRue County Public Library\, 215 Lincoln Drive\, Hodgenville\, KY\, 42748\, United States
CATEGORIES:Grade School,High School,Middle School,Youth Events
ATTACH;FMTTYPE=image/png:https://www.laruelibrary.org/wp-content/uploads/2025/01/magic.png
ORGANIZER;CN="LaRue Public Library":MAILTO:info@laruelibrary.org
END:VEVENT
BEGIN:VEVENT
DTSTART;TZID=America/Kentucky/Louisville:20250224T100000
DTEND;TZID=America/Kentucky/Louisville:20250224T100000
DTSTAMP:20260423T172317
CREATED:20250117T204105Z
LAST-MODIFIED:20250117T204105Z
UID:10001693-1740391200-1740391200@www.laruelibrary.org
SUMMARY:Stretch and Shine
DESCRIPTION:Join us for Stretch and Shine and start your day off right! \nFree low-impact exercise class beginning at 10:00am. Let’s get those muscles moving! \nThis program is designed for Adults.
URL:https://www.laruelibrary.org/event/stretch-and-shine-48/
LOCATION:LaRue County Public Library\, 215 Lincoln Drive\, Hodgenville\, KY\, 42748\, United States
CATEGORIES:Adult,Adult Events
ATTACH;FMTTYPE=image/png:https://www.laruelibrary.org/wp-content/uploads/2023/03/Stretch-Adult-Event-1.png
ORGANIZER;CN="LaRue Public Library":MAILTO:info@laruelibrary.org
END:VEVENT
BEGIN:VEVENT
DTSTART;TZID=America/Kentucky/Louisville:20250224T140000
DTEND;TZID=America/Kentucky/Louisville:20250224T140000
DTSTAMP:20260423T172317
CREATED:20250117T204236Z
LAST-MODIFIED:20250117T204236Z
UID:10001694-1740405600-1740405600@www.laruelibrary.org
SUMMARY:Community Games
DESCRIPTION:Come and have some game day fun here at the library at 2:00pm! \nBring your friends\, family\, a board game (or choose one of ours) and enjoy!
URL:https://www.laruelibrary.org/event/community-games-42/
LOCATION:LaRue County Public Library\, 215 Lincoln Drive\, Hodgenville\, KY\, 42748\, United States
CATEGORIES:Adult,Adult Events,Everyone,Family,Youth Events
ATTACH;FMTTYPE=image/jpeg:https://www.laruelibrary.org/wp-content/uploads/2023/07/bg2.jpg
ORGANIZER;CN="LaRue Public Library":MAILTO:info@laruelibrary.org
END:VEVENT
BEGIN:VEVENT
DTSTART;TZID=America/Kentucky/Louisville:20250224T153000
DTEND;TZID=America/Kentucky/Louisville:20250224T153000
DTSTAMP:20260423T172317
CREATED:20250117T215146Z
LAST-MODIFIED:20250117T215146Z
UID:10001710-1740411000-1740411000@www.laruelibrary.org
SUMMARY:Windsocks
DESCRIPTION:Join us on Monday\, February 24th at 3:30pm to make windsocks! \nFamily event. No sign up needed
URL:https://www.laruelibrary.org/event/windsocks/
LOCATION:LaRue County Public Library\, 215 Lincoln Drive\, Hodgenville\, KY\, 42748\, United States
CATEGORIES:Family,Youth Events
ATTACH;FMTTYPE=image/png:https://www.laruelibrary.org/wp-content/uploads/2025/01/wind-socks.png
ORGANIZER;CN="LaRue Public Library":MAILTO:info@laruelibrary.org
END:VEVENT
BEGIN:VEVENT
DTSTART;TZID=America/Kentucky/Louisville:20250225T110000
DTEND;TZID=America/Kentucky/Louisville:20250225T110000
DTSTAMP:20260423T172317
CREATED:20250117T213956Z
LAST-MODIFIED:20250117T213956Z
UID:10001708-1740481200-1740481200@www.laruelibrary.org
SUMMARY:Story Time
DESCRIPTION:Join us for a fun and fantastic story and a craft on this Tuesday at 11:00 AM!\n \nStory time is for children under the ages of 5. \nThis is a great opportunity to grow young readers. We make learning fun by introducing children to books\, love of reading\, and songs! We can’t wait to see you!
URL:https://www.laruelibrary.org/event/story-time-114/2025-02-25/
LOCATION:LaRue County Public Library\, 215 Lincoln Drive\, Hodgenville\, KY\, 42748\, United States
CATEGORIES:Age Under 5 Years Old,Youth Events
ATTACH;FMTTYPE=image/png:https://www.laruelibrary.org/wp-content/uploads/2023/10/NST.0-1.png
ORGANIZER;CN="LaRue Public Library":MAILTO:info@laruelibrary.org
END:VEVENT
BEGIN:VEVENT
DTSTART;TZID=America/Kentucky/Louisville:20250225T163000
DTEND;TZID=America/Kentucky/Louisville:20250225T173000
DTSTAMP:20260423T172317
CREATED:20250210T212855Z
LAST-MODIFIED:20250210T212855Z
UID:10001717-1740501000-1740504600@www.laruelibrary.org
SUMMARY:LCPL Board Meeting
DESCRIPTION:A Special Meeting of the LCPL Board will take place on Tuesday\, February 25th at 4:30pm. \n 
URL:https://www.laruelibrary.org/event/lcpl-board-meeting-3/
LOCATION:LaRue County Public Library\, 215 Lincoln Drive\, Hodgenville\, KY\, 42748\, United States
CATEGORIES:Adult,Adult Events
ATTACH;FMTTYPE=image/jpeg:https://www.laruelibrary.org/wp-content/uploads/2023/07/brm2.jpg
ORGANIZER;CN="LaRue Public Library":MAILTO:info@laruelibrary.org
END:VEVENT
BEGIN:VEVENT
DTSTART;TZID=America/Kentucky/Louisville:20250226T153000
DTEND;TZID=America/Kentucky/Louisville:20250226T153000
DTSTAMP:20260423T172317
CREATED:20250117T214616Z
LAST-MODIFIED:20250117T214616Z
UID:10001709-1740583800-1740583800@www.laruelibrary.org
SUMMARY:No-Bake Recipe: Fruit Pizzas
DESCRIPTION:Hey\, bakers! Looking for a new\, easy but delicious no-bake recipe? Families can join us on Wednesday\, February 26th at 3:30 PM to make a delicious fruit pizza! \nIf you and your family are interested in attending\, call the library to register! \nGrade School\, Middle School\, Teens/High School.
URL:https://www.laruelibrary.org/event/no-bake-recipe-fruit-pizzas/
LOCATION:LaRue County Public Library\, 215 Lincoln Drive\, Hodgenville\, KY\, 42748\, United States
CATEGORIES:Grade School,High School,Middle School,Youth Events
ATTACH;FMTTYPE=image/png:https://www.laruelibrary.org/wp-content/uploads/2025/01/fruit-pizza.png
ORGANIZER;CN="LaRue Public Library":MAILTO:info@laruelibrary.org
END:VEVENT
BEGIN:VEVENT
DTSTART;TZID=America/Kentucky/Louisville:20250226T180000
DTEND;TZID=America/Kentucky/Louisville:20250226T180000
DTSTAMP:20260423T172317
CREATED:20250117T210657Z
LAST-MODIFIED:20250117T210657Z
UID:10001702-1740592800-1740592800@www.laruelibrary.org
SUMMARY:Offsite Book Club
DESCRIPTION:We will be meeting at Top Hat Tavern for Adult Book Club on Wednesday\, February 26th at 6:00pm! \nAdults only.
URL:https://www.laruelibrary.org/event/offsite-book-club-5/
LOCATION:LaRue County Public Library\, 215 Lincoln Drive\, Hodgenville\, KY\, 42748\, United States
CATEGORIES:Adult,Adult Events
ATTACH;FMTTYPE=image/png:https://www.laruelibrary.org/wp-content/uploads/2024/09/Offsite-Book-Club.png
ORGANIZER;CN="LaRue Public Library":MAILTO:info@laruelibrary.org
END:VEVENT
BEGIN:VEVENT
DTSTART;TZID=America/Kentucky/Louisville:20250227T100000
DTEND;TZID=America/Kentucky/Louisville:20250227T100000
DTSTAMP:20260423T172317
CREATED:20250117T210911Z
LAST-MODIFIED:20250117T210911Z
UID:10001703-1740650400-1740650400@www.laruelibrary.org
SUMMARY:Coffee for Veterans
DESCRIPTION:Join us on Thursday\, February 27th at 10:00AM for Coffee for Veterans – spouses and partners are welcome. \nOur special guest speaker to be announced.
URL:https://www.laruelibrary.org/event/coffee-for-veterans-13/
LOCATION:LaRue County Public Library\, 215 Lincoln Drive\, Hodgenville\, KY\, 42748\, United States
CATEGORIES:Adult,Adult Events
ATTACH;FMTTYPE=image/png:https://www.laruelibrary.org/wp-content/uploads/2024/01/vetcoffee.png
ORGANIZER;CN="LaRue Public Library":MAILTO:info@laruelibrary.org
END:VEVENT
BEGIN:VEVENT
DTSTART;TZID=America/Kentucky/Louisville:20250227T173000
DTEND;TZID=America/Kentucky/Louisville:20250227T173000
DTSTAMP:20260423T172317
CREATED:20250117T211331Z
LAST-MODIFIED:20250117T211331Z
UID:10001704-1740677400-1740677400@www.laruelibrary.org
SUMMARY:Written in the Stars
DESCRIPTION:Join us on Thursday\, February 27th @ 5:30pm to discuss and learn about the different parts of Astrology! We will be looking at natal charts\, astrocartography\, synastry\, and chart rectification. \nEveryone welcome! No sign up needed
URL:https://www.laruelibrary.org/event/written-in-the-stars/
LOCATION:LaRue County Public Library\, 215 Lincoln Drive\, Hodgenville\, KY\, 42748\, United States
CATEGORIES:Adult,Adult Events,Everyone,Family,Youth Events
ATTACH;FMTTYPE=image/png:https://www.laruelibrary.org/wp-content/uploads/2025/01/written.png
ORGANIZER;CN="LaRue Public Library":MAILTO:info@laruelibrary.org
END:VEVENT
BEGIN:VEVENT
DTSTART;TZID=America/Kentucky/Louisville:20250228T093000
DTEND;TZID=America/Kentucky/Louisville:20250228T103000
DTSTAMP:20260423T172317
CREATED:20240820T160320Z
LAST-MODIFIED:20240926T143906Z
UID:10001468-1740735000-1740738600@www.laruelibrary.org
SUMMARY:Tiny Hawks Story Time
DESCRIPTION:Join us for a very special Tiny Hawks Story Time from 9:30-10:30am with assistance from Ellen Shelton! Each session\, children will receive a free educational take-home item/supplies (provided by the ALES Family Resource Center). \nThese story times/sessions will take place at LaRue County Public Library on Friday September 27th\, October 25th\, November 22nd\, January 31st\, February 28th\, March 28th\, and April 25th. These story times/sessions are geared toward preschool age children (2-5 years old) and their caregiver(s). \nSign-up is NOT required. \nFor more info\, contact: \nTaylor Metcalf; LCPL Children’s Librarian @ 358-3851 \nEllen Shelton; ALES FRC Coordinator @ 358-7130
URL:https://www.laruelibrary.org/event/tiny-hawks-story-time-with-ellen-shelton/2025-02-28/
LOCATION:LaRue County Public Library\, 215 Lincoln Drive\, Hodgenville\, KY\, 42748\, United States
CATEGORIES:Age Under 5 Years Old,Youth Events
ATTACH;FMTTYPE=image/png:https://www.laruelibrary.org/wp-content/uploads/2024/08/Tiny-Hawks.png
ORGANIZER;CN="LaRue Public Library":MAILTO:info@laruelibrary.org
END:VEVENT
END:VCALENDAR