BEGIN:VCALENDAR
VERSION:2.0
PRODID:-//LaRue County Public Library - ECPv6.15.20//NONSGML v1.0//EN
CALSCALE:GREGORIAN
METHOD:PUBLISH
X-WR-CALNAME:LaRue County Public Library
X-ORIGINAL-URL:https://www.laruelibrary.org
X-WR-CALDESC:Events for LaRue County Public Library
REFRESH-INTERVAL;VALUE=DURATION:PT1H
X-Robots-Tag:noindex
X-PUBLISHED-TTL:PT1H
BEGIN:VTIMEZONE
TZID:America/Kentucky/Louisville
BEGIN:DAYLIGHT
TZOFFSETFROM:-0500
TZOFFSETTO:-0400
TZNAME:EDT
DTSTART:20240310T070000
END:DAYLIGHT
BEGIN:STANDARD
TZOFFSETFROM:-0400
TZOFFSETTO:-0500
TZNAME:EST
DTSTART:20241103T060000
END:STANDARD
BEGIN:DAYLIGHT
TZOFFSETFROM:-0500
TZOFFSETTO:-0400
TZNAME:EDT
DTSTART:20250309T070000
END:DAYLIGHT
BEGIN:STANDARD
TZOFFSETFROM:-0400
TZOFFSETTO:-0500
TZNAME:EST
DTSTART:20251102T060000
END:STANDARD
BEGIN:DAYLIGHT
TZOFFSETFROM:-0500
TZOFFSETTO:-0400
TZNAME:EDT
DTSTART:20260308T070000
END:DAYLIGHT
BEGIN:STANDARD
TZOFFSETFROM:-0400
TZOFFSETTO:-0500
TZNAME:EST
DTSTART:20261101T060000
END:STANDARD
END:VTIMEZONE
BEGIN:VEVENT
DTSTART;TZID=America/Kentucky/Louisville:20250306T173000
DTEND;TZID=America/Kentucky/Louisville:20250306T173000
DTSTAMP:20260424T003016
CREATED:20250218T232410Z
LAST-MODIFIED:20250218T232410Z
UID:10001725-1741282200-1741282200@www.laruelibrary.org
SUMMARY:na Skylark Irish Trio
DESCRIPTION:na Skylark\, which loosely means “the Skylarks” in Irish\, is a Central-Kentucky-based trio that shares the rich beauty of ancient traditional Celtic music through voice\, Irish harp\, Irish uilleann pipes\, fiddle\, Irish whistles\, flutes\, bodhran\, and a little Appalachian mountain dulcimer for good measure.  \nWherever this little trio goes\, na Skylark charms and moves audiences in a big way. The group’s “Old Ceol” recording was named one of the best new recordings of 2017 by the Celtic Connections radio show. na Skylark can also be heard on various Celtic and folk podcasts\, and in live venues and festivals around the Eastern half of the U.S. \nEveryone is welcome to join us on Thursday\, March 6th at 5:30 PM. 
URL:https://www.laruelibrary.org/event/na-skylark-irish-trio/
LOCATION:LaRue County Public Library\, 215 Lincoln Drive\, Hodgenville\, KY\, 42748\, United States
CATEGORIES:Everyone
ATTACH;FMTTYPE=image/png:https://www.laruelibrary.org/wp-content/uploads/2025/02/Screen-Shot-2025-02-18-at-6.23.53-PM.png
END:VEVENT
BEGIN:VEVENT
DTSTART;TZID=America/Kentucky/Louisville:20250307T130000
DTEND;TZID=America/Kentucky/Louisville:20250307T130000
DTSTAMP:20260424T003016
CREATED:20250222T151441Z
LAST-MODIFIED:20250222T151441Z
UID:10001734-1741352400-1741352400@www.laruelibrary.org
SUMMARY:Sensory Bins
DESCRIPTION:Come explore our Spring-themed sensory bins\, designed for curious little hands! Featuring colorful\, nature-inspired materials like flowers\, grass\, and soft textures\, these bins provide a hands-on way for Pre-K children to engage their senses and celebrate the season. Perfect for promoting creativity and early learning through play!
URL:https://www.laruelibrary.org/event/sensory-bins/
LOCATION:LaRue County Public Library\, 215 Lincoln Drive\, Hodgenville\, KY\, 42748\, United States
CATEGORIES:Age Under 5 Years Old
ATTACH;FMTTYPE=image/png:https://www.laruelibrary.org/wp-content/uploads/2025/02/Screenshot-2025-02-22-at-10.14.11 AM.png
END:VEVENT
BEGIN:VEVENT
DTSTART;TZID=America/Kentucky/Louisville:20250307T130000
DTEND;TZID=America/Kentucky/Louisville:20250307T163000
DTSTAMP:20260424T003016
CREATED:20250218T232556Z
LAST-MODIFIED:20250218T232556Z
UID:10001726-1741352400-1741365000@www.laruelibrary.org
SUMMARY:Craft Supply Swap
DESCRIPTION:Time to purge some of that craft stuff you aren’t using and pick up some new supplies while you’re at it. Swap some craft goods on Friday\, March 7th from 1:00 PM – 4:30 PM.
URL:https://www.laruelibrary.org/event/craft-supply-swap-2/
LOCATION:LaRue County Public Library\, 215 Lincoln Drive\, Hodgenville\, KY\, 42748\, United States
CATEGORIES:Everyone
ATTACH;FMTTYPE=image/png:https://www.laruelibrary.org/wp-content/uploads/2025/02/Screen-Shot-2025-02-18-at-6.25.37-PM.png
END:VEVENT
BEGIN:VEVENT
DTSTART;TZID=America/Kentucky/Louisville:20250307T140000
DTEND;TZID=America/Kentucky/Louisville:20250307T140000
DTSTAMP:20260424T003016
CREATED:20250222T152429Z
LAST-MODIFIED:20250222T152439Z
UID:10001735-1741356000-1741356000@www.laruelibrary.org
SUMMARY:Magic the Gathering
DESCRIPTION:Join us for a Magic: The Gathering event at the library\, where kids and teens from elementary school through high school can dive into the world of strategy\, fantasy\, and fun! Whether you’re a beginner or an experienced player\, come explore new decks\, challenge friends\, and discover the magic of this exciting card game! See you on Friday\, March 7th at 2 PM!
URL:https://www.laruelibrary.org/event/magic-the-gathering-2/
LOCATION:LaRue County Public Library\, 215 Lincoln Drive\, Hodgenville\, KY\, 42748\, United States
CATEGORIES:Grade School,High School,Middle School
ATTACH;FMTTYPE=image/png:https://www.laruelibrary.org/wp-content/uploads/2025/02/Screenshot-2025-02-22-at-10.24.08 AM.png
END:VEVENT
BEGIN:VEVENT
DTSTART;TZID=America/Kentucky/Louisville:20250310T100000
DTEND;TZID=America/Kentucky/Louisville:20250310T100000
DTSTAMP:20260424T003016
CREATED:20250218T224156Z
LAST-MODIFIED:20250218T224156Z
UID:10001719-1741600800-1741600800@www.laruelibrary.org
SUMMARY:Stretch and Shine
DESCRIPTION:Join us for Stretch and Shine and start your day off right! \nFree low-impact exercise class beginning at 10:00am. Let’s get those muscles moving! \nThis program is designed for Adults.
URL:https://www.laruelibrary.org/event/stretch-and-shine-49/2025-03-10/
LOCATION:LaRue County Public Library\, 215 Lincoln Drive\, Hodgenville\, KY\, 42748\, United States
CATEGORIES:Adult,Adult Events
ATTACH;FMTTYPE=image/png:https://www.laruelibrary.org/wp-content/uploads/2023/03/Stretch-Adult-Event-1.png
END:VEVENT
BEGIN:VEVENT
DTSTART;TZID=America/Kentucky/Louisville:20250310T140000
DTEND;TZID=America/Kentucky/Louisville:20250310T140000
DTSTAMP:20260424T003016
CREATED:20250218T224559Z
LAST-MODIFIED:20250218T224559Z
UID:10001721-1741615200-1741615200@www.laruelibrary.org
SUMMARY:Community Games
DESCRIPTION:Come and have some game day fun here at the library at 2:00pm! \nBring your friends\, family\, a board game (or choose one of ours) and enjoy!
URL:https://www.laruelibrary.org/event/community-games-43/2025-03-10/
LOCATION:LaRue County Public Library\, 215 Lincoln Drive\, Hodgenville\, KY\, 42748\, United States
CATEGORIES:Everyone
ATTACH;FMTTYPE=image/jpeg:https://www.laruelibrary.org/wp-content/uploads/2025/01/game.jpeg
END:VEVENT
BEGIN:VEVENT
DTSTART;TZID=America/Kentucky/Louisville:20250311T100000
DTEND;TZID=America/Kentucky/Louisville:20250311T113000
DTSTAMP:20260424T003016
CREATED:20250222T154159Z
LAST-MODIFIED:20250222T154159Z
UID:10001742-1741687200-1741692600@www.laruelibrary.org
SUMMARY:Kynect Table
DESCRIPTION:What can Kynect do for you? Ginny Whitt will be set up in our lobby on Tuesday\, March 11th from 10 AM until 11:30 AM. Not sure where to start? Ginny can help you! Snap benefits\, Medicaid\, Kentucky Marketplace Insurance\, and more. Let her help you avoid those phone calls and red tape.
URL:https://www.laruelibrary.org/event/kynect-table-2/
LOCATION:LaRue County Public Library\, 215 Lincoln Drive\, Hodgenville\, KY\, 42748\, United States
CATEGORIES:Adult,Adult Events
ATTACH;FMTTYPE=image/png:https://www.laruelibrary.org/wp-content/uploads/2023/08/kynect2.png
END:VEVENT
BEGIN:VEVENT
DTSTART;TZID=America/Kentucky/Louisville:20250311T110000
DTEND;TZID=America/Kentucky/Louisville:20250311T110000
DTSTAMP:20260424T003016
CREATED:20250222T150230Z
LAST-MODIFIED:20250222T152916Z
UID:10001738-1741690800-1741690800@www.laruelibrary.org
SUMMARY:Story Time
DESCRIPTION:  \nJoin us for a fun and fantastic story and a craft on this Tuesday at 11:00 AM or on Thursday at 1:30 PM!\n \nStory time is for children under the ages of 5. \nThis is a great opportunity to grow young readers. We make learning fun by introducing children to books\, love of reading\, and songs! We can’t wait to see you!
URL:https://www.laruelibrary.org/event/story-time-115/2025-03-11/
LOCATION:LaRue County Public Library\, 215 Lincoln Drive\, Hodgenville\, KY\, 42748\, United States
CATEGORIES:Age Under 5 Years Old
ATTACH;FMTTYPE=image/png:https://www.laruelibrary.org/wp-content/uploads/2023/10/NST.0-1.png
END:VEVENT
BEGIN:VEVENT
DTSTART;TZID=America/Kentucky/Louisville:20250311T153000
DTEND;TZID=America/Kentucky/Louisville:20250311T153000
DTSTAMP:20260424T003016
CREATED:20250222T152715Z
LAST-MODIFIED:20250222T152715Z
UID:10001736-1741707000-1741707000@www.laruelibrary.org
SUMMARY:Make Cat Toys
DESCRIPTION:Get creative and crafty at our Cat Toy Making workshop on Tuesday\, March 11th at 3:30 PM! Middle school and teen students are invited to join us for a fun hands-on session where you’ll design and create toys for cats. All supplies are provided—just bring your imagination and love for animals! This program requires pre-registration. To register\, call the library.
URL:https://www.laruelibrary.org/event/make-cat-toys/
LOCATION:LaRue County Public Library\, 215 Lincoln Drive\, Hodgenville\, KY\, 42748\, United States
CATEGORIES:High School,Middle School
ATTACH;FMTTYPE=image/png:https://www.laruelibrary.org/wp-content/uploads/2025/02/Screenshot-2025-02-22-at-10.26.52 AM.png
END:VEVENT
BEGIN:VEVENT
DTSTART;TZID=America/Kentucky/Louisville:20250311T163000
DTEND;TZID=America/Kentucky/Louisville:20250311T163000
DTSTAMP:20260424T003016
CREATED:20250218T233629Z
LAST-MODIFIED:20250218T233629Z
UID:10001727-1741710600-1741710600@www.laruelibrary.org
SUMMARY:Financial Wellness
DESCRIPTION:Take control of your financial future! A first step is to join us and Abound Credit Union for their financial wellness workshop on Tuesday\, March 11th at 4:30 PM. This no-cost\, interactive workshop uses game play to empower you with the tips you need to set financial goals and be a smarter financial consumer. Top that off with resources you need to achieve your goals in a fun setting\, and you’re on your way to better financial health. No pre-registration is required.
URL:https://www.laruelibrary.org/event/financial-wellness-2/
LOCATION:LaRue County Public Library\, 215 Lincoln Drive\, Hodgenville\, KY\, 42748\, United States
CATEGORIES:Everyone
ATTACH;FMTTYPE=image/png:https://www.laruelibrary.org/wp-content/uploads/2025/02/Screen-Shot-2025-02-18-at-6.35.50-PM.png
END:VEVENT
BEGIN:VEVENT
DTSTART;TZID=America/Kentucky/Louisville:20250313T170000
DTEND;TZID=America/Kentucky/Louisville:20250313T170000
DTSTAMP:20260424T003016
CREATED:20250218T234031Z
LAST-MODIFIED:20250218T234031Z
UID:10001728-1741885200-1741885200@www.laruelibrary.org
SUMMARY:Calligraphy
DESCRIPTION:Are you interested in learning the art and craft of calligraphy? Join our class on Thursday\, March 13th at 5 PM to learn the basics of the skill. This class is a second offering of the class hosted in February. Please refrain from signing up if you were in attendance in February at the last class. Interested teens and adults should call the library to register.
URL:https://www.laruelibrary.org/event/calligraphy-2/
LOCATION:LaRue County Public Library\, 215 Lincoln Drive\, Hodgenville\, KY\, 42748\, United States
CATEGORIES:Adult Events,High School,Middle School
ATTACH;FMTTYPE=image/png:https://www.laruelibrary.org/wp-content/uploads/2025/02/Screen-Shot-2025-02-18-at-6.39.13-PM.png
END:VEVENT
BEGIN:VEVENT
DTSTART;TZID=America/Kentucky/Louisville:20250314T140000
DTEND;TZID=America/Kentucky/Louisville:20250314T140000
DTSTAMP:20260424T003016
CREATED:20250222T153230Z
LAST-MODIFIED:20250222T153230Z
UID:10001739-1741960800-1741960800@www.laruelibrary.org
SUMMARY:Lego Create
DESCRIPTION:Unleash your creativity at our Lego: Free Play & Create event on Friday\, March 14th at 2 PM! Families are invited to come together and build\, design\, and explore with a variety of Lego sets. Whether you’re a master builder or just starting out\, it’s a fun\, hands-on experience for all ages!
URL:https://www.laruelibrary.org/event/lego-create/
LOCATION:LaRue County Public Library\, 215 Lincoln Drive\, Hodgenville\, KY\, 42748\, United States
CATEGORIES:Family
ATTACH;FMTTYPE=image/png:https://www.laruelibrary.org/wp-content/uploads/2025/02/Screenshot-2025-02-22-at-10.30.59 AM.png
END:VEVENT
BEGIN:VEVENT
DTSTART;TZID=America/Kentucky/Louisville:20250314T150000
DTEND;TZID=America/Kentucky/Louisville:20250314T150000
DTSTAMP:20260424T003016
CREATED:20250222T153552Z
LAST-MODIFIED:20250222T153552Z
UID:10001740-1741964400-1741964400@www.laruelibrary.org
SUMMARY:Dot Painted Vases
DESCRIPTION:Join us on Friday\, March 14th at 3 PM for a relaxing and creative session of Dot Painted Vases! This program\, designed for teens and adults\, will guide you through the art of dot painting to decorate your own unique vase. All materials are provided\, but spots are limited\, so be sure to preregister to secure your place in this fun and colorful workshop!
URL:https://www.laruelibrary.org/event/dot-painted-vases/
LOCATION:LaRue County Public Library\, 215 Lincoln Drive\, Hodgenville\, KY\, 42748\, United States
ATTACH;FMTTYPE=image/png:https://www.laruelibrary.org/wp-content/uploads/2025/02/Screenshot-2025-02-22-at-10.35.24 AM.png
END:VEVENT
BEGIN:VEVENT
DTSTART;TZID=America/Kentucky/Louisville:20250314T150000
DTEND;TZID=America/Kentucky/Louisville:20250314T163000
DTSTAMP:20260424T003016
CREATED:20250222T153844Z
LAST-MODIFIED:20250222T153844Z
UID:10001741-1741964400-1741969800@www.laruelibrary.org
SUMMARY:Girl Scouts Table
DESCRIPTION:Let’s celebrate Girl Scout Week on Friday\, March 14th from 3 PM to 4:30 PM. Stop by the library and see what Girl Scouts can do for your child. There are so many opportunities available: community service\, crafts\, swimming\, kayaking\, caring for animals\, and so much more. Girl Scouts also needs adult volunteers. Volunteer with Girl Scouts\, and rediscover the wonder and possibilities of childhood.
URL:https://www.laruelibrary.org/event/girl-scouts-table/
LOCATION:LaRue County Public Library\, 215 Lincoln Drive\, Hodgenville\, KY\, 42748\, United States
ATTACH;FMTTYPE=image/png:https://www.laruelibrary.org/wp-content/uploads/2025/02/Screenshot-2025-02-22-at-10.36.18 AM.png
END:VEVENT
BEGIN:VEVENT
DTSTART;TZID=America/Kentucky/Louisville:20250317T100000
DTEND;TZID=America/Kentucky/Louisville:20250317T100000
DTSTAMP:20260424T003016
CREATED:20250227T164149Z
LAST-MODIFIED:20250227T164149Z
UID:10001743-1742205600-1742205600@www.laruelibrary.org
SUMMARY:Stretch and Shine
DESCRIPTION:Join us for Stretch and Shine and start your day off right! \nFree low-impact exercise class beginning at 10:00am. Let’s get those muscles moving! \nThis program is designed for Adults.
URL:https://www.laruelibrary.org/event/stretch-and-shine-50/2025-03-17/
LOCATION:LaRue County Public Library\, 215 Lincoln Drive\, Hodgenville\, KY\, 42748\, United States
CATEGORIES:Adult,Adult Events
ATTACH;FMTTYPE=image/png:https://www.laruelibrary.org/wp-content/uploads/2023/03/Stretch-Adult-Event-1.png
ORGANIZER;CN="LaRue Public Library":MAILTO:info@laruelibrary.org
END:VEVENT
BEGIN:VEVENT
DTSTART;TZID=America/Kentucky/Louisville:20250317T140000
DTEND;TZID=America/Kentucky/Louisville:20250317T140000
DTSTAMP:20260424T003016
CREATED:20250227T164406Z
LAST-MODIFIED:20250227T164406Z
UID:10001746-1742220000-1742220000@www.laruelibrary.org
SUMMARY:Community Games
DESCRIPTION:Come and have some game day fun here at the library at 2:00pm! \nBring your friends\, family\, a board game (or choose one of ours) and enjoy!
URL:https://www.laruelibrary.org/event/community-games-44/2025-03-17/
LOCATION:LaRue County Public Library\, 215 Lincoln Drive\, Hodgenville\, KY\, 42748\, United States
CATEGORIES:Adult,Adult Events,Everyone,Family,Youth Events
ATTACH;FMTTYPE=image/jpeg:https://www.laruelibrary.org/wp-content/uploads/2023/07/bg2.jpg
ORGANIZER;CN="LaRue Public Library":MAILTO:info@laruelibrary.org
END:VEVENT
BEGIN:VEVENT
DTSTART;TZID=America/Kentucky/Louisville:20250317T153000
DTEND;TZID=America/Kentucky/Louisville:20250317T153000
DTSTAMP:20260424T003016
CREATED:20250227T172328Z
LAST-MODIFIED:20250227T172328Z
UID:10001759-1742225400-1742225400@www.laruelibrary.org
SUMMARY:Library Caterpillar
DESCRIPTION:Join us on Monday\, March 17th at 3:45pm to add YOUR name to our library caterpillar chain! \nThis is a Family event. No registration needed.
URL:https://www.laruelibrary.org/event/library-caterpillar/
LOCATION:LaRue County Public Library\, 215 Lincoln Drive\, Hodgenville\, KY\, 42748\, United States
CATEGORIES:Family,Youth Events
ATTACH;FMTTYPE=image/png:https://www.laruelibrary.org/wp-content/uploads/2025/02/caterpillar.png
ORGANIZER;CN="LaRue Public Library":MAILTO:info@laruelibrary.org
END:VEVENT
BEGIN:VEVENT
DTSTART;TZID=America/Kentucky/Louisville:20250318T100000
DTEND;TZID=America/Kentucky/Louisville:20250318T100000
DTSTAMP:20260424T003016
CREATED:20250227T164733Z
LAST-MODIFIED:20250227T164733Z
UID:10001749-1742292000-1742292000@www.laruelibrary.org
SUMMARY:BINGOcize
DESCRIPTION:Join us on Tuesday\, March 18th at 10:00am for a health promotion program combining Bingo! with inclusive exercises for all! \nThis class is meant for Adults.
URL:https://www.laruelibrary.org/event/bingocize-6/
LOCATION:LaRue County Public Library\, 215 Lincoln Drive\, Hodgenville\, KY\, 42748\, United States
CATEGORIES:Adult,Adult Events
ATTACH;FMTTYPE=image/png:https://www.laruelibrary.org/wp-content/uploads/2024/11/bingo.png
ORGANIZER;CN="LaRue Public Library":MAILTO:info@laruelibrary.org
END:VEVENT
BEGIN:VEVENT
DTSTART;TZID=America/Kentucky/Louisville:20250318T110000
DTEND;TZID=America/Kentucky/Louisville:20250318T110000
DTSTAMP:20260424T003016
CREATED:20250227T164910Z
LAST-MODIFIED:20250227T164910Z
UID:10001750-1742295600-1742295600@www.laruelibrary.org
SUMMARY:Tai Chi
DESCRIPTION:Join us on March 18th @ 11:15am to practice Tai Chi. \nTai chi is a practice that involves a series of slow gentle movements and physical postures\, a meditative state of mind\, and controlled breathing. It originated as an ancient martial art in China and\, over time\, has become more focused on health promotion and rehabilitation. \nAdults Only.
URL:https://www.laruelibrary.org/event/tai-chi-3/
LOCATION:LaRue County Public Library\, 215 Lincoln Drive\, Hodgenville\, KY\, 42748\, United States
CATEGORIES:Adult,Adult Events
ATTACH;FMTTYPE=image/png:https://www.laruelibrary.org/wp-content/uploads/2024/12/tai-chi.png
ORGANIZER;CN="LaRue Public Library":MAILTO:info@laruelibrary.org
END:VEVENT
BEGIN:VEVENT
DTSTART;TZID=America/Kentucky/Louisville:20250318T110000
DTEND;TZID=America/Kentucky/Louisville:20250318T110000
DTSTAMP:20260424T003016
CREATED:20250227T174926Z
LAST-MODIFIED:20250227T174926Z
UID:10001762-1742295600-1742295600@www.laruelibrary.org
SUMMARY:Story Time
DESCRIPTION:Join us for a fun and fantastic story and a craft on Tuesday at 11:00 AM and on Thursday at 1:30 PM! \nStory time is for children under the ages of 5. \nThis is a great opportunity to grow young readers. We make learning fun by introducing children to books\, love of reading\, and songs! We can’t wait to see you!
URL:https://www.laruelibrary.org/event/story-time-116/2025-03-18/
LOCATION:LaRue County Public Library\, 215 Lincoln Drive\, Hodgenville\, KY\, 42748\, United States
CATEGORIES:Age Under 5 Years Old,Youth Events
ATTACH;FMTTYPE=image/png:https://www.laruelibrary.org/wp-content/uploads/2023/10/NST.0-1.png
ORGANIZER;CN="LaRue Public Library":MAILTO:info@laruelibrary.org
END:VEVENT
BEGIN:VEVENT
DTSTART;TZID=America/Kentucky/Louisville:20250318T150000
DTEND;TZID=America/Kentucky/Louisville:20250318T150000
DTSTAMP:20260424T003016
CREATED:20250227T170633Z
LAST-MODIFIED:20250227T170633Z
UID:10001755-1742310000-1742310000@www.laruelibrary.org
SUMMARY:Shabby Chic Easter Eggs
DESCRIPTION:Join us on Tuesday\, March 18th @ 3:00pm to make Easter eggs! \nClass limit of 24. Call to register. Teens & Adults.
URL:https://www.laruelibrary.org/event/shabby-chic-easter-eggs/
LOCATION:LaRue County Public Library\, 215 Lincoln Drive\, Hodgenville\, KY\, 42748\, United States
CATEGORIES:Adult,Adult Events,High School,Youth Events
ATTACH;FMTTYPE=image/png:https://www.laruelibrary.org/wp-content/uploads/2025/02/shabby.png
ORGANIZER;CN="LaRue Public Library":MAILTO:info@laruelibrary.org
END:VEVENT
BEGIN:VEVENT
DTSTART;TZID=America/Kentucky/Louisville:20250320T123000
DTEND;TZID=America/Kentucky/Louisville:20250320T173000
DTSTAMP:20260424T003016
CREATED:20250227T165215Z
LAST-MODIFIED:20250227T165215Z
UID:10001751-1742473800-1742491800@www.laruelibrary.org
SUMMARY:Bloodmobile
DESCRIPTION:Come down to the Library on Thursday\, March 20th from 12:30pm-5:30pm to donate blood to the American Red Cross. \nHelp do your part! Schedule appointment now to save a life at redcross.org. \nYou will be entered for one of two gift certificates\, courtesy of the Friends of the Library! \nThis program is designed for Adults.
URL:https://www.laruelibrary.org/event/bloodmobile-12/
LOCATION:LaRue County Public Library\, 215 Lincoln Drive\, Hodgenville\, KY\, 42748\, United States
CATEGORIES:Adult,Adult Events,High School,Youth Events
ATTACH;FMTTYPE=image/png:https://www.laruelibrary.org/wp-content/uploads/2024/02/Blddrv.png
ORGANIZER;CN="LaRue Public Library":MAILTO:info@laruelibrary.org
END:VEVENT
BEGIN:VEVENT
DTSTART;TZID=America/Kentucky/Louisville:20250320T133000
DTEND;TZID=America/Kentucky/Louisville:20250320T133000
DTSTAMP:20260424T003016
CREATED:20250227T174926Z
LAST-MODIFIED:20250227T174926Z
UID:10001763-1742477400-1742477400@www.laruelibrary.org
SUMMARY:Story Time
DESCRIPTION:Join us for a fun and fantastic story and a craft on Tuesday at 11:00 AM and on Thursday at 1:30 PM! \nStory time is for children under the ages of 5. \nThis is a great opportunity to grow young readers. We make learning fun by introducing children to books\, love of reading\, and songs! We can’t wait to see you!
URL:https://www.laruelibrary.org/event/story-time-116/2025-03-20/
LOCATION:LaRue County Public Library\, 215 Lincoln Drive\, Hodgenville\, KY\, 42748\, United States
CATEGORIES:Age Under 5 Years Old,Youth Events
ATTACH;FMTTYPE=image/png:https://www.laruelibrary.org/wp-content/uploads/2023/10/NST.0-1.png
ORGANIZER;CN="LaRue Public Library":MAILTO:info@laruelibrary.org
END:VEVENT
BEGIN:VEVENT
DTSTART;TZID=America/Kentucky/Louisville:20250320T153000
DTEND;TZID=America/Kentucky/Louisville:20250320T153000
DTSTAMP:20260424T003016
CREATED:20250227T165701Z
LAST-MODIFIED:20250227T165701Z
UID:10001752-1742484600-1742484600@www.laruelibrary.org
SUMMARY:Book Club
DESCRIPTION:Come join us on Thursday\, March 20th at 3:30pm for Book Club! \nThis is an Adult program.
URL:https://www.laruelibrary.org/event/book-club-22/
LOCATION:LaRue County Public Library\, 215 Lincoln Drive\, Hodgenville\, KY\, 42748\, United States
CATEGORIES:Adult,Adult Events
ATTACH;FMTTYPE=image/jpeg:https://www.laruelibrary.org/wp-content/uploads/2023/07/bc2.jpg
ORGANIZER;CN="LaRue Public Library":MAILTO:info@laruelibrary.org
END:VEVENT
BEGIN:VEVENT
DTSTART;TZID=America/Kentucky/Louisville:20250320T153000
DTEND;TZID=America/Kentucky/Louisville:20250320T153000
DTSTAMP:20260424T003016
CREATED:20250227T172616Z
LAST-MODIFIED:20250227T172616Z
UID:10001760-1742484600-1742484600@www.laruelibrary.org
SUMMARY:Plant Your Mark
DESCRIPTION:Join us on Thursday\, March 20th at 3:30pm to plant seeds\, hear a story\, and decorate a pot! \nThis is a Family event. No registration needed.
URL:https://www.laruelibrary.org/event/plant-your-mark/
LOCATION:LaRue County Public Library\, 215 Lincoln Drive\, Hodgenville\, KY\, 42748\, United States
CATEGORIES:Family,Youth Events
ATTACH;FMTTYPE=image/png:https://www.laruelibrary.org/wp-content/uploads/2025/02/plant.png
ORGANIZER;CN="LaRue Public Library":MAILTO:info@laruelibrary.org
END:VEVENT
BEGIN:VEVENT
DTSTART;TZID=America/Kentucky/Louisville:20250320T163000
DTEND;TZID=America/Kentucky/Louisville:20250320T163000
DTSTAMP:20260424T003016
CREATED:20250227T170015Z
LAST-MODIFIED:20250227T170015Z
UID:10001753-1742488200-1742488200@www.laruelibrary.org
SUMMARY:Board Meeting
DESCRIPTION:LCPL Board Meeting on Thursday\, March 20th at 4:30pm. \nThis is for adults only.
URL:https://www.laruelibrary.org/event/board-meeting-20/
LOCATION:LaRue County Public Library\, 215 Lincoln Drive\, Hodgenville\, KY\, 42748\, United States
CATEGORIES:Adult,Adult Events
ATTACH;FMTTYPE=image/jpeg:https://www.laruelibrary.org/wp-content/uploads/2023/07/brm2.jpg
ORGANIZER;CN="LaRue Public Library":MAILTO:info@laruelibrary.org
END:VEVENT
BEGIN:VEVENT
DTSTART;TZID=America/Kentucky/Louisville:20250321T140000
DTEND;TZID=America/Kentucky/Louisville:20250321T140000
DTSTAMP:20260424T003016
CREATED:20250227T172012Z
LAST-MODIFIED:20250227T172012Z
UID:10001758-1742565600-1742565600@www.laruelibrary.org
SUMMARY:Magic the Gathering Meet
DESCRIPTION:Meet up at the library for a session of Magic the Gathering on Friday\, March 21st at 2:00 PM. \nThis program is for students in elementary through high school. No registration is required.
URL:https://www.laruelibrary.org/event/magic-the-gathering-meet-3/
LOCATION:LaRue County Public Library\, 215 Lincoln Drive\, Hodgenville\, KY\, 42748\, United States
CATEGORIES:Grade School,High School,Middle School,Youth Events
ATTACH;FMTTYPE=image/png:https://www.laruelibrary.org/wp-content/uploads/2025/01/magic.png
ORGANIZER;CN="LaRue Public Library":MAILTO:info@laruelibrary.org
END:VEVENT
BEGIN:VEVENT
DTSTART;TZID=America/Kentucky/Louisville:20250324T100000
DTEND;TZID=America/Kentucky/Louisville:20250324T100000
DTSTAMP:20260424T003016
CREATED:20250227T164149Z
LAST-MODIFIED:20250227T164149Z
UID:10001744-1742810400-1742810400@www.laruelibrary.org
SUMMARY:Stretch and Shine
DESCRIPTION:Join us for Stretch and Shine and start your day off right! \nFree low-impact exercise class beginning at 10:00am. Let’s get those muscles moving! \nThis program is designed for Adults.
URL:https://www.laruelibrary.org/event/stretch-and-shine-50/2025-03-24/
LOCATION:LaRue County Public Library\, 215 Lincoln Drive\, Hodgenville\, KY\, 42748\, United States
CATEGORIES:Adult,Adult Events
ATTACH;FMTTYPE=image/png:https://www.laruelibrary.org/wp-content/uploads/2023/03/Stretch-Adult-Event-1.png
ORGANIZER;CN="LaRue Public Library":MAILTO:info@laruelibrary.org
END:VEVENT
BEGIN:VEVENT
DTSTART;TZID=America/Kentucky/Louisville:20250324T140000
DTEND;TZID=America/Kentucky/Louisville:20250324T140000
DTSTAMP:20260424T003016
CREATED:20250227T164406Z
LAST-MODIFIED:20250227T164406Z
UID:10001747-1742824800-1742824800@www.laruelibrary.org
SUMMARY:Community Games
DESCRIPTION:Come and have some game day fun here at the library at 2:00pm! \nBring your friends\, family\, a board game (or choose one of ours) and enjoy!
URL:https://www.laruelibrary.org/event/community-games-44/2025-03-24/
LOCATION:LaRue County Public Library\, 215 Lincoln Drive\, Hodgenville\, KY\, 42748\, United States
CATEGORIES:Adult,Adult Events,Everyone,Family,Youth Events
ATTACH;FMTTYPE=image/jpeg:https://www.laruelibrary.org/wp-content/uploads/2023/07/bg2.jpg
ORGANIZER;CN="LaRue Public Library":MAILTO:info@laruelibrary.org
END:VEVENT
BEGIN:VEVENT
DTSTART;TZID=America/Kentucky/Louisville:20250325T110000
DTEND;TZID=America/Kentucky/Louisville:20250325T110000
DTSTAMP:20260424T003016
CREATED:20250227T174926Z
LAST-MODIFIED:20250227T174926Z
UID:10001764-1742900400-1742900400@www.laruelibrary.org
SUMMARY:Story Time
DESCRIPTION:Join us for a fun and fantastic story and a craft on Tuesday at 11:00 AM and on Thursday at 1:30 PM! \nStory time is for children under the ages of 5. \nThis is a great opportunity to grow young readers. We make learning fun by introducing children to books\, love of reading\, and songs! We can’t wait to see you!
URL:https://www.laruelibrary.org/event/story-time-116/2025-03-25/
LOCATION:LaRue County Public Library\, 215 Lincoln Drive\, Hodgenville\, KY\, 42748\, United States
CATEGORIES:Age Under 5 Years Old,Youth Events
ATTACH;FMTTYPE=image/png:https://www.laruelibrary.org/wp-content/uploads/2023/10/NST.0-1.png
ORGANIZER;CN="LaRue Public Library":MAILTO:info@laruelibrary.org
END:VEVENT
END:VCALENDAR