BEGIN:VCALENDAR
VERSION:2.0
PRODID:-//LaRue County Public Library - ECPv6.15.20//NONSGML v1.0//EN
CALSCALE:GREGORIAN
METHOD:PUBLISH
X-WR-CALNAME:LaRue County Public Library
X-ORIGINAL-URL:https://www.laruelibrary.org
X-WR-CALDESC:Events for LaRue County Public Library
REFRESH-INTERVAL;VALUE=DURATION:PT1H
X-Robots-Tag:noindex
X-PUBLISHED-TTL:PT1H
BEGIN:VTIMEZONE
TZID:America/Kentucky/Louisville
BEGIN:DAYLIGHT
TZOFFSETFROM:-0500
TZOFFSETTO:-0400
TZNAME:EDT
DTSTART:20240310T070000
END:DAYLIGHT
BEGIN:STANDARD
TZOFFSETFROM:-0400
TZOFFSETTO:-0500
TZNAME:EST
DTSTART:20241103T060000
END:STANDARD
BEGIN:DAYLIGHT
TZOFFSETFROM:-0500
TZOFFSETTO:-0400
TZNAME:EDT
DTSTART:20250309T070000
END:DAYLIGHT
BEGIN:STANDARD
TZOFFSETFROM:-0400
TZOFFSETTO:-0500
TZNAME:EST
DTSTART:20251102T060000
END:STANDARD
BEGIN:DAYLIGHT
TZOFFSETFROM:-0500
TZOFFSETTO:-0400
TZNAME:EDT
DTSTART:20260308T070000
END:DAYLIGHT
BEGIN:STANDARD
TZOFFSETFROM:-0400
TZOFFSETTO:-0500
TZNAME:EST
DTSTART:20261101T060000
END:STANDARD
END:VTIMEZONE
BEGIN:VEVENT
DTSTART;TZID=America/Kentucky/Louisville:20250421T100000
DTEND;TZID=America/Kentucky/Louisville:20250421T100000
DTSTAMP:20260424T120734
CREATED:20250320T191443Z
LAST-MODIFIED:20250320T191443Z
UID:10001806-1745229600-1745229600@www.laruelibrary.org
SUMMARY:Stretch and Shine
DESCRIPTION:Join us for Stretch and Shine and start your day off right! \nFree low-impact exercise class beginning at 10:00am. Let’s get those muscles moving! \nThis program is designed for Adults.
URL:https://www.laruelibrary.org/event/stretch-and-shine-52/2025-04-21/
LOCATION:LaRue County Public Library\, 215 Lincoln Drive\, Hodgenville\, KY\, 42748\, United States
CATEGORIES:Adult,Adult Events
ATTACH;FMTTYPE=image/png:https://www.laruelibrary.org/wp-content/uploads/2023/03/Stretch-Adult-Event-1.png
ORGANIZER;CN="LaRue Public Library":MAILTO:info@laruelibrary.org
END:VEVENT
BEGIN:VEVENT
DTSTART;TZID=America/Kentucky/Louisville:20250421T103000
DTEND;TZID=America/Kentucky/Louisville:20250421T103000
DTSTAMP:20260424T120734
CREATED:20250315T135426Z
LAST-MODIFIED:20250315T141221Z
UID:10001770-1745231400-1745231400@www.laruelibrary.org
SUMMARY:Wits Workout
DESCRIPTION:Did you know that social connectedness and intellectual engagement are two lifestyle factors that contribute to your brain’s health? \nSimply put\, coming together and learning new things is good for you and your brain! \nJoin the Wits Workout Group\, where you’ll engage in all kinds of interactive puzzles and games and learn what you can do in your daily life to keep your brain healthy! \nThis program is for adults only\, and no sign up is required. Join us every other Monday in April\, May\, and June at 10:30 AM. (April 7 & 21\, May 5 & 19\, June 2\, 16 & 30).
URL:https://www.laruelibrary.org/event/7577/2025-04-21/
LOCATION:LaRue County Public Library\, 215 Lincoln Drive\, Hodgenville\, KY\, 42748\, United States
CATEGORIES:Adult,Adult Events
ATTACH;FMTTYPE=image/png:https://www.laruelibrary.org/wp-content/uploads/2025/03/Wits-Workout.png
END:VEVENT
BEGIN:VEVENT
DTSTART;TZID=America/Kentucky/Louisville:20250421T140000
DTEND;TZID=America/Kentucky/Louisville:20250421T140000
DTSTAMP:20260424T120734
CREATED:20250320T191709Z
LAST-MODIFIED:20250320T191709Z
UID:10001808-1745244000-1745244000@www.laruelibrary.org
SUMMARY:Community Games
DESCRIPTION:Come and have some game day fun here at the library at 2:00pm! \nBring your friends\, family\, a board game (or choose one of ours) and enjoy!
URL:https://www.laruelibrary.org/event/community-games-46/2025-04-21/
LOCATION:LaRue County Public Library\, 215 Lincoln Drive\, Hodgenville\, KY\, 42748\, United States
CATEGORIES:Adult,Adult Events,Everyone,Family,Youth Events
ATTACH;FMTTYPE=image/jpeg:https://www.laruelibrary.org/wp-content/uploads/2023/07/bg2.jpg
ORGANIZER;CN="LaRue Public Library":MAILTO:info@laruelibrary.org
END:VEVENT
BEGIN:VEVENT
DTSTART;TZID=America/Kentucky/Louisville:20250421T140000
DTEND;TZID=America/Kentucky/Louisville:20250421T160000
DTSTAMP:20260424T120734
CREATED:20250315T142230Z
LAST-MODIFIED:20250315T142230Z
UID:10001783-1745244000-1745251200@www.laruelibrary.org
SUMMARY:Community Games
DESCRIPTION:Looking for some fun and friendly competition? Join us for Community Games each Monday from 2 to 4 in the community room. Bring your favorite game to share or borrow one from the library – it’s a great way to connect with friends and neighbors!
URL:https://www.laruelibrary.org/event/community-games-45/2025-04-21/
LOCATION:KY
CATEGORIES:Everyone
ATTACH;FMTTYPE=image/jpeg:https://www.laruelibrary.org/wp-content/uploads/2025/01/game.jpeg
END:VEVENT
BEGIN:VEVENT
DTSTART;TZID=America/Kentucky/Louisville:20250422T110000
DTEND;TZID=America/Kentucky/Louisville:20250422T110000
DTSTAMP:20260424T120734
CREATED:20250320T194303Z
LAST-MODIFIED:20250416T200409Z
UID:10001820-1745319600-1745319600@www.laruelibrary.org
SUMMARY:Story Time
DESCRIPTION:Join us for a fun and fantastic story and a craft on Tuesday at 11:00 AM and on Thursday at 1:30 PM! \nStory time is for children under the ages of 5. \nThis is a great opportunity to grow young readers. We make learning fun by introducing children to books\, love of reading\, and songs! We can’t wait to see you!
URL:https://www.laruelibrary.org/event/story-time-118/2025-04-22/
LOCATION:LaRue County Public Library\, 215 Lincoln Drive\, Hodgenville\, KY\, 42748\, United States
CATEGORIES:Age Under 5 Years Old,Youth Events
ATTACH;FMTTYPE=image/png:https://www.laruelibrary.org/wp-content/uploads/2023/10/NST.0-1.png
ORGANIZER;CN="LaRue Public Library":MAILTO:info@laruelibrary.org
END:VEVENT
BEGIN:VEVENT
DTSTART;TZID=America/Kentucky/Louisville:20250422T150000
DTEND;TZID=America/Kentucky/Louisville:20250422T150000
DTSTAMP:20260424T120734
CREATED:20250320T193930Z
LAST-MODIFIED:20250320T193930Z
UID:10001817-1745334000-1745334000@www.laruelibrary.org
SUMMARY:Flower Craft
DESCRIPTION:Join us on Tuesday\, April 22nd at 3:00pm for a gorgeous flower craft! \nCall to register. Teens & Adults. Class limit of 24.
URL:https://www.laruelibrary.org/event/flower-craft/
LOCATION:LaRue County Public Library\, 215 Lincoln Drive\, Hodgenville\, KY\, 42748\, United States
CATEGORIES:Adult,Adult Events,High School,Youth Events
ATTACH;FMTTYPE=image/png:https://www.laruelibrary.org/wp-content/uploads/2025/03/Flower.png
ORGANIZER;CN="LaRue Public Library":MAILTO:info@laruelibrary.org
END:VEVENT
BEGIN:VEVENT
DTSTART;TZID=America/Kentucky/Louisville:20250422T153000
DTEND;TZID=America/Kentucky/Louisville:20250422T153000
DTSTAMP:20260424T120734
CREATED:20250320T195850Z
LAST-MODIFIED:20250320T195850Z
UID:10001826-1745335800-1745335800@www.laruelibrary.org
SUMMARY:Kite Making
DESCRIPTION:Join us on Tuesday\, April 22nd @ 3:30pm to make your very own kite that can soar through the sky! \nPreK – Grade School. No registration needed.
URL:https://www.laruelibrary.org/event/kite-making/
LOCATION:LaRue County Public Library\, 215 Lincoln Drive\, Hodgenville\, KY\, 42748\, United States
CATEGORIES:Age Under 5 Years Old,Grade School,Youth Events
ATTACH;FMTTYPE=image/png:https://www.laruelibrary.org/wp-content/uploads/2025/03/Kite-Making.png
ORGANIZER;CN="LaRue Public Library":MAILTO:info@laruelibrary.org
END:VEVENT
BEGIN:VEVENT
DTSTART;TZID=America/Kentucky/Louisville:20250423T180000
DTEND;TZID=America/Kentucky/Louisville:20250423T180000
DTSTAMP:20260424T120734
CREATED:20250320T192054Z
LAST-MODIFIED:20250320T192054Z
UID:10001811-1745431200-1745431200@www.laruelibrary.org
SUMMARY:Offsite Book Club
DESCRIPTION:We will be meeting at Top Hat Tavern for Adult Book Club on Wednesday\, April 23rd at 6:00pm! \nAdults only.
URL:https://www.laruelibrary.org/event/offsite-book-club-7/
LOCATION:Top Hat Tavern\, 23 Lincoln Square\, Hodgenville\, KY\, 42748\, United States
CATEGORIES:Adult,Adult Events
ATTACH;FMTTYPE=image/png:https://www.laruelibrary.org/wp-content/uploads/2024/09/Offsite-Book-Club.png
ORGANIZER;CN="LaRue Public Library":MAILTO:info@laruelibrary.org
END:VEVENT
BEGIN:VEVENT
DTSTART;TZID=America/Kentucky/Louisville:20250424T100000
DTEND;TZID=America/Kentucky/Louisville:20250424T100000
DTSTAMP:20260424T120734
CREATED:20250320T192409Z
LAST-MODIFIED:20250320T192409Z
UID:10001813-1745488800-1745488800@www.laruelibrary.org
SUMMARY:Coffee for Veterans
DESCRIPTION:Join us on Thursday\, April 24th at 10:00AM for Coffee for Veterans – spouses and partners are welcome. \nOur special guest speaker will be Rebecca Johnson.
URL:https://www.laruelibrary.org/event/coffee-for-veterans-15/
LOCATION:LaRue County Public Library\, 215 Lincoln Drive\, Hodgenville\, KY\, 42748\, United States
CATEGORIES:Adult,Adult Events
ATTACH;FMTTYPE=image/png:https://www.laruelibrary.org/wp-content/uploads/2024/01/vetcoffee.png
ORGANIZER;CN="LaRue Public Library":MAILTO:info@laruelibrary.org
END:VEVENT
BEGIN:VEVENT
DTSTART;TZID=America/Kentucky/Louisville:20250424T153000
DTEND;TZID=America/Kentucky/Louisville:20250424T153000
DTSTAMP:20260424T120734
CREATED:20250320T200047Z
LAST-MODIFIED:20250320T200047Z
UID:10001827-1745508600-1745508600@www.laruelibrary.org
SUMMARY:Make a Book Cover
DESCRIPTION:Join us on Thursday\, April 24th @ 3:45pm to let your creativity flow and make your very own book cover! \nFamily event. No registration needed.
URL:https://www.laruelibrary.org/event/make-a-book-cover/
LOCATION:LaRue County Public Library\, 215 Lincoln Drive\, Hodgenville\, KY\, 42748\, United States
CATEGORIES:Family,Youth Events
ATTACH;FMTTYPE=image/png:https://www.laruelibrary.org/wp-content/uploads/2025/03/Make-a-Book.png
ORGANIZER;CN="LaRue Public Library":MAILTO:info@laruelibrary.org
END:VEVENT
BEGIN:VEVENT
DTSTART;TZID=America/Kentucky/Louisville:20250424T173000
DTEND;TZID=America/Kentucky/Louisville:20250424T173000
DTSTAMP:20260424T120734
CREATED:20250320T193410Z
LAST-MODIFIED:20250320T193410Z
UID:10001815-1745515800-1745515800@www.laruelibrary.org
SUMMARY:Line Dancing
DESCRIPTION:Join us on Thursday\, April 24th at 5:30pm to celebrate National Dance Week with some line dancing! DD Line Dancing will be here to teach some of the latest line dances! \nClass limit of 24. Call to register. Teens & Adults.
URL:https://www.laruelibrary.org/event/line-dancing/
LOCATION:LaRue County Public Library\, 215 Lincoln Drive\, Hodgenville\, KY\, 42748\, United States
CATEGORIES:Adult,Adult Events,High School,Youth Events
ATTACH;FMTTYPE=image/png:https://www.laruelibrary.org/wp-content/uploads/2025/03/Line-Dancing.png
ORGANIZER;CN="LaRue Public Library":MAILTO:info@laruelibrary.org
END:VEVENT
BEGIN:VEVENT
DTSTART;TZID=America/Kentucky/Louisville:20250425T093000
DTEND;TZID=America/Kentucky/Louisville:20250425T103000
DTSTAMP:20260424T120734
CREATED:20240820T160320Z
LAST-MODIFIED:20240926T143906Z
UID:10001470-1745573400-1745577000@www.laruelibrary.org
SUMMARY:Tiny Hawks Story Time
DESCRIPTION:Join us for a very special Tiny Hawks Story Time from 9:30-10:30am with assistance from Ellen Shelton! Each session\, children will receive a free educational take-home item/supplies (provided by the ALES Family Resource Center). \nThese story times/sessions will take place at LaRue County Public Library on Friday September 27th\, October 25th\, November 22nd\, January 31st\, February 28th\, March 28th\, and April 25th. These story times/sessions are geared toward preschool age children (2-5 years old) and their caregiver(s). \nSign-up is NOT required. \nFor more info\, contact: \nTaylor Metcalf; LCPL Children’s Librarian @ 358-3851 \nEllen Shelton; ALES FRC Coordinator @ 358-7130
URL:https://www.laruelibrary.org/event/tiny-hawks-story-time-with-ellen-shelton/2025-04-25/
LOCATION:LaRue County Public Library\, 215 Lincoln Drive\, Hodgenville\, KY\, 42748\, United States
CATEGORIES:Age Under 5 Years Old,Youth Events
ATTACH;FMTTYPE=image/png:https://www.laruelibrary.org/wp-content/uploads/2024/08/Tiny-Hawks.png
ORGANIZER;CN="LaRue Public Library":MAILTO:info@laruelibrary.org
END:VEVENT
BEGIN:VEVENT
DTSTART;TZID=America/Kentucky/Louisville:20250425T140000
DTEND;TZID=America/Kentucky/Louisville:20250425T140000
DTSTAMP:20260424T120734
CREATED:20250320T195138Z
LAST-MODIFIED:20250320T195138Z
UID:10001823-1745589600-1745589600@www.laruelibrary.org
SUMMARY:Lego Create
DESCRIPTION:Join us on Friday\, April 25th @ 2:00pm for Lego Create! \nStop in and create whatever you can think of or maybe try a new build challenge! \nGrade school – Teens. No registration needed.
URL:https://www.laruelibrary.org/event/lego-create-3/
LOCATION:LaRue County Public Library\, 215 Lincoln Drive\, Hodgenville\, KY\, 42748\, United States
CATEGORIES:Grade School,High School,Middle School,Youth Events
ATTACH;FMTTYPE=image/png:https://www.laruelibrary.org/wp-content/uploads/2024/06/Lego-Create.png
ORGANIZER;CN="LaRue Public Library":MAILTO:info@laruelibrary.org
END:VEVENT
BEGIN:VEVENT
DTSTART;TZID=America/Kentucky/Louisville:20250425T150000
DTEND;TZID=America/Kentucky/Louisville:20250425T150000
DTSTAMP:20260424T120734
CREATED:20250320T193655Z
LAST-MODIFIED:20250320T193655Z
UID:10001816-1745593200-1745593200@www.laruelibrary.org
SUMMARY:Basic Needle Felting
DESCRIPTION:Join us on Friday\, April 25th at 3:00pm as Denise Houston teaches us basic needle felting! \nCall to register. Class limit a 20. Teens & Adults.
URL:https://www.laruelibrary.org/event/basic-needle-felting/
LOCATION:LaRue County Public Library\, 215 Lincoln Drive\, Hodgenville\, KY\, 42748\, United States
CATEGORIES:Adult,Adult Events,High School,Youth Events
ATTACH;FMTTYPE=image/png:https://www.laruelibrary.org/wp-content/uploads/2025/03/Needle-Felting.png
ORGANIZER;CN="LaRue Public Library":MAILTO:info@laruelibrary.org
END:VEVENT
BEGIN:VEVENT
DTSTART;TZID=America/Kentucky/Louisville:20250428T100000
DTEND;TZID=America/Kentucky/Louisville:20250428T100000
DTSTAMP:20260424T120734
CREATED:20250320T191443Z
LAST-MODIFIED:20250320T191443Z
UID:10001807-1745834400-1745834400@www.laruelibrary.org
SUMMARY:Stretch and Shine
DESCRIPTION:Join us for Stretch and Shine and start your day off right! \nFree low-impact exercise class beginning at 10:00am. Let’s get those muscles moving! \nThis program is designed for Adults.
URL:https://www.laruelibrary.org/event/stretch-and-shine-52/2025-04-28/
LOCATION:LaRue County Public Library\, 215 Lincoln Drive\, Hodgenville\, KY\, 42748\, United States
CATEGORIES:Adult,Adult Events
ATTACH;FMTTYPE=image/png:https://www.laruelibrary.org/wp-content/uploads/2023/03/Stretch-Adult-Event-1.png
ORGANIZER;CN="LaRue Public Library":MAILTO:info@laruelibrary.org
END:VEVENT
BEGIN:VEVENT
DTSTART;TZID=America/Kentucky/Louisville:20250428T140000
DTEND;TZID=America/Kentucky/Louisville:20250428T140000
DTSTAMP:20260424T120734
CREATED:20250320T191709Z
LAST-MODIFIED:20250320T191709Z
UID:10001809-1745848800-1745848800@www.laruelibrary.org
SUMMARY:Community Games
DESCRIPTION:Come and have some game day fun here at the library at 2:00pm! \nBring your friends\, family\, a board game (or choose one of ours) and enjoy!
URL:https://www.laruelibrary.org/event/community-games-46/2025-04-28/
LOCATION:LaRue County Public Library\, 215 Lincoln Drive\, Hodgenville\, KY\, 42748\, United States
CATEGORIES:Adult,Adult Events,Everyone,Family,Youth Events
ATTACH;FMTTYPE=image/jpeg:https://www.laruelibrary.org/wp-content/uploads/2023/07/bg2.jpg
ORGANIZER;CN="LaRue Public Library":MAILTO:info@laruelibrary.org
END:VEVENT
BEGIN:VEVENT
DTSTART;TZID=America/Kentucky/Louisville:20250428T140000
DTEND;TZID=America/Kentucky/Louisville:20250428T160000
DTSTAMP:20260424T120734
CREATED:20250315T142230Z
LAST-MODIFIED:20250315T142230Z
UID:10001784-1745848800-1745856000@www.laruelibrary.org
SUMMARY:Community Games
DESCRIPTION:Looking for some fun and friendly competition? Join us for Community Games each Monday from 2 to 4 in the community room. Bring your favorite game to share or borrow one from the library – it’s a great way to connect with friends and neighbors!
URL:https://www.laruelibrary.org/event/community-games-45/2025-04-28/
LOCATION:KY
CATEGORIES:Everyone
ATTACH;FMTTYPE=image/jpeg:https://www.laruelibrary.org/wp-content/uploads/2025/01/game.jpeg
END:VEVENT
BEGIN:VEVENT
DTSTART;TZID=America/Kentucky/Louisville:20250429T110000
DTEND;TZID=America/Kentucky/Louisville:20250429T110000
DTSTAMP:20260424T120734
CREATED:20250320T194303Z
LAST-MODIFIED:20250416T200409Z
UID:10001822-1745924400-1745924400@www.laruelibrary.org
SUMMARY:Story Time
DESCRIPTION:Join us for a fun and fantastic story and a craft on Tuesday at 11:00 AM and on Thursday at 1:30 PM! \nStory time is for children under the ages of 5. \nThis is a great opportunity to grow young readers. We make learning fun by introducing children to books\, love of reading\, and songs! We can’t wait to see you!
URL:https://www.laruelibrary.org/event/story-time-118/2025-04-29/
LOCATION:LaRue County Public Library\, 215 Lincoln Drive\, Hodgenville\, KY\, 42748\, United States
CATEGORIES:Age Under 5 Years Old,Youth Events
ATTACH;FMTTYPE=image/png:https://www.laruelibrary.org/wp-content/uploads/2023/10/NST.0-1.png
ORGANIZER;CN="LaRue Public Library":MAILTO:info@laruelibrary.org
END:VEVENT
BEGIN:VEVENT
DTSTART;TZID=America/Kentucky/Louisville:20250429T150000
DTEND;TZID=America/Kentucky/Louisville:20250429T150000
DTSTAMP:20260424T120734
CREATED:20250320T195619Z
LAST-MODIFIED:20250320T195619Z
UID:10001825-1745938800-1745938800@www.laruelibrary.org
SUMMARY:Owl Craft
DESCRIPTION:Join us on Tuesday\, April 29th at 3:00pm to make a cute owl craft! \nCall to register. Teens & Adults. Class limit of 24.
URL:https://www.laruelibrary.org/event/owl-craft/
LOCATION:LaRue County Public Library\, 215 Lincoln Drive\, Hodgenville\, KY\, 42748\, United States
CATEGORIES:Adult,Adult Events,High School,Youth Events
ATTACH;FMTTYPE=image/png:https://www.laruelibrary.org/wp-content/uploads/2025/03/Owls.png
ORGANIZER;CN="LaRue Public Library":MAILTO:info@laruelibrary.org
END:VEVENT
BEGIN:VEVENT
DTSTART;TZID=America/Kentucky/Louisville:20250429T160000
DTEND;TZID=America/Kentucky/Louisville:20250429T160000
DTSTAMP:20260424T120734
CREATED:20250320T195343Z
LAST-MODIFIED:20250320T195343Z
UID:10001824-1745942400-1745942400@www.laruelibrary.org
SUMMARY:Making Boba
DESCRIPTION:Join us on Tuesday\, April 29th @ 4:00pm to make boba! \nMiddle School – Teen. Call to register.
URL:https://www.laruelibrary.org/event/making-boba/
LOCATION:LaRue County Public Library\, 215 Lincoln Drive\, Hodgenville\, KY\, 42748\, United States
CATEGORIES:High School,Middle School,Youth Events
ATTACH;FMTTYPE=image/png:https://www.laruelibrary.org/wp-content/uploads/2025/03/Boba.png
ORGANIZER;CN="LaRue Public Library":MAILTO:info@laruelibrary.org
END:VEVENT
BEGIN:VEVENT
DTSTART;TZID=America/Kentucky/Louisville:20250501T133000
DTEND;TZID=America/Kentucky/Louisville:20250501T133000
DTSTAMP:20260424T120734
CREATED:20250415T211345Z
LAST-MODIFIED:20250415T211345Z
UID:10001828-1746106200-1746106200@www.laruelibrary.org
SUMMARY:Mother Goose Story Time
DESCRIPTION:Wiggle\, giggle\, and rhyme along at Mother Goose Story Time—an engaging storytime adventure for little ones under 5\, filled with songs\, stories\, and lots of early learning fun! Join us on Thursday\, May 1st at 1:30 PM.
URL:https://www.laruelibrary.org/event/mother-goose-story-time/
LOCATION:LaRue County Public Library\, 215 Lincoln Drive\, Hodgenville\, KY\, 42748\, United States
CATEGORIES:Age Under 5 Years Old,Ages 0 - 36 Months
ATTACH;FMTTYPE=image/png:https://www.laruelibrary.org/wp-content/uploads/2025/04/Screenshot-2025-04-15-at-5.13.28 PM.png
END:VEVENT
BEGIN:VEVENT
DTSTART;TZID=America/Kentucky/Louisville:20250501T160000
DTEND;TZID=America/Kentucky/Louisville:20250501T160000
DTSTAMP:20260424T120734
CREATED:20250415T211553Z
LAST-MODIFIED:20250415T211553Z
UID:10001829-1746115200-1746115200@www.laruelibrary.org
SUMMARY:Friends of the Library
DESCRIPTION:Join us for a Friends of the Library meeting. Become a member and help us promote the LaRue County Public Library. Membership enables you to join your local branch chapter and participate in many wonderful library activities throughout the year. Benefits include invitations to special Friends’ events\, Volunteer opportunities\, and advocacy opportunities. We hope you’ll join us on Thursday\, May 1st\, at 4 PM. 
URL:https://www.laruelibrary.org/event/friends-of-the-library-24/
LOCATION:LaRue County Public Library\, 215 Lincoln Drive\, Hodgenville\, KY\, 42748\, United States
CATEGORIES:Adult,Adult Events
ATTACH;FMTTYPE=image/png:https://www.laruelibrary.org/wp-content/uploads/2023/03/BecomeLibraryFriend.png
END:VEVENT
BEGIN:VEVENT
DTSTART;TZID=America/Kentucky/Louisville:20250501T173000
DTEND;TZID=America/Kentucky/Louisville:20250501T173000
DTSTAMP:20260424T120734
CREATED:20250415T212127Z
LAST-MODIFIED:20250415T212127Z
UID:10001830-1746120600-1746120600@www.laruelibrary.org
SUMMARY:Monarch Way Stations
DESCRIPTION:Learn the required criteria to create a Monarch butterfly way station as well as alternative garden ideas to support the butterfly population with Ann Kelley. This class\, open to everyone\, will be on Thursday\, May 1st\, at 5:30 PM. 
URL:https://www.laruelibrary.org/event/monarch-way-stations/
LOCATION:LaRue County Public Library\, 215 Lincoln Drive\, Hodgenville\, KY\, 42748\, United States
CATEGORIES:Adult,Adult Events
ATTACH;FMTTYPE=image/png:https://www.laruelibrary.org/wp-content/uploads/2025/04/Screenshot-2025-04-15-at-5.20.36 PM.png
END:VEVENT
BEGIN:VEVENT
DTSTART;TZID=America/Kentucky/Louisville:20250502T130000
DTEND;TZID=America/Kentucky/Louisville:20250502T130000
DTSTAMP:20260424T120734
CREATED:20250415T212507Z
LAST-MODIFIED:20250415T212507Z
UID:10001831-1746190800-1746190800@www.laruelibrary.org
SUMMARY:Pre-K Sensory Bins
DESCRIPTION:Get ready to scoop\, squish\, and explore! Drop in on Friday\, May 2nd at 1 PM for hands-on sensory fun designed just for little ones under 5—perfect for curious minds and busy fingers!
URL:https://www.laruelibrary.org/event/pre-k-sensory-bins-5/
LOCATION:LaRue County Public Library\, 215 Lincoln Drive\, Hodgenville\, KY\, 42748\, United States
CATEGORIES:Age Under 5 Years Old
ATTACH;FMTTYPE=image/png:https://www.laruelibrary.org/wp-content/uploads/2025/04/Screenshot-2025-04-15-at-5.24.46 PM.png
END:VEVENT
BEGIN:VEVENT
DTSTART;TZID=America/Kentucky/Louisville:20250502T140000
DTEND;TZID=America/Kentucky/Louisville:20250502T140000
DTSTAMP:20260424T120734
CREATED:20250415T212638Z
LAST-MODIFIED:20250415T212638Z
UID:10001832-1746194400-1746194400@www.laruelibrary.org
SUMMARY:Magic the Gathering Meet
DESCRIPTION:Calling all young mages! Come play\, learn\, and connect at our Magic: The Gathering Meet on Friday\, May 2nd at 2 PM. Open to grade school through teen players—bring your deck or borrow one and jump into the fun!
URL:https://www.laruelibrary.org/event/magic-the-gathering-meet-5/
LOCATION:LaRue County Public Library\, 215 Lincoln Drive\, Hodgenville\, KY\, 42748\, United States
CATEGORIES:Grade School,High School,Middle School
ATTACH;FMTTYPE=image/png:https://www.laruelibrary.org/wp-content/uploads/2025/01/magic.png
END:VEVENT
BEGIN:VEVENT
DTSTART;TZID=America/Kentucky/Louisville:20250502T150000
DTEND;TZID=America/Kentucky/Louisville:20250502T150000
DTSTAMP:20260424T120734
CREATED:20250415T213150Z
LAST-MODIFIED:20250415T213150Z
UID:10001833-1746198000-1746198000@www.laruelibrary.org
SUMMARY:Sourdough Class
DESCRIPTION:Curious about sourdough? Join us for a hands-on Sourdough Class on Friday\, May 2nd at 3 PM and learn how to start your own starter from scratch! Space is limited—call the library to register. Participants must bring a clean gallon-sized jar with a lid.
URL:https://www.laruelibrary.org/event/sourdough-class/
LOCATION:LaRue County Public Library\, 215 Lincoln Drive\, Hodgenville\, KY\, 42748\, United States
CATEGORIES:Adult,Adult Events,High School,Middle School
ATTACH;FMTTYPE=image/png:https://www.laruelibrary.org/wp-content/uploads/2025/04/Screenshot-2025-04-15-at-5.30.41 PM.png
END:VEVENT
BEGIN:VEVENT
DTSTART;TZID=America/Kentucky/Louisville:20250505T100000
DTEND;TZID=America/Kentucky/Louisville:20250505T100000
DTSTAMP:20260424T120734
CREATED:20250415T213603Z
LAST-MODIFIED:20250415T213603Z
UID:10001835-1746439200-1746439200@www.laruelibrary.org
SUMMARY:Stretch and Shine
DESCRIPTION:Join us for Stretch and Shine and start your day off right! This free\, low-impact exercise class begins at 10:00 am. Let’s get those muscles moving! \nThis program is designed for Adults.
URL:https://www.laruelibrary.org/event/stretch-and-shine-53/2025-05-05/
LOCATION:KY
ATTACH;FMTTYPE=image/png:https://www.laruelibrary.org/wp-content/uploads/2023/03/Stretch-Adult-Event-1.png
END:VEVENT
BEGIN:VEVENT
DTSTART;TZID=America/Kentucky/Louisville:20250505T100000
DTEND;TZID=America/Kentucky/Louisville:20250505T120000
DTSTAMP:20260424T120734
CREATED:20250415T213354Z
LAST-MODIFIED:20250415T213354Z
UID:10001834-1746439200-1746446400@www.laruelibrary.org
SUMMARY:KY Career Center
DESCRIPTION:Kentucky Career Center will have a career advisor on site at the library on Monday\, May 5th\, from 10 AM to 12 PM. You’ll find resume assistance\, employment resources\, job search strategies\, and more! If you’re looking for additional information\, you can call 270-216-0608 or visit the following addresses: \n850 West Stephen Foster Avenue\, Bardstown\, Ky 40004 \n233 Ring Road\, Elizabethtown\, Ky 42701
URL:https://www.laruelibrary.org/event/ky-career-center-2/
LOCATION:LaRue County Public Library\, 215 Lincoln Drive\, Hodgenville\, KY\, 42748\, United States
CATEGORIES:Adult,Adult Events
ATTACH;FMTTYPE=image/png:https://www.laruelibrary.org/wp-content/uploads/2025/03/04.07.25_KY-Career-Center.png
END:VEVENT
BEGIN:VEVENT
DTSTART;TZID=America/Kentucky/Louisville:20250505T103000
DTEND;TZID=America/Kentucky/Louisville:20250505T103000
DTSTAMP:20260424T120734
CREATED:20250315T135426Z
LAST-MODIFIED:20250315T141221Z
UID:10001771-1746441000-1746441000@www.laruelibrary.org
SUMMARY:Wits Workout
DESCRIPTION:Did you know that social connectedness and intellectual engagement are two lifestyle factors that contribute to your brain’s health? \nSimply put\, coming together and learning new things is good for you and your brain! \nJoin the Wits Workout Group\, where you’ll engage in all kinds of interactive puzzles and games and learn what you can do in your daily life to keep your brain healthy! \nThis program is for adults only\, and no sign up is required. Join us every other Monday in April\, May\, and June at 10:30 AM. (April 7 & 21\, May 5 & 19\, June 2\, 16 & 30).
URL:https://www.laruelibrary.org/event/7577/2025-05-05/
LOCATION:LaRue County Public Library\, 215 Lincoln Drive\, Hodgenville\, KY\, 42748\, United States
CATEGORIES:Adult,Adult Events
ATTACH;FMTTYPE=image/png:https://www.laruelibrary.org/wp-content/uploads/2025/03/Wits-Workout.png
END:VEVENT
BEGIN:VEVENT
DTSTART;TZID=America/Kentucky/Louisville:20250505T140000
DTEND;TZID=America/Kentucky/Louisville:20250505T140000
DTSTAMP:20260424T120734
CREATED:20250415T213815Z
LAST-MODIFIED:20250415T213815Z
UID:10001838-1746453600-1746453600@www.laruelibrary.org
SUMMARY:Community Games
DESCRIPTION:Come and have some game day fun here at the library at 2:00 pm! Bring your friends\, family\, a board game (or choose one of ours)\, and enjoy!
URL:https://www.laruelibrary.org/event/community-games-47/2025-05-05/
LOCATION:LaRue County Public Library\, 215 Lincoln Drive\, Hodgenville\, KY\, 42748\, United States
CATEGORIES:Everyone
ATTACH;FMTTYPE=image/jpeg:https://www.laruelibrary.org/wp-content/uploads/2023/07/bg2.jpg
END:VEVENT
END:VCALENDAR