BEGIN:VCALENDAR
VERSION:2.0
PRODID:-//LaRue County Public Library - ECPv6.15.20//NONSGML v1.0//EN
CALSCALE:GREGORIAN
METHOD:PUBLISH
X-WR-CALNAME:LaRue County Public Library
X-ORIGINAL-URL:https://www.laruelibrary.org
X-WR-CALDESC:Events for LaRue County Public Library
REFRESH-INTERVAL;VALUE=DURATION:PT1H
X-Robots-Tag:noindex
X-PUBLISHED-TTL:PT1H
BEGIN:VTIMEZONE
TZID:America/Kentucky/Louisville
BEGIN:DAYLIGHT
TZOFFSETFROM:-0500
TZOFFSETTO:-0400
TZNAME:EDT
DTSTART:20240310T070000
END:DAYLIGHT
BEGIN:STANDARD
TZOFFSETFROM:-0400
TZOFFSETTO:-0500
TZNAME:EST
DTSTART:20241103T060000
END:STANDARD
BEGIN:DAYLIGHT
TZOFFSETFROM:-0500
TZOFFSETTO:-0400
TZNAME:EDT
DTSTART:20250309T070000
END:DAYLIGHT
BEGIN:STANDARD
TZOFFSETFROM:-0400
TZOFFSETTO:-0500
TZNAME:EST
DTSTART:20251102T060000
END:STANDARD
BEGIN:DAYLIGHT
TZOFFSETFROM:-0500
TZOFFSETTO:-0400
TZNAME:EDT
DTSTART:20260308T070000
END:DAYLIGHT
BEGIN:STANDARD
TZOFFSETFROM:-0400
TZOFFSETTO:-0500
TZNAME:EST
DTSTART:20261101T060000
END:STANDARD
END:VTIMEZONE
BEGIN:VEVENT
DTSTART;TZID=America/Kentucky/Louisville:20250501T133000
DTEND;TZID=America/Kentucky/Louisville:20250501T133000
DTSTAMP:20260424T153936
CREATED:20250415T211345Z
LAST-MODIFIED:20250415T211345Z
UID:10001828-1746106200-1746106200@www.laruelibrary.org
SUMMARY:Mother Goose Story Time
DESCRIPTION:Wiggle\, giggle\, and rhyme along at Mother Goose Story Time—an engaging storytime adventure for little ones under 5\, filled with songs\, stories\, and lots of early learning fun! Join us on Thursday\, May 1st at 1:30 PM.
URL:https://www.laruelibrary.org/event/mother-goose-story-time/
LOCATION:LaRue County Public Library\, 215 Lincoln Drive\, Hodgenville\, KY\, 42748\, United States
CATEGORIES:Age Under 5 Years Old,Ages 0 - 36 Months
ATTACH;FMTTYPE=image/png:https://www.laruelibrary.org/wp-content/uploads/2025/04/Screenshot-2025-04-15-at-5.13.28 PM.png
END:VEVENT
BEGIN:VEVENT
DTSTART;TZID=America/Kentucky/Louisville:20250501T160000
DTEND;TZID=America/Kentucky/Louisville:20250501T160000
DTSTAMP:20260424T153936
CREATED:20250415T211553Z
LAST-MODIFIED:20250415T211553Z
UID:10001829-1746115200-1746115200@www.laruelibrary.org
SUMMARY:Friends of the Library
DESCRIPTION:Join us for a Friends of the Library meeting. Become a member and help us promote the LaRue County Public Library. Membership enables you to join your local branch chapter and participate in many wonderful library activities throughout the year. Benefits include invitations to special Friends’ events\, Volunteer opportunities\, and advocacy opportunities. We hope you’ll join us on Thursday\, May 1st\, at 4 PM. 
URL:https://www.laruelibrary.org/event/friends-of-the-library-24/
LOCATION:LaRue County Public Library\, 215 Lincoln Drive\, Hodgenville\, KY\, 42748\, United States
CATEGORIES:Adult,Adult Events
ATTACH;FMTTYPE=image/png:https://www.laruelibrary.org/wp-content/uploads/2023/03/BecomeLibraryFriend.png
END:VEVENT
BEGIN:VEVENT
DTSTART;TZID=America/Kentucky/Louisville:20250501T173000
DTEND;TZID=America/Kentucky/Louisville:20250501T173000
DTSTAMP:20260424T153936
CREATED:20250415T212127Z
LAST-MODIFIED:20250415T212127Z
UID:10001830-1746120600-1746120600@www.laruelibrary.org
SUMMARY:Monarch Way Stations
DESCRIPTION:Learn the required criteria to create a Monarch butterfly way station as well as alternative garden ideas to support the butterfly population with Ann Kelley. This class\, open to everyone\, will be on Thursday\, May 1st\, at 5:30 PM. 
URL:https://www.laruelibrary.org/event/monarch-way-stations/
LOCATION:LaRue County Public Library\, 215 Lincoln Drive\, Hodgenville\, KY\, 42748\, United States
CATEGORIES:Adult,Adult Events
ATTACH;FMTTYPE=image/png:https://www.laruelibrary.org/wp-content/uploads/2025/04/Screenshot-2025-04-15-at-5.20.36 PM.png
END:VEVENT
BEGIN:VEVENT
DTSTART;TZID=America/Kentucky/Louisville:20250502T130000
DTEND;TZID=America/Kentucky/Louisville:20250502T130000
DTSTAMP:20260424T153936
CREATED:20250415T212507Z
LAST-MODIFIED:20250415T212507Z
UID:10001831-1746190800-1746190800@www.laruelibrary.org
SUMMARY:Pre-K Sensory Bins
DESCRIPTION:Get ready to scoop\, squish\, and explore! Drop in on Friday\, May 2nd at 1 PM for hands-on sensory fun designed just for little ones under 5—perfect for curious minds and busy fingers!
URL:https://www.laruelibrary.org/event/pre-k-sensory-bins-5/
LOCATION:LaRue County Public Library\, 215 Lincoln Drive\, Hodgenville\, KY\, 42748\, United States
CATEGORIES:Age Under 5 Years Old
ATTACH;FMTTYPE=image/png:https://www.laruelibrary.org/wp-content/uploads/2025/04/Screenshot-2025-04-15-at-5.24.46 PM.png
END:VEVENT
BEGIN:VEVENT
DTSTART;TZID=America/Kentucky/Louisville:20250502T140000
DTEND;TZID=America/Kentucky/Louisville:20250502T140000
DTSTAMP:20260424T153936
CREATED:20250415T212638Z
LAST-MODIFIED:20250415T212638Z
UID:10001832-1746194400-1746194400@www.laruelibrary.org
SUMMARY:Magic the Gathering Meet
DESCRIPTION:Calling all young mages! Come play\, learn\, and connect at our Magic: The Gathering Meet on Friday\, May 2nd at 2 PM. Open to grade school through teen players—bring your deck or borrow one and jump into the fun!
URL:https://www.laruelibrary.org/event/magic-the-gathering-meet-5/
LOCATION:LaRue County Public Library\, 215 Lincoln Drive\, Hodgenville\, KY\, 42748\, United States
CATEGORIES:Grade School,High School,Middle School
ATTACH;FMTTYPE=image/png:https://www.laruelibrary.org/wp-content/uploads/2025/01/magic.png
END:VEVENT
BEGIN:VEVENT
DTSTART;TZID=America/Kentucky/Louisville:20250502T150000
DTEND;TZID=America/Kentucky/Louisville:20250502T150000
DTSTAMP:20260424T153936
CREATED:20250415T213150Z
LAST-MODIFIED:20250415T213150Z
UID:10001833-1746198000-1746198000@www.laruelibrary.org
SUMMARY:Sourdough Class
DESCRIPTION:Curious about sourdough? Join us for a hands-on Sourdough Class on Friday\, May 2nd at 3 PM and learn how to start your own starter from scratch! Space is limited—call the library to register. Participants must bring a clean gallon-sized jar with a lid.
URL:https://www.laruelibrary.org/event/sourdough-class/
LOCATION:LaRue County Public Library\, 215 Lincoln Drive\, Hodgenville\, KY\, 42748\, United States
CATEGORIES:Adult,Adult Events,High School,Middle School
ATTACH;FMTTYPE=image/png:https://www.laruelibrary.org/wp-content/uploads/2025/04/Screenshot-2025-04-15-at-5.30.41 PM.png
END:VEVENT
BEGIN:VEVENT
DTSTART;TZID=America/Kentucky/Louisville:20250505T100000
DTEND;TZID=America/Kentucky/Louisville:20250505T100000
DTSTAMP:20260424T153936
CREATED:20250415T213603Z
LAST-MODIFIED:20250415T213603Z
UID:10001835-1746439200-1746439200@www.laruelibrary.org
SUMMARY:Stretch and Shine
DESCRIPTION:Join us for Stretch and Shine and start your day off right! This free\, low-impact exercise class begins at 10:00 am. Let’s get those muscles moving! \nThis program is designed for Adults.
URL:https://www.laruelibrary.org/event/stretch-and-shine-53/2025-05-05/
LOCATION:KY
ATTACH;FMTTYPE=image/png:https://www.laruelibrary.org/wp-content/uploads/2023/03/Stretch-Adult-Event-1.png
END:VEVENT
BEGIN:VEVENT
DTSTART;TZID=America/Kentucky/Louisville:20250505T100000
DTEND;TZID=America/Kentucky/Louisville:20250505T120000
DTSTAMP:20260424T153936
CREATED:20250415T213354Z
LAST-MODIFIED:20250415T213354Z
UID:10001834-1746439200-1746446400@www.laruelibrary.org
SUMMARY:KY Career Center
DESCRIPTION:Kentucky Career Center will have a career advisor on site at the library on Monday\, May 5th\, from 10 AM to 12 PM. You’ll find resume assistance\, employment resources\, job search strategies\, and more! If you’re looking for additional information\, you can call 270-216-0608 or visit the following addresses: \n850 West Stephen Foster Avenue\, Bardstown\, Ky 40004 \n233 Ring Road\, Elizabethtown\, Ky 42701
URL:https://www.laruelibrary.org/event/ky-career-center-2/
LOCATION:LaRue County Public Library\, 215 Lincoln Drive\, Hodgenville\, KY\, 42748\, United States
CATEGORIES:Adult,Adult Events
ATTACH;FMTTYPE=image/png:https://www.laruelibrary.org/wp-content/uploads/2025/03/04.07.25_KY-Career-Center.png
END:VEVENT
BEGIN:VEVENT
DTSTART;TZID=America/Kentucky/Louisville:20250505T103000
DTEND;TZID=America/Kentucky/Louisville:20250505T103000
DTSTAMP:20260424T153936
CREATED:20250315T135426Z
LAST-MODIFIED:20250315T141221Z
UID:10001771-1746441000-1746441000@www.laruelibrary.org
SUMMARY:Wits Workout
DESCRIPTION:Did you know that social connectedness and intellectual engagement are two lifestyle factors that contribute to your brain’s health? \nSimply put\, coming together and learning new things is good for you and your brain! \nJoin the Wits Workout Group\, where you’ll engage in all kinds of interactive puzzles and games and learn what you can do in your daily life to keep your brain healthy! \nThis program is for adults only\, and no sign up is required. Join us every other Monday in April\, May\, and June at 10:30 AM. (April 7 & 21\, May 5 & 19\, June 2\, 16 & 30).
URL:https://www.laruelibrary.org/event/7577/2025-05-05/
LOCATION:LaRue County Public Library\, 215 Lincoln Drive\, Hodgenville\, KY\, 42748\, United States
CATEGORIES:Adult,Adult Events
ATTACH;FMTTYPE=image/png:https://www.laruelibrary.org/wp-content/uploads/2025/03/Wits-Workout.png
END:VEVENT
BEGIN:VEVENT
DTSTART;TZID=America/Kentucky/Louisville:20250505T140000
DTEND;TZID=America/Kentucky/Louisville:20250505T140000
DTSTAMP:20260424T153936
CREATED:20250415T213815Z
LAST-MODIFIED:20250415T213815Z
UID:10001838-1746453600-1746453600@www.laruelibrary.org
SUMMARY:Community Games
DESCRIPTION:Come and have some game day fun here at the library at 2:00 pm! Bring your friends\, family\, a board game (or choose one of ours)\, and enjoy!
URL:https://www.laruelibrary.org/event/community-games-47/2025-05-05/
LOCATION:LaRue County Public Library\, 215 Lincoln Drive\, Hodgenville\, KY\, 42748\, United States
CATEGORIES:Everyone
ATTACH;FMTTYPE=image/jpeg:https://www.laruelibrary.org/wp-content/uploads/2023/07/bg2.jpg
END:VEVENT
BEGIN:VEVENT
DTSTART;TZID=America/Kentucky/Louisville:20250506T100000
DTEND;TZID=America/Kentucky/Louisville:20250506T100000
DTSTAMP:20260424T153936
CREATED:20250415T213954Z
LAST-MODIFIED:20250415T213954Z
UID:10001841-1746525600-1746525600@www.laruelibrary.org
SUMMARY:Keep Stepping Forward
DESCRIPTION:“Finding new footing one step at a time.”Monday\, May 6th at 10:00 AM \nA welcoming support group for men and women navigating life after the loss of a spouse. Led by Donna Coffey\, this group offers a safe space to share\, listen\, and heal alongside others who understand. \nSometimes\, the most comforting step is knowing you’re not walking alone.
URL:https://www.laruelibrary.org/event/keep-stepping-forward-7/
LOCATION:LaRue County Public Library\, 215 Lincoln Drive\, Hodgenville\, KY\, 42748\, United States
CATEGORIES:Adult,Adult Events
ATTACH;FMTTYPE=image/png:https://www.laruelibrary.org/wp-content/uploads/2024/10/Screenshot-2024-10-19-at-9.13.46 AM.png
END:VEVENT
BEGIN:VEVENT
DTSTART;TZID=America/Kentucky/Louisville:20250506T110000
DTEND;TZID=America/Kentucky/Louisville:20250506T110000
DTSTAMP:20260424T153936
CREATED:20250415T214204Z
LAST-MODIFIED:20250415T214204Z
UID:10001842-1746529200-1746529200@www.laruelibrary.org
SUMMARY:Story Time
DESCRIPTION:Join us for Story Time at the Library! Designed for children under 5\, each session features stories\, songs\, and playful activities that support early learning and spark young imaginations. Come Tuesdays at 11 AM or Thursdays at 1:30 PM—no registration is needed\, just bring your little ones and get ready for fun!
URL:https://www.laruelibrary.org/event/story-time-119/2025-05-06/
LOCATION:LaRue County Public Library\, 215 Lincoln Drive\, Hodgenville\, KY\, 42748\, United States
CATEGORIES:Age Under 5 Years Old,Ages 0 - 36 Months
ATTACH;FMTTYPE=image/png:https://www.laruelibrary.org/wp-content/uploads/2023/10/NST.0-1.png
END:VEVENT
BEGIN:VEVENT
DTSTART;TZID=America/Kentucky/Louisville:20250506T170000
DTEND;TZID=America/Kentucky/Louisville:20250506T170000
DTSTAMP:20260424T153936
CREATED:20250415T214339Z
LAST-MODIFIED:20250415T214339Z
UID:10001845-1746550800-1746550800@www.laruelibrary.org
SUMMARY:Lego Create
DESCRIPTION:Let your imagination snap into action at LEGO Create! Join us on Tuesday\, May 6th at 5 PM for a building session open to students from elementary through teens. We’ll provide the bricks—you bring the creativity!
URL:https://www.laruelibrary.org/event/lego-create-4/
LOCATION:LaRue County Public Library\, 215 Lincoln Drive\, Hodgenville\, KY\, 42748\, United States
CATEGORIES:Grade School,High School,Middle School
ATTACH;FMTTYPE=image/png:https://www.laruelibrary.org/wp-content/uploads/2024/06/Lego-Create.png
END:VEVENT
BEGIN:VEVENT
DTSTART;TZID=America/Kentucky/Louisville:20250506T173000
DTEND;TZID=America/Kentucky/Louisville:20250506T173000
DTSTAMP:20260424T153936
CREATED:20250415T215203Z
LAST-MODIFIED:20250415T215203Z
UID:10001846-1746552600-1746552600@www.laruelibrary.org
SUMMARY:Honor Flight Veteran Program
DESCRIPTION:May is Military Appreciation MonthHonor Flight ProgramTuesday\, May 6th @ 5:30 PM \nJoin us to learn about the Honor Flight program! Stephanie Lewis\, Board Secretary for Honor Flight Bluegrass\, will share insights into her role as Mission Director and upcoming flight plans. All are welcome!
URL:https://www.laruelibrary.org/event/honor-flight-veteran-program/
LOCATION:LaRue County Public Library\, 215 Lincoln Drive\, Hodgenville\, KY\, 42748\, United States
CATEGORIES:Everyone
ATTACH;FMTTYPE=image/png:https://www.laruelibrary.org/wp-content/uploads/2025/04/Screenshot-2025-04-15-at-5.49.49 PM.png
END:VEVENT
BEGIN:VEVENT
DTSTART;TZID=America/Kentucky/Louisville:20250508T133000
DTEND;TZID=America/Kentucky/Louisville:20250508T133000
DTSTAMP:20260424T153936
CREATED:20250415T214204Z
LAST-MODIFIED:20250415T214204Z
UID:10001843-1746711000-1746711000@www.laruelibrary.org
SUMMARY:Story Time
DESCRIPTION:Join us for Story Time at the Library! Designed for children under 5\, each session features stories\, songs\, and playful activities that support early learning and spark young imaginations. Come Tuesdays at 11 AM or Thursdays at 1:30 PM—no registration is needed\, just bring your little ones and get ready for fun!
URL:https://www.laruelibrary.org/event/story-time-119/2025-05-08/
LOCATION:LaRue County Public Library\, 215 Lincoln Drive\, Hodgenville\, KY\, 42748\, United States
CATEGORIES:Age Under 5 Years Old,Ages 0 - 36 Months
ATTACH;FMTTYPE=image/png:https://www.laruelibrary.org/wp-content/uploads/2023/10/NST.0-1.png
END:VEVENT
BEGIN:VEVENT
DTSTART;TZID=America/Kentucky/Louisville:20250508T170000
DTEND;TZID=America/Kentucky/Louisville:20250508T170000
DTSTAMP:20260424T153936
CREATED:20250415T215458Z
LAST-MODIFIED:20250415T215458Z
UID:10001847-1746723600-1746723600@www.laruelibrary.org
SUMMARY:Gnome Craft
DESCRIPTION:Join us on Thursday\, May 8th\, at 5 PM for a fun and creative gnome crafting session! This event is for teens and adults—no experience needed\, just bring your imagination. Registration is required\, so be sure to sign up ahead of time. Don’t miss out on making your very own charming gnome!
URL:https://www.laruelibrary.org/event/gnome-craft/
LOCATION:LaRue County Public Library\, 215 Lincoln Drive\, Hodgenville\, KY\, 42748\, United States
CATEGORIES:Adult,Adult Events,High School,Middle School
ATTACH;FMTTYPE=image/png:https://www.laruelibrary.org/wp-content/uploads/2025/04/Screenshot-2025-04-15-at-5.54.39 PM.png
END:VEVENT
BEGIN:VEVENT
DTSTART;TZID=America/Kentucky/Louisville:20250509T150000
DTEND;TZID=America/Kentucky/Louisville:20250509T150000
DTSTAMP:20260424T153936
CREATED:20250415T215751Z
LAST-MODIFIED:20250415T215751Z
UID:10001848-1746802800-1746802800@www.laruelibrary.org
SUMMARY:Mother's Day Craft
DESCRIPTION:Celebrate Mother’s Day with a fun\, family-friendly craft at the library! Join us on Friday\, May 9th at 3 PM to create a special handmade gift or card for the wonderful moms in your life. All ages welcome—bring the whole family to make something memorable together!
URL:https://www.laruelibrary.org/event/mothers-day-craft/
LOCATION:LaRue County Public Library\, 215 Lincoln Drive\, Hodgenville\, KY\, 42748\, United States
CATEGORIES:Family
END:VEVENT
BEGIN:VEVENT
DTSTART;TZID=America/Kentucky/Louisville:20250510T153000
DTEND;TZID=America/Kentucky/Louisville:20250510T153000
DTSTAMP:20260424T153936
CREATED:20250517T142914Z
LAST-MODIFIED:20250517T142914Z
UID:10001893-1746891000-1746891000@www.laruelibrary.org
SUMMARY:Youth Yoga
DESCRIPTION:Join us at the library on Tuesday\, June 10th at 3:30 PM for Youth Yoga\, a fun and relaxing session designed for kids and their families. Enjoy simple poses\, movement\, and mindfulness activities that everyone can do together. No experience needed—just wear comfortable clothes and come ready to stretch and move!
URL:https://www.laruelibrary.org/event/youth-yoga-4/
LOCATION:LaRue County Public Library\, 215 Lincoln Drive\, Hodgenville\, KY\, 42748\, United States
CATEGORIES:Family
ATTACH;FMTTYPE=image/png:https://www.laruelibrary.org/wp-content/uploads/2025/04/Screenshot-2025-04-15-at-5.59.13 PM.png
END:VEVENT
BEGIN:VEVENT
DTSTART;TZID=America/Kentucky/Louisville:20250512T100000
DTEND;TZID=America/Kentucky/Louisville:20250512T100000
DTSTAMP:20260424T153936
CREATED:20250415T213603Z
LAST-MODIFIED:20250415T213603Z
UID:10001836-1747044000-1747044000@www.laruelibrary.org
SUMMARY:Stretch and Shine
DESCRIPTION:Join us for Stretch and Shine and start your day off right! This free\, low-impact exercise class begins at 10:00 am. Let’s get those muscles moving! \nThis program is designed for Adults.
URL:https://www.laruelibrary.org/event/stretch-and-shine-53/2025-05-12/
LOCATION:KY
ATTACH;FMTTYPE=image/png:https://www.laruelibrary.org/wp-content/uploads/2023/03/Stretch-Adult-Event-1.png
END:VEVENT
BEGIN:VEVENT
DTSTART;TZID=America/Kentucky/Louisville:20250512T170000
DTEND;TZID=America/Kentucky/Louisville:20250512T170000
DTSTAMP:20260424T153936
CREATED:20250415T213815Z
LAST-MODIFIED:20250415T213815Z
UID:10001839-1747069200-1747069200@www.laruelibrary.org
SUMMARY:Community Games
DESCRIPTION:Come and have some game day fun here at the library at 2:00 pm! Bring your friends\, family\, a board game (or choose one of ours)\, and enjoy!
URL:https://www.laruelibrary.org/event/community-games-47/2025-05-12/
LOCATION:LaRue County Public Library\, 215 Lincoln Drive\, Hodgenville\, KY\, 42748\, United States
CATEGORIES:Everyone
ATTACH;FMTTYPE=image/jpeg:https://www.laruelibrary.org/wp-content/uploads/2023/07/bg2.jpg
END:VEVENT
BEGIN:VEVENT
DTSTART;TZID=America/Kentucky/Louisville:20250513T100000
DTEND;TZID=America/Kentucky/Louisville:20250513T100000
DTSTAMP:20260424T153936
CREATED:20250415T214204Z
LAST-MODIFIED:20250415T214204Z
UID:10001844-1747130400-1747130400@www.laruelibrary.org
SUMMARY:Story Time
DESCRIPTION:Join us for Story Time at the Library! Designed for children under 5\, each session features stories\, songs\, and playful activities that support early learning and spark young imaginations. Come Tuesdays at 11 AM or Thursdays at 1:30 PM—no registration is needed\, just bring your little ones and get ready for fun!
URL:https://www.laruelibrary.org/event/story-time-119/2025-05-13/
LOCATION:LaRue County Public Library\, 215 Lincoln Drive\, Hodgenville\, KY\, 42748\, United States
CATEGORIES:Age Under 5 Years Old,Ages 0 - 36 Months
ATTACH;FMTTYPE=image/png:https://www.laruelibrary.org/wp-content/uploads/2023/10/NST.0-1.png
END:VEVENT
BEGIN:VEVENT
DTSTART;TZID=America/Kentucky/Louisville:20250513T154500
DTEND;TZID=America/Kentucky/Louisville:20250513T154500
DTSTAMP:20260424T153936
CREATED:20250415T221205Z
LAST-MODIFIED:20250415T221205Z
UID:10001849-1747151100-1747151100@www.laruelibrary.org
SUMMARY:Youth Yoga
DESCRIPTION:Stretch\, breathe\, and relax together at Youth Yoga! Join us on Tuesday\, May 13th\, at 3:45 PM for a family-friendly yoga session at the library. This event is perfect for kids and their caregivers to unwind\, have fun\, and build strength through simple yoga poses. All experience levels are welcome!
URL:https://www.laruelibrary.org/event/youth-yoga-3/
LOCATION:LaRue County Public Library\, 215 Lincoln Drive\, Hodgenville\, KY\, 42748\, United States
CATEGORIES:Family
ATTACH;FMTTYPE=image/png:https://www.laruelibrary.org/wp-content/uploads/2025/04/Screenshot-2025-04-15-at-5.59.13 PM.png
END:VEVENT
BEGIN:VEVENT
DTSTART;TZID=America/Kentucky/Louisville:20250515T100000
DTEND;TZID=America/Kentucky/Louisville:20250515T100000
DTSTAMP:20260424T153936
CREATED:20250315T145412Z
LAST-MODIFIED:20250315T145427Z
UID:10001792-1747303200-1747303200@www.laruelibrary.org
SUMMARY:Circle of Love
DESCRIPTION:Circle of Love – a program for newborn children through age 3. \nOur sponsors are proud of present a program specifically for our youngest community members! Try new songs and activities\, hear stories\, learn about keeping your child safe\, and much more. Each child will leave with some sort of age-appropriate treat! This program is sponsored by: LaRue County Public Library\, HES Family Resource Center\, Lincoln Trail District Health Department. \nJoin us at 10 AM on April 10th\, May 15th\, June 12th\, July 10th\, August 14th\, September 11th\, and October 16th.
URL:https://www.laruelibrary.org/event/circle-of-love/2025-05-15/
LOCATION:LaRue County Public Library\, 215 Lincoln Drive\, Hodgenville\, KY\, 42748\, United States
CATEGORIES:Ages 0 - 36 Months
ATTACH;FMTTYPE=image/png:https://www.laruelibrary.org/wp-content/uploads/2025/03/Screenshot-2025-03-15-105413.png
END:VEVENT
BEGIN:VEVENT
DTSTART;TZID=America/Kentucky/Louisville:20250515T133000
DTEND;TZID=America/Kentucky/Louisville:20250515T133000
DTSTAMP:20260424T153936
CREATED:20250416T194802Z
LAST-MODIFIED:20250416T194802Z
UID:10001870-1747315800-1747315800@www.laruelibrary.org
SUMMARY:Mental Health Awareness Story Time
DESCRIPTION:Join us for a very specially themed fun and fantastic story this Thursday\, May 15th at 1:30pm! \nStory time is for children under the ages of 5. \nThis is a great opportunity to grow young readers and show them how important their mental health is. We make learning fun by introducing children to books\, love of reading\, and songs! We can’t wait to see you!
URL:https://www.laruelibrary.org/event/mental-health-awareness-story-time/
LOCATION:LaRue County Public Library\, 215 Lincoln Drive\, Hodgenville\, KY\, 42748\, United States
CATEGORIES:Age Under 5 Years Old,Ages 0 - 36 Months,Youth Events
ATTACH;FMTTYPE=image/png:https://www.laruelibrary.org/wp-content/uploads/2025/04/6ZPrUU4W.png
ORGANIZER;CN="LaRue Public Library":MAILTO:info@laruelibrary.org
END:VEVENT
BEGIN:VEVENT
DTSTART;TZID=America/Kentucky/Louisville:20250515T153000
DTEND;TZID=America/Kentucky/Louisville:20250515T153000
DTSTAMP:20260424T153936
CREATED:20250416T173717Z
LAST-MODIFIED:20250416T173717Z
UID:10001852-1747323000-1747323000@www.laruelibrary.org
SUMMARY:Book Club
DESCRIPTION:Come join us on Thursday\, May 15th at 3:30pm for Book Club! \nThis is an Adult program.
URL:https://www.laruelibrary.org/event/book-club-25/
LOCATION:LaRue County Public Library\, 215 Lincoln Drive\, Hodgenville\, KY\, 42748\, United States
CATEGORIES:Adult,Adult Events
ATTACH;FMTTYPE=image/jpeg:https://www.laruelibrary.org/wp-content/uploads/2023/07/bc2.jpg
ORGANIZER;CN="LaRue Public Library":MAILTO:info@laruelibrary.org
END:VEVENT
BEGIN:VEVENT
DTSTART;TZID=America/Kentucky/Louisville:20250515T163000
DTEND;TZID=America/Kentucky/Louisville:20250515T163000
DTSTAMP:20260424T153936
CREATED:20250416T175729Z
LAST-MODIFIED:20250416T175729Z
UID:10001853-1747326600-1747326600@www.laruelibrary.org
SUMMARY:Board Meeting
DESCRIPTION:LCPL Board Meeting on Thursday\, May 15th at 4:30pm. \nThis is for adults only.
URL:https://www.laruelibrary.org/event/board-meeting-23/
LOCATION:LaRue County Public Library\, 215 Lincoln Drive\, Hodgenville\, KY\, 42748\, United States
CATEGORIES:Adult,Adult Events
ATTACH;FMTTYPE=image/jpeg:https://www.laruelibrary.org/wp-content/uploads/2023/07/brm2.jpg
ORGANIZER;CN="LaRue Public Library":MAILTO:info@laruelibrary.org
END:VEVENT
BEGIN:VEVENT
DTSTART;TZID=America/Kentucky/Louisville:20250516T140000
DTEND;TZID=America/Kentucky/Louisville:20250516T140000
DTSTAMP:20260424T153936
CREATED:20250416T195549Z
LAST-MODIFIED:20250416T195549Z
UID:10001872-1747404000-1747404000@www.laruelibrary.org
SUMMARY:Magic: The Gathering
DESCRIPTION:Join us on Friday\, May 16th and May 30th @ 2:00pm for a fun and exciting Magic the Gathering meet! \n\nNew and seasoned players welcome! We hope to see everyone from a Level 1 to a Planeswalker equivalent there! \nGrade School\, Middle School\, & Teens/High School. No registration required.
URL:https://www.laruelibrary.org/event/magic-the-gathering-3/2025-05-16/
LOCATION:LaRue County Public Library\, 215 Lincoln Drive\, Hodgenville\, KY\, 42748\, United States
CATEGORIES:Grade School,High School,Middle School,Youth Events
ATTACH;FMTTYPE=image/png:https://www.laruelibrary.org/wp-content/uploads/2025/01/magic.png
ORGANIZER;CN="LaRue Public Library":MAILTO:info@laruelibrary.org
END:VEVENT
BEGIN:VEVENT
DTSTART;TZID=America/Kentucky/Louisville:20250519T100000
DTEND;TZID=America/Kentucky/Louisville:20250519T100000
DTSTAMP:20260424T153936
CREATED:20250415T213603Z
LAST-MODIFIED:20250415T213603Z
UID:10001837-1747648800-1747648800@www.laruelibrary.org
SUMMARY:Stretch and Shine
DESCRIPTION:Join us for Stretch and Shine and start your day off right! This free\, low-impact exercise class begins at 10:00 am. Let’s get those muscles moving! \nThis program is designed for Adults.
URL:https://www.laruelibrary.org/event/stretch-and-shine-53/2025-05-19/
LOCATION:KY
ATTACH;FMTTYPE=image/png:https://www.laruelibrary.org/wp-content/uploads/2023/03/Stretch-Adult-Event-1.png
END:VEVENT
BEGIN:VEVENT
DTSTART;TZID=America/Kentucky/Louisville:20250519T103000
DTEND;TZID=America/Kentucky/Louisville:20250519T103000
DTSTAMP:20260424T153936
CREATED:20250315T135426Z
LAST-MODIFIED:20250315T141221Z
UID:10001772-1747650600-1747650600@www.laruelibrary.org
SUMMARY:Wits Workout
DESCRIPTION:Did you know that social connectedness and intellectual engagement are two lifestyle factors that contribute to your brain’s health? \nSimply put\, coming together and learning new things is good for you and your brain! \nJoin the Wits Workout Group\, where you’ll engage in all kinds of interactive puzzles and games and learn what you can do in your daily life to keep your brain healthy! \nThis program is for adults only\, and no sign up is required. Join us every other Monday in April\, May\, and June at 10:30 AM. (April 7 & 21\, May 5 & 19\, June 2\, 16 & 30).
URL:https://www.laruelibrary.org/event/7577/2025-05-19/
LOCATION:LaRue County Public Library\, 215 Lincoln Drive\, Hodgenville\, KY\, 42748\, United States
CATEGORIES:Adult,Adult Events
ATTACH;FMTTYPE=image/png:https://www.laruelibrary.org/wp-content/uploads/2025/03/Wits-Workout.png
END:VEVENT
BEGIN:VEVENT
DTSTART;TZID=America/Kentucky/Louisville:20250519T140000
DTEND;TZID=America/Kentucky/Louisville:20250519T140000
DTSTAMP:20260424T153936
CREATED:20250416T190326Z
LAST-MODIFIED:20250416T190326Z
UID:10001856-1747663200-1747663200@www.laruelibrary.org
SUMMARY:Community Games
DESCRIPTION:Come and have some game day fun here at the library at 2:00pm! \nBring your friends\, family\, a board game (or choose one of ours) and enjoy!
URL:https://www.laruelibrary.org/event/community-games-48/
LOCATION:LaRue County Public Library\, 215 Lincoln Drive\, Hodgenville\, KY\, 42748\, United States
CATEGORIES:Adult,Adult Events,Everyone,Family,Youth Events
ATTACH;FMTTYPE=image/jpeg:https://www.laruelibrary.org/wp-content/uploads/2023/07/bg2.jpg
ORGANIZER;CN="LaRue Public Library":MAILTO:info@laruelibrary.org
END:VEVENT
END:VCALENDAR